BEGIN:VCALENDAR
VERSION:2.0
PRODID:-//Rink 46 - MLK Skating - ECPv6.15.20//NONSGML v1.0//EN
CALSCALE:GREGORIAN
METHOD:PUBLISH
X-WR-CALNAME:Rink 46 - MLK Skating
X-ORIGINAL-URL:https://www.unitedskates.com/mlk-skating
X-WR-CALDESC:Events for Rink 46 - MLK Skating
REFRESH-INTERVAL;VALUE=DURATION:PT1H
X-Robots-Tag:noindex
X-PUBLISHED-TTL:PT1H
BEGIN:VTIMEZONE
TZID:America/Chicago
BEGIN:DAYLIGHT
TZOFFSETFROM:-0600
TZOFFSETTO:-0500
TZNAME:CDT
DTSTART:20240310T080000
END:DAYLIGHT
BEGIN:STANDARD
TZOFFSETFROM:-0500
TZOFFSETTO:-0600
TZNAME:CST
DTSTART:20241103T070000
END:STANDARD
BEGIN:DAYLIGHT
TZOFFSETFROM:-0600
TZOFFSETTO:-0500
TZNAME:CDT
DTSTART:20250309T080000
END:DAYLIGHT
BEGIN:STANDARD
TZOFFSETFROM:-0500
TZOFFSETTO:-0600
TZNAME:CST
DTSTART:20251102T070000
END:STANDARD
BEGIN:DAYLIGHT
TZOFFSETFROM:-0600
TZOFFSETTO:-0500
TZNAME:CDT
DTSTART:20260308T080000
END:DAYLIGHT
BEGIN:STANDARD
TZOFFSETFROM:-0500
TZOFFSETTO:-0600
TZNAME:CST
DTSTART:20261101T070000
END:STANDARD
END:VTIMEZONE
BEGIN:VEVENT
DTSTART;TZID=America/Chicago:20250810T170000
DTEND;TZID=America/Chicago:20250810T190000
DTSTAMP:20260423T160324
CREATED:20250602T182858Z
LAST-MODIFIED:20250609T154902Z
UID:16759-1754845200-1754852400@www.unitedskates.com
SUMMARY:Spider-Man skate Night
DESCRIPTION:🕸️🛼 Spider-Man Skate Night! 🛼🕸️📅 Sunday\, August 10\, 2025🕔 5:00 PM – 7:00 PM \nSwing into fun with Spider-Man at this action-packed skating & bowling event! 🕷️🎉 \n🎟️ $11 Admission➕ $4 Skate RentalOR🎳 $11 for 2 Bowling Games + Pizza ($4 Shoe Rental) \n🎯 Enjoy fun games\, awesome prizes\, and superhero vibes all night long! 🎁💥 \n👦👧 Ages 2–17 must pay admission + rental (even if not participating)👨‍🦱👩‍🦰 Ages 18+ must pay admission \n🕷️ Come dressed to impress — Spider-Man is ready to roll! 💫 \n#SpiderManSkateNight #SuperheroFun #FamilyEvent #SkateOrBowl #SpideyVibes
URL:https://www.unitedskates.com/mlk-skating/event/spider-man-skate-night/
LOCATION:Dr. Martin Luther King\, Jr. Park & Family Entertainment Center\, 1219 W. 76th St.\, Chicago\, IL\, 6020\, United States
CATEGORIES:Public Skates,Special Events
ATTACH;FMTTYPE=image/png:https://unitedskates-assets.sfo3.digitaloceanspaces.com/wp-content/uploads/sites/18/2025/06/spiderman-8-10-25.png
END:VEVENT
END:VCALENDAR