BEGIN:VCALENDAR
VERSION:2.0
PRODID:-//Rink 46 - MLK Skating - ECPv6.15.20//NONSGML v1.0//EN
CALSCALE:GREGORIAN
METHOD:PUBLISH
X-ORIGINAL-URL:https://www.unitedskates.com/mlk-skating
X-WR-CALDESC:Events for Rink 46 - MLK Skating
REFRESH-INTERVAL;VALUE=DURATION:PT1H
X-Robots-Tag:noindex
X-PUBLISHED-TTL:PT1H
BEGIN:VTIMEZONE
TZID:America/Chicago
BEGIN:DAYLIGHT
TZOFFSETFROM:-0600
TZOFFSETTO:-0500
TZNAME:CDT
DTSTART:20240310T080000
END:DAYLIGHT
BEGIN:STANDARD
TZOFFSETFROM:-0500
TZOFFSETTO:-0600
TZNAME:CST
DTSTART:20241103T070000
END:STANDARD
BEGIN:DAYLIGHT
TZOFFSETFROM:-0600
TZOFFSETTO:-0500
TZNAME:CDT
DTSTART:20250309T080000
END:DAYLIGHT
BEGIN:STANDARD
TZOFFSETFROM:-0500
TZOFFSETTO:-0600
TZNAME:CST
DTSTART:20251102T070000
END:STANDARD
BEGIN:DAYLIGHT
TZOFFSETFROM:-0600
TZOFFSETTO:-0500
TZNAME:CDT
DTSTART:20260308T080000
END:DAYLIGHT
BEGIN:STANDARD
TZOFFSETFROM:-0500
TZOFFSETTO:-0600
TZNAME:CST
DTSTART:20261101T070000
END:STANDARD
END:VTIMEZONE
BEGIN:VEVENT
DTSTART;TZID=America/Chicago:20250703T173000
DTEND;TZID=America/Chicago:20250703T200000
DTSTAMP:20260423T172729
CREATED:20241203T212711Z
LAST-MODIFIED:20250624T193931Z
UID:17089-1751563800-1751572800@www.unitedskates.com
SUMMARY:✨ Red\, White & GLOW Skate or Bowl! ✨
DESCRIPTION:🎆 Join us for a Pre-4th of July celebration right here at the MLK Skating & Bowling Center! 🌟 FREE Glow Stick with paid admission! \nBring your family and friends for a fun\, safe\, and exciting time indoors as we light up the rink and lanes for this patriotic glow party! \n$10.00 Admission $4.00 Skate Rental OR \n$10.00 2 Games of Bowling $4.00 Shoe Rental \n$10.00 Spectator fee for Non-Skating OR Non-Bowling Adults \nEach Activity will need to be paid for separately. \n*All Guest\, ages 2-17 Must pay for admission and rental whether skating or not. \nChaperones are required for all ages. \n*TAXES ARE NOT INCLUDED
URL:https://www.unitedskates.com/mlk-skating/event/general-public-session-2025-07-03/
LOCATION:Dr. Martin Luther King\, Jr. Park & Family Entertainment Center\, 1219 W. 76th St.\, Chicago\, IL\, 6020\, United States
CATEGORIES:Family Events,Public Skates,Special Events
ATTACH;FMTTYPE=image/png:https://unitedskates-assets.sfo3.digitaloceanspaces.com/wp-content/uploads/sites/18/2024/12/15.-Red-white-and-GLOW-skate-07-03-25.png
END:VEVENT
BEGIN:VEVENT
DTSTART;TZID=America/Chicago:20250703T203000
DTEND;TZID=America/Chicago:20250703T233000
DTSTAMP:20260423T172729
CREATED:20250610T154143Z
LAST-MODIFIED:20250610T154143Z
UID:17187-1751574600-1751585400@www.unitedskates.com
SUMMARY:🤠🎉 Boots on the Ground – Adult Rodeo Edition! 🎉🤠
DESCRIPTION:🎶 We’re bringing that big rodeo energy to the rink with the hottest hits and that down-home country flavor you didn’t know you needed! \n👢 Rodeo gear required! So break out those boots\, rock that fringe\, and bring your best cowboy or cowgirl drip. Let’s turn up and show out! Don’t miss it! Come through\, catch a vibe\, and let’s get this rodeo rollin’! 💥 \n$11.00 Admission $4.00 Skate Rental OR \n$11.00 2 Games of Bowling $4.00 Shoe Rental \n$11.00 Spectator fee for Non-Skating OR Non-Bowling Adults \nEach Activity will need to be paid for separately. \n*All Guest\, ages 2-17 Must pay for admission and rental whether skating or not. \n*TAXES ARE NOT INCLUDED
URL:https://www.unitedskates.com/mlk-skating/event/%f0%9f%a4%a0%f0%9f%8e%89-boots-on-the-ground-adult-rodeo-edition-%f0%9f%8e%89%f0%9f%a4%a0/
LOCATION:Dr. Martin Luther King\, Jr. Park & Family Entertainment Center\, 1219 W. 76th St.\, Chicago\, IL\, 6020\, United States
CATEGORIES:Adult Events,Special Events
ATTACH;FMTTYPE=image/jpeg:https://unitedskates-assets.sfo3.digitaloceanspaces.com/wp-content/uploads/sites/18/2025/06/Boots-on-the-Ground-Skate-1.jpg
END:VEVENT
END:VCALENDAR