BEGIN:VCALENDAR
VERSION:2.0
PRODID:-//Rink 46 - MLK Skating - ECPv6.15.20//NONSGML v1.0//EN
CALSCALE:GREGORIAN
METHOD:PUBLISH
X-ORIGINAL-URL:https://www.unitedskates.com/mlk-skating
X-WR-CALDESC:Events for Rink 46 - MLK Skating
REFRESH-INTERVAL;VALUE=DURATION:PT1H
X-Robots-Tag:noindex
X-PUBLISHED-TTL:PT1H
BEGIN:VTIMEZONE
TZID:America/Chicago
BEGIN:DAYLIGHT
TZOFFSETFROM:-0600
TZOFFSETTO:-0500
TZNAME:CDT
DTSTART:20240310T080000
END:DAYLIGHT
BEGIN:STANDARD
TZOFFSETFROM:-0500
TZOFFSETTO:-0600
TZNAME:CST
DTSTART:20241103T070000
END:STANDARD
BEGIN:DAYLIGHT
TZOFFSETFROM:-0600
TZOFFSETTO:-0500
TZNAME:CDT
DTSTART:20250309T080000
END:DAYLIGHT
BEGIN:STANDARD
TZOFFSETFROM:-0500
TZOFFSETTO:-0600
TZNAME:CST
DTSTART:20251102T070000
END:STANDARD
BEGIN:DAYLIGHT
TZOFFSETFROM:-0600
TZOFFSETTO:-0500
TZNAME:CDT
DTSTART:20260308T080000
END:DAYLIGHT
BEGIN:STANDARD
TZOFFSETFROM:-0500
TZOFFSETTO:-0600
TZNAME:CST
DTSTART:20261101T070000
END:STANDARD
END:VTIMEZONE
BEGIN:VEVENT
DTSTART;TZID=America/Chicago:20250324T120000
DTEND;TZID=America/Chicago:20250324T140000
DTSTAMP:20260425T125542
CREATED:20250128T212531Z
LAST-MODIFIED:20250314T160031Z
UID:15511-1742817600-1742824800@www.unitedskates.com
SUMMARY:Hello Kitty Skate or Bowl
DESCRIPTION:Join us during this springbreak for our Hello Kitty Skate or Bowl and meet your fav character. \n$11.00 Admission $4.00 Skate Rental OR \n$11.00 2 Games of Bowling $4.00 Shoe Rental \n$11.00 Non-participating Adult Fee \nEach activity will need to paid for seperately \nTaxes not included. \n 
URL:https://www.unitedskates.com/mlk-skating/event/hello-kitty-skate-or-bowl/
LOCATION:Dr. Martin Luther King\, Jr. Park & Family Entertainment Center\, 1219 W. 76th St.\, Chicago\, IL\, 6020\, United States
CATEGORIES:Family Events,Public Skates,Special Events
ATTACH;FMTTYPE=image/png:https://unitedskates-assets.sfo3.digitaloceanspaces.com/wp-content/uploads/sites/18/2025/01/Hello-Kitty-skate-03-24-25.png
END:VEVENT
BEGIN:VEVENT
DTSTART;TZID=America/Chicago:20250324T120000
DTEND;TZID=America/Chicago:20250401T200000
DTSTAMP:20260425T125542
CREATED:20250306T135403Z
LAST-MODIFIED:20250306T135403Z
UID:16386-1742817600-1743537600@www.unitedskates.com
SUMMARY:🌟 Spring Break Fun at MLK Skating Center! 🌟
DESCRIPTION:School’s Out… Let’s Go Skating! 🎉 Get ready for an action-packed Spring Break at MLK Skating Center in Chicago! We’ve got a week full of fun planned with exciting themed skate sessions\, character meet-and-greets\, glow skating\, and amazing specials for the whole family! \n🔥 Here’s what’s rolling in this Spring Break:🎭 Themed Skate Parties – Dress up and skate in style!🌟 Character Appearances – Meet your favorite characters while you roll!🍦 Ice Cream & Glow Parties – Enjoy tasty treats and light up the rink!🎶 Live DJ & Music Vibes – Skate to the hottest hits all week!🎳 Skate or Bowl Combos – Double the fun with special deals!🍕 Delicious Food Specials – Grab a slice and refuel between sessions! \n📅 Mark your calendars and plan your visit!📍 Location: 1219 W. 76th St. Chicago\, IL📞 Call: 312-747-2602 for more details
URL:https://www.unitedskates.com/mlk-skating/event/%f0%9f%8c%9f-spring-break-fun-at-mlk-skating-center-%f0%9f%8c%9f/
LOCATION:IL
CATEGORIES:Family Events,Public Skates,Special Events
ATTACH;FMTTYPE=image/jpeg:https://unitedskates-assets.sfo3.digitaloceanspaces.com/wp-content/uploads/sites/18/2025/03/Spring-Break-2025-Calendar-Front-rink-46.jpg
END:VEVENT
BEGIN:VEVENT
DTSTART;TZID=America/Chicago:20250324T143000
DTEND;TZID=America/Chicago:20250324T163000
DTSTAMP:20260425T125542
CREATED:20250128T212725Z
LAST-MODIFIED:20250130T204015Z
UID:15514-1742826600-1742833800@www.unitedskates.com
SUMMARY:Springbreak Public Skate or Bowl Session
DESCRIPTION:$11.00 Admission $4.00 Skate Rental OR \n$11.00 2 Games of Bowling $4.00 Shoe Rental \n$11.00 Spectator fee for Non-Skating OR Non-Bowling Adults \nEach Activity will need to be paid for separately. \n*All Guest\, ages 2-17 Must pay for admission and rental whether skating or not. \n*TAXES ARE NOT INCLUDED
URL:https://www.unitedskates.com/mlk-skating/event/springbreak-general-public-session/2025-03-24/
LOCATION:Dr. Martin Luther King\, Jr. Park & Family Entertainment Center\, 1219 W. 76th St.\, Chicago\, IL\, 6020\, United States
CATEGORIES:Family Events,Public Skates,Special Events
ATTACH;FMTTYPE=image/jpeg:https://unitedskates-assets.sfo3.digitaloceanspaces.com/wp-content/uploads/sites/18/2024/02/v2-Spring-Break-Skate-2023-1200x1200-1.jpg
END:VEVENT
BEGIN:VEVENT
DTSTART;TZID=America/Chicago:20250324T170000
DTEND;TZID=America/Chicago:20250324T200000
DTSTAMP:20260425T125542
CREATED:20250129T191140Z
LAST-MODIFIED:20250129T192210Z
UID:16140-1742835600-1742846400@www.unitedskates.com
SUMMARY:Springbreak Public Skate or Bowl Session
DESCRIPTION:$11.00 Admission $4.00 Skate Rental OR \n$11.00 2 Games of Bowling $4.00 Shoe Rental \n$11.00 Spectator fee for Non-Skating OR Non-Bowling Adults \nEach Activity will need to be paid for separately. \n*All Guest\, ages 2-17 Must pay for admission and rental whether skating or not. \n*TAXES ARE NOT INCLUDED
URL:https://www.unitedskates.com/mlk-skating/event/springbreak-public-skate-or-bowl/
LOCATION:Dr. Martin Luther King\, Jr. Park & Family Entertainment Center\, 1219 W. 76th St.\, Chicago\, IL\, 6020\, United States
CATEGORIES:Family Events,Public Skates,Special Events
ATTACH;FMTTYPE=image/jpeg:https://unitedskates-assets.sfo3.digitaloceanspaces.com/wp-content/uploads/sites/18/2024/02/Spring-Break-Skate-2023-1200x1200-1.jpg
END:VEVENT
END:VCALENDAR