BEGIN:VCALENDAR
VERSION:2.0
PRODID:-//Rink 46 - MLK Skating - ECPv6.15.20//NONSGML v1.0//EN
CALSCALE:GREGORIAN
METHOD:PUBLISH
X-WR-CALNAME:Rink 46 - MLK Skating
X-ORIGINAL-URL:https://www.unitedskates.com/mlk-skating
X-WR-CALDESC:Events for Rink 46 - MLK Skating
REFRESH-INTERVAL;VALUE=DURATION:PT1H
X-Robots-Tag:noindex
X-PUBLISHED-TTL:PT1H
BEGIN:VTIMEZONE
TZID:America/Chicago
BEGIN:DAYLIGHT
TZOFFSETFROM:-0600
TZOFFSETTO:-0500
TZNAME:CDT
DTSTART:20240310T080000
END:DAYLIGHT
BEGIN:STANDARD
TZOFFSETFROM:-0500
TZOFFSETTO:-0600
TZNAME:CST
DTSTART:20241103T070000
END:STANDARD
BEGIN:DAYLIGHT
TZOFFSETFROM:-0600
TZOFFSETTO:-0500
TZNAME:CDT
DTSTART:20250309T080000
END:DAYLIGHT
BEGIN:STANDARD
TZOFFSETFROM:-0500
TZOFFSETTO:-0600
TZNAME:CST
DTSTART:20251102T070000
END:STANDARD
BEGIN:DAYLIGHT
TZOFFSETFROM:-0600
TZOFFSETTO:-0500
TZNAME:CDT
DTSTART:20260308T080000
END:DAYLIGHT
BEGIN:STANDARD
TZOFFSETFROM:-0500
TZOFFSETTO:-0600
TZNAME:CST
DTSTART:20261101T070000
END:STANDARD
END:VTIMEZONE
BEGIN:VEVENT
DTSTART;TZID=America/Chicago:20250117T170000
DTEND;TZID=America/Chicago:20250120T200000
DTSTAMP:20260425T194958
CREATED:20241231T184344Z
LAST-MODIFIED:20241231T184344Z
UID:15189-1737133200-1737403200@www.unitedskates.com
SUMMARY:MLK Weekend Roller Skating
DESCRIPTION:🎉 School’s Out\, Let’s Roll and Bowl! 🛼🎳✨ \nCelebrate MLK Weekend with a fun-packed lineup of roller skating and bowling at the Dr. Martin Luther King Jr. Park & Family Entertainment Center! Bring the whole family for themed events\, character meet-and-greets\, and nonstop fun! \n🗓 Weekend Highlights: \n✨ Friday\, Jan 17: \n\nGeneral Public Skate/Bowl: 5:00 PM–7:00 PM ($10 Admission or Unlimited Bowling)\nSpongeBob Skate: 7:30 PM–9:30 PM ($10 Admission or Unlimited Bowling)\n\n✨ Saturday\, Jan 18: \n\nTots Character Skate Party: 12:00 PM–3:00 PM ($10 Admission or Unlimited Bowling)\nGlow Crazy Skate/Bowl: 3:30 PM–6:30 PM ($11 Admission or Unlimited Bowling\, includes FREE Glow Stick!)\nReggae Skate/Bowl Party: 7:00 PM–10:00 PM ($13 Admission or Unlimited Bowling)\n\n✨ Sunday\, Jan 19: \n\nPoppy’s Poptart Skate/Bowl Party: 2:00 PM–4:30 PM ($11 Admission or Unlimited Bowling)\nSlushies w/ Stitch Skate/Bowl Party: 5:00 PM–8:00 PM ($12 Admission or Unlimited Bowling)\n\n✨ Monday\, Jan 20 (MLK Jr. Day): \n\nOlaf’s All White Extravaganza: 1:00 PM–4:00 PM ($15 Admission includes skate\, bowl\, or shoe rental)\nMLK Day Glow Supreme Carnival: 5:00 PM–8:00 PM ($20 Admission per person\, includes games\, a cupcake\, glow sticks\, and more!)\n\n📍 Where:\nDr. Martin Luther King Jr. Park & Family Entertainment Center\n1219 W. 76th St\, Chicago\, IL 60620 \n📞 Contact: 312-747-2602\n💻 Details: www.MLKSkating.com \n🎶 Skate Rentals: $4 + tax | Skatemates: $5 \nBring your friends and family for a weekend full of joy\, laughter\, and unforgettable memories! Let’s roll and bowl together this MLK weekend! 🛼🎉
URL:https://www.unitedskates.com/mlk-skating/event/mlk-weekend-roller-skating/
LOCATION:IL
CATEGORIES:Family Events,Public Skates,Special Events
ATTACH;FMTTYPE=image/jpeg:https://unitedskates-assets.sfo3.digitaloceanspaces.com/wp-content/uploads/sites/18/2024/12/MLK-weekend-break-2025-calendar-Front-rink46.jpg
END:VEVENT
BEGIN:VEVENT
DTSTART;TZID=America/Chicago:20250120T130000
DTEND;TZID=America/Chicago:20250120T160000
DTSTAMP:20260425T194958
CREATED:20241206T225645Z
LAST-MODIFIED:20241221T020045Z
UID:15127-1737378000-1737388800@www.unitedskates.com
SUMMARY:Olaf's All White Extravaganza
DESCRIPTION:Join us on MLK Day for our Olaf’s All White Extravaganza. Wear white and enjoy frosty sno cones and plenty of winter wonderland activites like our fun indoor snoball fight. Who do you think will win Olaf or you? Come find out! \n$15.00 per person includes Admission and Skate Rental OR \n$15.00 per person includes Unlimited Bowling and Shoe Rental \n$12.00 Non-participating adult chaperone \nAdd an additional activity on for just $10.00 more per person! \nTaxes are NOT Included. \nPurchase your tickets in advance here: CLICK THE LINK https:  \nhttps://www.eventbrite.com/e/olafs-all-white-extravaganza-tickets-1116627756679?aff=oddtdtcreator
URL:https://www.unitedskates.com/mlk-skating/event/olafs-all-white-extravaganza/
LOCATION:Dr. Martin Luther King\, Jr. Park & Family Entertainment Center\, 1219 W. 76th St.\, Chicago\, IL\, 6020\, United States
CATEGORIES:Family Events,Public Skates,Special Events
ATTACH;FMTTYPE=image/png:https://unitedskates-assets.sfo3.digitaloceanspaces.com/wp-content/uploads/sites/18/2024/12/Olafs-all-white-extravaganza.png
END:VEVENT
BEGIN:VEVENT
DTSTART;TZID=America/Chicago:20250120T170000
DTEND;TZID=America/Chicago:20250120T200000
DTSTAMP:20260425T194958
CREATED:20241204T201224Z
LAST-MODIFIED:20241221T020204Z
UID:15124-1737392400-1737403200@www.unitedskates.com
SUMMARY:MLK Day Glow Supreme Carnival
DESCRIPTION:Come out and Celebrate the one and only Dr. MLK Jr. by joining us for the BIGGEST birthday party celebration ever. Plenty of fun carnival games\, ton’s of exciting activities\, music and so much more! \n$20.00 per person includes Admission and Skate Rental\, 1 glow stick\, 1 cupcake per guest(while supplies last)\, entry to either our Glow Tattoo station OR our Glow Face Painting station and photo ops with 1 of your favorite characters. \nOR \n$20.00 per person includes Unlimited Bowling and Shoe Rental\, 1 glow stick\, 1 cupcake per guest(while supplies last)\, entry to either our Glow Tattoo station OR our Glow Face Painting station and photo ops with 1 of your favorite characters. \n$12.00 Non-participating adult chaperone \nAdd an additional activity on for just $10.00 more per person! \nTaxes are NOT Included. \nPurchase your tickets in advance here: CLICK THE LINK  \nhttps://www.eventbrite.com/e/dr-mlk-jr-day-skate-night-tickets-1116649471629?aff=oddtdtcreator
URL:https://www.unitedskates.com/mlk-skating/event/mlk-day-glow-supreme-carnival/
LOCATION:Dr. Martin Luther King\, Jr. Park & Family Entertainment Center\, 1219 W. 76th St.\, Chicago\, IL\, 6020\, United States
CATEGORIES:Family Events,Public Skates,Special Events
ATTACH;FMTTYPE=image/png:https://unitedskates-assets.sfo3.digitaloceanspaces.com/wp-content/uploads/sites/18/2024/12/MLK-Day-Skate-night-01-20-2025.png
END:VEVENT
END:VCALENDAR