BEGIN:VCALENDAR
VERSION:2.0
PRODID:-//Rink 46 - MLK Skating - ECPv6.15.20//NONSGML v1.0//EN
CALSCALE:GREGORIAN
METHOD:PUBLISH
X-WR-CALNAME:Rink 46 - MLK Skating
X-ORIGINAL-URL:https://www.unitedskates.com/mlk-skating
X-WR-CALDESC:Events for Rink 46 - MLK Skating
REFRESH-INTERVAL;VALUE=DURATION:PT1H
X-Robots-Tag:noindex
X-PUBLISHED-TTL:PT1H
BEGIN:VTIMEZONE
TZID:America/Chicago
BEGIN:DAYLIGHT
TZOFFSETFROM:-0600
TZOFFSETTO:-0500
TZNAME:CDT
DTSTART:20230312T080000
END:DAYLIGHT
BEGIN:STANDARD
TZOFFSETFROM:-0500
TZOFFSETTO:-0600
TZNAME:CST
DTSTART:20231105T070000
END:STANDARD
BEGIN:DAYLIGHT
TZOFFSETFROM:-0600
TZOFFSETTO:-0500
TZNAME:CDT
DTSTART:20240310T080000
END:DAYLIGHT
BEGIN:STANDARD
TZOFFSETFROM:-0500
TZOFFSETTO:-0600
TZNAME:CST
DTSTART:20241103T070000
END:STANDARD
BEGIN:DAYLIGHT
TZOFFSETFROM:-0600
TZOFFSETTO:-0500
TZNAME:CDT
DTSTART:20250309T080000
END:DAYLIGHT
BEGIN:STANDARD
TZOFFSETFROM:-0500
TZOFFSETTO:-0600
TZNAME:CST
DTSTART:20251102T070000
END:STANDARD
BEGIN:DAYLIGHT
TZOFFSETFROM:-0600
TZOFFSETTO:-0500
TZNAME:CDT
DTSTART:20260308T080000
END:DAYLIGHT
BEGIN:STANDARD
TZOFFSETFROM:-0500
TZOFFSETTO:-0600
TZNAME:CST
DTSTART:20261101T070000
END:STANDARD
END:VTIMEZONE
BEGIN:VEVENT
DTSTART;TZID=America/Chicago:20241220T080000
DTEND;TZID=America/Chicago:20250105T200000
DTSTAMP:20260425T174745
CREATED:20241111T150240Z
LAST-MODIFIED:20241126T172741Z
UID:14825-1734681600-1736107200@www.unitedskates.com
SUMMARY:🎄🎅🏽🎄Winter Break Roller Skating🎄🎅🏽🎄
DESCRIPTION:❄️🛼 Winter Break Magic Awaits at MLK Skating Center! 🛼❄️\nLooking for family-friendly fun this Winter Break? Head to Dr. Martin Luther King Jr. Park & Family Entertainment Center for unforgettable skating sessions\, themed events\, and holiday cheer! 🎄✨ \n🗓️ Event Highlights:\n🎅 Dec 20: Winter Break Kickoff – enjoy 1/2 Price Skating or Bowling!\n🎄 Dec 25: Celebrate Christmas with our Character Explosion and FREE Pizza for the first hour!\n🎭 Dec 30: Family Game Night + Character Meet & Greet!\n🎉 Dec 31: Ring in the New Year with countdown celebrations for all ages!\n🍭 Jan 2: FREE Pizza Skate or Bowl – a tasty way to keep the fun going! \n🎟️ Affordable Fun for All: \n\n$4 Skate/Shoe Rentals\nEvents as low as $10-$15\n\n📍 Location: 1219 W. 76th St\, Chicago\, IL 60620\n📞 Contact: 312-747-2602\n🌐 Visit www.MLKskating.com for the full schedule and details! \nFrom skating with Santa to epic New Year’s Eve celebrations\, we’ve got something for everyone. Let’s roll into the holidays with joy and excitement! 🛼✨ \n 
URL:https://www.unitedskates.com/mlk-skating/event/%f0%9f%8e%84%f0%9f%8e%85%f0%9f%8f%bd%f0%9f%8e%84winter-break-roller-skating%f0%9f%8e%84%f0%9f%8e%85%f0%9f%8f%bd%f0%9f%8e%84/
LOCATION:IL
CATEGORIES:Family Events,Public Skates,Special Events
ATTACH;FMTTYPE=image/jpeg:https://unitedskates-assets.sfo3.digitaloceanspaces.com/wp-content/uploads/sites/18/2024/11/Winter-Break-Calendar-front-2024-46.jpg
END:VEVENT
BEGIN:VEVENT
DTSTART;TZID=America/Chicago:20241224T100000
DTEND;TZID=America/Chicago:20241224T130000
DTSTAMP:20260425T174745
CREATED:20241018T201918Z
LAST-MODIFIED:20241220T202104Z
UID:14676-1735034400-1735045200@www.unitedskates.com
SUMMARY:Breakfast with Santa & Friends
DESCRIPTION:Meet Santa and have Breakfast with his friends!\n$13.00 Admission $4.00 Skate Rental OR \n$13.00 2 Games of Bowling $4.00 Shoe Rental \n$13.00 Spectator fee for Non-Skating OR Non-Bowling Adults \nEach Activity will need to be paid for separately. \n*All Guest\, ages 2-17 Must pay for admission and rental whether skating or not. \nChaperones are required for all ages. \n*TAXES ARE NOT INCLUDED\nTickets can be pre-purchased online \nhttps://www.eventbrite.com/e/breakfast-with-santa-friends-tickets-1073219481359?aff=ebdssbdestsearch
URL:https://www.unitedskates.com/mlk-skating/event/breakfast-with-santa-friends/
LOCATION:Dr. Martin Luther King\, Jr. Park & Family Entertainment Center\, 1219 W. 76th St.\, Chicago\, IL\, 6020\, United States
CATEGORIES:Public Skates,Special Events
ATTACH;FMTTYPE=image/png:https://unitedskates-assets.sfo3.digitaloceanspaces.com/wp-content/uploads/sites/18/2024/10/breakfast-w-santa-12-24-24.png
END:VEVENT
BEGIN:VEVENT
DTSTART;TZID=America/Chicago:20241224T133000
DTEND;TZID=America/Chicago:20241224T163000
DTSTAMP:20260425T174745
CREATED:20241018T202224Z
LAST-MODIFIED:20241220T211545Z
UID:14679-1735047000-1735057800@www.unitedskates.com
SUMMARY: Lunch with Santa Skate or Bowl
DESCRIPTION:Santa is making a special trip from the North Pole to meet some amazing kids just before Christmas! Join us at the Dr. MLK Skating and Bowling Center for a magical afternoon filled with holiday fun!  Enjoy delicious hot pizza  with your admission or purchase many other tasty options available at our cafe while you skate\, bowl\, and soak up the holiday spirit.  Bring your cameras for special Santa moments\, enjoy festive tunes\, Christmas movies\, and games all session long! \n$13.00 Admission $4.00 Skate Rental OR \n$13.00 2 Games of Bowling $4.00 Shoe Rental \n$13.00 Spectator fee for Non-Skating OR Non-Bowling Adults \nEach Activity will need to be paid for separately. \n*All Guest\, ages 2-17 Must pay for admission and rental whether skating or not. \nDon’t miss out on the holiday magic – purchase your tickets in advance right here  Get Tickets https://www.eventbrite.com/e/1073224757139?aff=oddtdtcreator\nSpread the cheer and make this Christmas Eve unforgettable!  We can’t wait to celebrate with you!\n*TAXES ARE NOT INCLUDED\n 
URL:https://www.unitedskates.com/mlk-skating/event/lunch-with-santa-skate-or-bowl/
LOCATION:Dr. Martin Luther King\, Jr. Park & Family Entertainment Center\, 1219 W. 76th St.\, Chicago\, IL\, 6020\, United States
CATEGORIES:Family Events,Public Skates,Special Events
ATTACH;FMTTYPE=image/png:https://unitedskates-assets.sfo3.digitaloceanspaces.com/wp-content/uploads/sites/18/2024/10/Lunch-w-santa-12-24-24-2.png
END:VEVENT
BEGIN:VEVENT
DTSTART;TZID=America/Chicago:20241224T203000
DTEND;TZID=America/Chicago:20241225T003000
DTSTAMP:20260425T174745
CREATED:20241221T031357Z
LAST-MODIFIED:20241221T031416Z
UID:15166-1735072200-1735086600@www.unitedskates.com
SUMMARY:Ugly Sweater ADULT Night
DESCRIPTION:Dr. MLK Skating and Bowling center and DJ Suave Presents; Ugly Sweater Adult Night  Get Your Ugly Sweater Ready for a Night of Fun! \n\nJoin us for the Adult Ugly Sweater Skate Night at the Dr. MLK Skating and Bowling Center!  Show off your ugliest holiday sweater for a chance to win the Best Ugly Sweater Contest! \n\n\n$10.00 Admission $5.00 Skate Rental OR\n\n$10.00 2 Games of Bowling $5.00 Shoe Rental\n\nEach activity will need to be paid for seperately.\n\nThis is an 18+ event\, so grab your friends and come make memories and turn up for a lit holiday celebration.\n 
URL:https://www.unitedskates.com/mlk-skating/event/ugly-sweater-adult-night/
LOCATION:Dr. Martin Luther King\, Jr. Park & Family Entertainment Center\, 1219 W. 76th St.\, Chicago\, IL\, 6020\, United States
CATEGORIES:Adult Events,Special Events
ATTACH;FMTTYPE=image/jpeg:https://unitedskates-assets.sfo3.digitaloceanspaces.com/wp-content/uploads/sites/18/2024/12/Christmas-Eve-Adult-Night-12-24-24.jpg
END:VEVENT
END:VCALENDAR