BEGIN:VCALENDAR
VERSION:2.0
PRODID:-//Rink 46 - MLK Skating - ECPv6.15.20//NONSGML v1.0//EN
CALSCALE:GREGORIAN
METHOD:PUBLISH
X-WR-CALNAME:Rink 46 - MLK Skating
X-ORIGINAL-URL:https://www.unitedskates.com/mlk-skating
X-WR-CALDESC:Events for Rink 46 - MLK Skating
REFRESH-INTERVAL;VALUE=DURATION:PT1H
X-Robots-Tag:noindex
X-PUBLISHED-TTL:PT1H
BEGIN:VTIMEZONE
TZID:America/Chicago
BEGIN:DAYLIGHT
TZOFFSETFROM:-0600
TZOFFSETTO:-0500
TZNAME:CDT
DTSTART:20230312T080000
END:DAYLIGHT
BEGIN:STANDARD
TZOFFSETFROM:-0500
TZOFFSETTO:-0600
TZNAME:CST
DTSTART:20231105T070000
END:STANDARD
BEGIN:DAYLIGHT
TZOFFSETFROM:-0600
TZOFFSETTO:-0500
TZNAME:CDT
DTSTART:20240310T080000
END:DAYLIGHT
BEGIN:STANDARD
TZOFFSETFROM:-0500
TZOFFSETTO:-0600
TZNAME:CST
DTSTART:20241103T070000
END:STANDARD
BEGIN:DAYLIGHT
TZOFFSETFROM:-0600
TZOFFSETTO:-0500
TZNAME:CDT
DTSTART:20250309T080000
END:DAYLIGHT
BEGIN:STANDARD
TZOFFSETFROM:-0500
TZOFFSETTO:-0600
TZNAME:CST
DTSTART:20251102T070000
END:STANDARD
END:VTIMEZONE
BEGIN:VEVENT
DTSTART;TZID=America/Chicago:20241122T170000
DTEND;TZID=America/Chicago:20241201T180000
DTSTAMP:20260425T202230
CREATED:20241007T202904Z
LAST-MODIFIED:20241007T202904Z
UID:14622-1732294800-1733076000@www.unitedskates.com
SUMMARY:Thanksgiving Break 2024
DESCRIPTION:Join Us During Thanksgiving Break! \nWe have many great events for everyone! \nCome see The Trolls\, Mickey & Minnie\, SpongeBob and More! \nWe have Early Bird Skates\, Glow Skates and More! \nCheck Our Schedule for Times and Admission Prices. \nMake Plans to Come Out and Roll with Us!🛼🛼
URL:https://www.unitedskates.com/mlk-skating/event/thanksgiving-break-2024/
LOCATION:IL
CATEGORIES:Family Events,Public Skates,Special Events
ATTACH;FMTTYPE=image/jpeg:https://unitedskates-assets.sfo3.digitaloceanspaces.com/wp-content/uploads/sites/18/2024/10/Thanksgiving-Break-2024-calendar-46.jpg
END:VEVENT
BEGIN:VEVENT
DTSTART;TZID=America/Chicago:20241129T120000
DTEND;TZID=America/Chicago:20241129T140000
DTSTAMP:20260425T202230
CREATED:20241007T161806Z
LAST-MODIFIED:20241007T161958Z
UID:14606-1732881600-1732888800@www.unitedskates.com
SUMMARY:Black Friday Early Bird Skate or Bowl
DESCRIPTION:Join us for a Early Bird special this Friday and enjoy Half priced admission for either Skating or Bowling! \n$5.00 Admission $4.00 Skate Rental OR \n$5.00 2 Games of Bowling $4.00 Shoe Rental \n$5.00 Non-participating Adult Chaperone Fee. \nEach activity will need to be paid for seperatly.  \n*Taxes not included
URL:https://www.unitedskates.com/mlk-skating/event/black-friday-skate-or-bowl/
LOCATION:Dr. Martin Luther King\, Jr. Park & Family Entertainment Center\, 1219 W. 76th St.\, Chicago\, IL\, 6020\, United States
CATEGORIES:Family Events,Public Skates,Special Events
ATTACH;FMTTYPE=image/png:https://unitedskates-assets.sfo3.digitaloceanspaces.com/wp-content/uploads/sites/18/2024/10/Early-Bird-11-29-24.png
END:VEVENT
BEGIN:VEVENT
DTSTART;TZID=America/Chicago:20241129T143000
DTEND;TZID=America/Chicago:20241129T163000
DTSTAMP:20260425T202230
CREATED:20241007T162541Z
LAST-MODIFIED:20241007T162542Z
UID:14610-1732890600-1732897800@www.unitedskates.com
SUMMARY:Black Friday Minions AYCE Pizza Skate or Bowl
DESCRIPTION:Who loves pizza\, Minions do! Meet the Minions here and enjoy ALL YOU CAN EAT PIZZA for the 1st hour!  \n$13.00 Admission $4.00 Skate Rental OR \n$13.00 2 Games of Bowling $4.00 Shoe Rental \n$10.00 Non-participating Adult Chaperone Fee. \nEach activity will need to be paid for seperatly.  \n*Pizza Buffet is for skate or shoe rental ticket holders ONLY. \n*Taxes not included
URL:https://www.unitedskates.com/mlk-skating/event/black-friday-minions-ayce-pizza-skate-or-bowl/
LOCATION:Dr. Martin Luther King\, Jr. Park & Family Entertainment Center\, 1219 W. 76th St.\, Chicago\, IL\, 6020\, United States
CATEGORIES:Family Events,Public Skates,Special Events
ATTACH;FMTTYPE=image/png:https://unitedskates-assets.sfo3.digitaloceanspaces.com/wp-content/uploads/sites/18/2024/10/Minion-ayce-pizza-skate-11-29-2024.png
END:VEVENT
END:VCALENDAR