BEGIN:VCALENDAR
VERSION:2.0
PRODID:-//Rink 46 - MLK Skating - ECPv6.15.20//NONSGML v1.0//EN
CALSCALE:GREGORIAN
METHOD:PUBLISH
X-WR-CALNAME:Rink 46 - MLK Skating
X-ORIGINAL-URL:https://www.unitedskates.com/mlk-skating
X-WR-CALDESC:Events for Rink 46 - MLK Skating
REFRESH-INTERVAL;VALUE=DURATION:PT1H
X-Robots-Tag:noindex
X-PUBLISHED-TTL:PT1H
BEGIN:VTIMEZONE
TZID:America/Chicago
BEGIN:DAYLIGHT
TZOFFSETFROM:-0600
TZOFFSETTO:-0500
TZNAME:CDT
DTSTART:20230312T080000
END:DAYLIGHT
BEGIN:STANDARD
TZOFFSETFROM:-0500
TZOFFSETTO:-0600
TZNAME:CST
DTSTART:20231105T070000
END:STANDARD
BEGIN:DAYLIGHT
TZOFFSETFROM:-0600
TZOFFSETTO:-0500
TZNAME:CDT
DTSTART:20240310T080000
END:DAYLIGHT
BEGIN:STANDARD
TZOFFSETFROM:-0500
TZOFFSETTO:-0600
TZNAME:CST
DTSTART:20241103T070000
END:STANDARD
BEGIN:DAYLIGHT
TZOFFSETFROM:-0600
TZOFFSETTO:-0500
TZNAME:CDT
DTSTART:20250309T080000
END:DAYLIGHT
BEGIN:STANDARD
TZOFFSETFROM:-0500
TZOFFSETTO:-0600
TZNAME:CST
DTSTART:20251102T070000
END:STANDARD
END:VTIMEZONE
BEGIN:VEVENT
DTSTART;TZID=America/Chicago:20241122T170000
DTEND;TZID=America/Chicago:20241201T180000
DTSTAMP:20260425T224510
CREATED:20241007T202904Z
LAST-MODIFIED:20241007T202904Z
UID:14622-1732294800-1733076000@www.unitedskates.com
SUMMARY:Thanksgiving Break 2024
DESCRIPTION:Join Us During Thanksgiving Break! \nWe have many great events for everyone! \nCome see The Trolls\, Mickey & Minnie\, SpongeBob and More! \nWe have Early Bird Skates\, Glow Skates and More! \nCheck Our Schedule for Times and Admission Prices. \nMake Plans to Come Out and Roll with Us!🛼🛼
URL:https://www.unitedskates.com/mlk-skating/event/thanksgiving-break-2024/
LOCATION:IL
CATEGORIES:Family Events,Public Skates,Special Events
ATTACH;FMTTYPE=image/jpeg:https://unitedskates-assets.sfo3.digitaloceanspaces.com/wp-content/uploads/sites/18/2024/10/Thanksgiving-Break-2024-calendar-46.jpg
END:VEVENT
BEGIN:VEVENT
DTSTART;TZID=America/Chicago:20241123T153000
DTEND;TZID=America/Chicago:20241123T183000
DTSTAMP:20260425T224510
CREATED:20220826T160723Z
LAST-MODIFIED:20241001T194339Z
UID:13792-1732375800-1732386600@www.unitedskates.com
SUMMARY:Power UP Skate or Bowl with Mario and Sonic
DESCRIPTION:Meet Sonic and Super Mario! Receive a 20 Credit Game Card and Power up with 2 Super Icons!  \n$15.00 Admission $4.00 Skate Rental OR \n$15.00 2 Games of Bowling $4.00 Shoe Rental \nAdmission includes 20 Credit Game Card. \nNon Skating – Non Bowling Adult Chaperones Must Pay Fee for Entry. \nEach Acitivity Will Need to Be Paid for Seperately.
URL:https://www.unitedskates.com/mlk-skating/event/glow-saturdays-public-skate-or-bowl-2024-11-09/
LOCATION:Dr. Martin Luther King\, Jr. Park & Family Entertainment Center\, 1219 W. 76th St.\, Chicago\, IL\, 6020\, United States
CATEGORIES:Family Events,Public Skates,Special Events
ATTACH;FMTTYPE=image/png:https://unitedskates-assets.sfo3.digitaloceanspaces.com/wp-content/uploads/sites/18/2022/08/power-up-skate-Flyer-Revised-11-23.png
END:VEVENT
END:VCALENDAR