BEGIN:VCALENDAR
VERSION:2.0
PRODID:-//Rink 46 - MLK Skating - ECPv6.15.20//NONSGML v1.0//EN
CALSCALE:GREGORIAN
METHOD:PUBLISH
X-WR-CALNAME:Rink 46 - MLK Skating
X-ORIGINAL-URL:https://www.unitedskates.com/mlk-skating
X-WR-CALDESC:Events for Rink 46 - MLK Skating
REFRESH-INTERVAL;VALUE=DURATION:PT1H
X-Robots-Tag:noindex
X-PUBLISHED-TTL:PT1H
BEGIN:VTIMEZONE
TZID:America/Chicago
BEGIN:DAYLIGHT
TZOFFSETFROM:-0600
TZOFFSETTO:-0500
TZNAME:CDT
DTSTART:20230312T080000
END:DAYLIGHT
BEGIN:STANDARD
TZOFFSETFROM:-0500
TZOFFSETTO:-0600
TZNAME:CST
DTSTART:20231105T070000
END:STANDARD
BEGIN:DAYLIGHT
TZOFFSETFROM:-0600
TZOFFSETTO:-0500
TZNAME:CDT
DTSTART:20240310T080000
END:DAYLIGHT
BEGIN:STANDARD
TZOFFSETFROM:-0500
TZOFFSETTO:-0600
TZNAME:CST
DTSTART:20241103T070000
END:STANDARD
BEGIN:DAYLIGHT
TZOFFSETFROM:-0600
TZOFFSETTO:-0500
TZNAME:CDT
DTSTART:20250309T080000
END:DAYLIGHT
BEGIN:STANDARD
TZOFFSETFROM:-0500
TZOFFSETTO:-0600
TZNAME:CST
DTSTART:20251102T070000
END:STANDARD
END:VTIMEZONE
BEGIN:VEVENT
DTSTART;TZID=America/Chicago:20241122T170000
DTEND;TZID=America/Chicago:20241122T190000
DTSTAMP:20260425T214143
CREATED:20240805T214248Z
LAST-MODIFIED:20240917T150254Z
UID:13624-1732294800-1732302000@www.unitedskates.com
SUMMARY:Thanksgiving Break Kick Off - Jam Skate or Bowl
DESCRIPTION:Come Jam & Shuffle with us to kick off Thanksgiving Break! All the Best Old School R&B and Hip Hop Music all session long! \n$10.00 Admission $4.00 Skate Rental OR \n$10.00 2 Games of Bowling $4.00 Shoe Rental \n$10.00 Spectator fee for Non-Skating OR Non-Bowling Adults \nEach Activity will need to be paid for separately. \n*All Guest\, ages 2-17 Must pay for admission and rental whether skating or not. \nChaperones are required for all ages. \n*TAXES ARE NOT INCLUDED
URL:https://www.unitedskates.com/mlk-skating/event/public-skate-bowl-3-2024-11-22/
LOCATION:Dr. Martin Luther King\, Jr. Park & Family Entertainment Center\, 1219 W. 76th St.\, Chicago\, IL\, 6020\, United States
CATEGORIES:Family Events,Public Skates,Special Events
ATTACH;FMTTYPE=image/png:https://unitedskates-assets.sfo3.digitaloceanspaces.com/wp-content/uploads/sites/18/2024/08/Jam-Skate.png
END:VEVENT
BEGIN:VEVENT
DTSTART;TZID=America/Chicago:20241122T170000
DTEND;TZID=America/Chicago:20241201T180000
DTSTAMP:20260425T214143
CREATED:20241007T202904Z
LAST-MODIFIED:20241007T202904Z
UID:14622-1732294800-1733076000@www.unitedskates.com
SUMMARY:Thanksgiving Break 2024
DESCRIPTION:Join Us During Thanksgiving Break! \nWe have many great events for everyone! \nCome see The Trolls\, Mickey & Minnie\, SpongeBob and More! \nWe have Early Bird Skates\, Glow Skates and More! \nCheck Our Schedule for Times and Admission Prices. \nMake Plans to Come Out and Roll with Us!🛼🛼
URL:https://www.unitedskates.com/mlk-skating/event/thanksgiving-break-2024/
LOCATION:IL
CATEGORIES:Family Events,Public Skates,Special Events
ATTACH;FMTTYPE=image/jpeg:https://unitedskates-assets.sfo3.digitaloceanspaces.com/wp-content/uploads/sites/18/2024/10/Thanksgiving-Break-2024-calendar-46.jpg
END:VEVENT
BEGIN:VEVENT
DTSTART;TZID=America/Chicago:20241122T193000
DTEND;TZID=America/Chicago:20241122T213000
DTSTAMP:20260425T214143
CREATED:20240830T173936Z
LAST-MODIFIED:20240830T173936Z
UID:13964-1732303800-1732311000@www.unitedskates.com
SUMMARY:Faith & Family Church Pizza Skate or Bowl
DESCRIPTION:Calling all Churches Every 4th Friday this Fall We have a Special Event Curated just for you. \nJoin us for our Faith & Family Skate or Bowl Night. \n$13.00 Per Person includes Admission\, skate rental OR bowling\, shoe rental\, 1 slice of cheese pizza and a small drink.. \nChurch Fundraising opportunities available! Must reserve for 25 or more guests! \nReservations are required! Call 312-747-2604 or email lbragg@usa-skating.com to book your Church group today.  \n$10.00 for Non-Particiapating Adults ages 18 and older.
URL:https://www.unitedskates.com/mlk-skating/event/faith-family-church-pizza-skate-or-bowl/
LOCATION:Dr. Martin Luther King\, Jr. Park & Family Entertainment Center\, 1219 W. 76th St.\, Chicago\, IL\, 6020\, United States
CATEGORIES:Family Events,Special Events
ATTACH;FMTTYPE=image/png:https://unitedskates-assets.sfo3.digitaloceanspaces.com/wp-content/uploads/sites/18/2024/08/46-Faith-Family-Pizza-Skate-11-22-2024.png
END:VEVENT
BEGIN:VEVENT
DTSTART;TZID=America/Chicago:20241122T193000
DTEND;TZID=America/Chicago:20241122T213000
DTSTAMP:20260425T214143
CREATED:20240917T155218Z
LAST-MODIFIED:20240917T155232Z
UID:14276-1732303800-1732311000@www.unitedskates.com
SUMMARY:Glow Family Skate or Bowl
DESCRIPTION:Come out and get your GLOW on right here on the rink or in our Blacklight Bowling Alley. \n$10.00 Admission $4.00 Skate Rental OR \n$10.00 2 Games of Bowling $4.00 Shoe Rental \nNon Skating – Non Bowling Adult Chaperones Must Pay Fee for Entry. \nEach Acitivity Will Need to Be Paid for Seperately.
URL:https://www.unitedskates.com/mlk-skating/event/glow-family-skate-or-bowl/
LOCATION:Dr. Martin Luther King\, Jr. Park & Family Entertainment Center\, 1219 W. 76th St.\, Chicago\, IL\, 6020\, United States
CATEGORIES:Family Events,Public Skates,Special Events
ATTACH;FMTTYPE=image/png:https://unitedskates-assets.sfo3.digitaloceanspaces.com/wp-content/uploads/sites/18/2024/09/family-glow-skate-11-22.png
END:VEVENT
END:VCALENDAR