BEGIN:VCALENDAR
VERSION:2.0
PRODID:-//Rink 46 - MLK Skating - ECPv6.15.20//NONSGML v1.0//EN
CALSCALE:GREGORIAN
METHOD:PUBLISH
X-WR-CALNAME:Rink 46 - MLK Skating
X-ORIGINAL-URL:https://www.unitedskates.com/mlk-skating
X-WR-CALDESC:Events for Rink 46 - MLK Skating
REFRESH-INTERVAL;VALUE=DURATION:PT1H
X-Robots-Tag:noindex
X-PUBLISHED-TTL:PT1H
BEGIN:VTIMEZONE
TZID:America/Chicago
BEGIN:DAYLIGHT
TZOFFSETFROM:-0600
TZOFFSETTO:-0500
TZNAME:CDT
DTSTART:20230312T080000
END:DAYLIGHT
BEGIN:STANDARD
TZOFFSETFROM:-0500
TZOFFSETTO:-0600
TZNAME:CST
DTSTART:20231105T070000
END:STANDARD
BEGIN:DAYLIGHT
TZOFFSETFROM:-0600
TZOFFSETTO:-0500
TZNAME:CDT
DTSTART:20240310T080000
END:DAYLIGHT
BEGIN:STANDARD
TZOFFSETFROM:-0500
TZOFFSETTO:-0600
TZNAME:CST
DTSTART:20241103T070000
END:STANDARD
BEGIN:DAYLIGHT
TZOFFSETFROM:-0600
TZOFFSETTO:-0500
TZNAME:CDT
DTSTART:20250309T080000
END:DAYLIGHT
BEGIN:STANDARD
TZOFFSETFROM:-0500
TZOFFSETTO:-0600
TZNAME:CST
DTSTART:20251102T070000
END:STANDARD
END:VTIMEZONE
BEGIN:VEVENT
DTSTART;TZID=America/Chicago:20241029T180000
DTEND;TZID=America/Chicago:20241029T200000
DTSTAMP:20260425T202242
CREATED:20240804T021613Z
LAST-MODIFIED:20240912T162211Z
UID:13566-1730224800-1730232000@www.unitedskates.com
SUMMARY:Public Skate & Bowl
DESCRIPTION:Dress like a Zombie and show us how you Roll!\n$5.00 Admission $4.00 Skate Rental OR \n$5.00 2 Games of Bowling $4.00 Shoe Rental \n$5.00 Spectator fee for Non-Skating OR Non-Bowling Adults \nEach Activity will need to be paid for separately. \n*All Guest\, ages 2-17 Must pay for admission and rental whether skating or not. \nChaperones are required for all ages. \n*TAXES ARE NOT INCLUDED
URL:https://www.unitedskates.com/mlk-skating/event/public-skate-bowl-2024-10-29/
LOCATION:Dr. Martin Luther King\, Jr. Park & Family Entertainment Center\, 1219 W. 76th St.\, Chicago\, IL\, 6020\, United States
CATEGORIES:Public Skates,Special Events
ATTACH;FMTTYPE=image/png:https://unitedskates-assets.sfo3.digitaloceanspaces.com/wp-content/uploads/sites/18/2024/08/Zombie-roll-2024.png
END:VEVENT
END:VCALENDAR