BEGIN:VCALENDAR
VERSION:2.0
PRODID:-//Rink 46 - MLK Skating - ECPv6.15.20//NONSGML v1.0//EN
CALSCALE:GREGORIAN
METHOD:PUBLISH
X-WR-CALNAME:Rink 46 - MLK Skating
X-ORIGINAL-URL:https://www.unitedskates.com/mlk-skating
X-WR-CALDESC:Events for Rink 46 - MLK Skating
REFRESH-INTERVAL;VALUE=DURATION:PT1H
X-Robots-Tag:noindex
X-PUBLISHED-TTL:PT1H
BEGIN:VTIMEZONE
TZID:America/Chicago
BEGIN:DAYLIGHT
TZOFFSETFROM:-0600
TZOFFSETTO:-0500
TZNAME:CDT
DTSTART:20250309T080000
END:DAYLIGHT
BEGIN:STANDARD
TZOFFSETFROM:-0500
TZOFFSETTO:-0600
TZNAME:CST
DTSTART:20251102T070000
END:STANDARD
BEGIN:DAYLIGHT
TZOFFSETFROM:-0600
TZOFFSETTO:-0500
TZNAME:CDT
DTSTART:20260308T080000
END:DAYLIGHT
BEGIN:STANDARD
TZOFFSETFROM:-0500
TZOFFSETTO:-0600
TZNAME:CST
DTSTART:20261101T070000
END:STANDARD
BEGIN:DAYLIGHT
TZOFFSETFROM:-0600
TZOFFSETTO:-0500
TZNAME:CDT
DTSTART:20270314T080000
END:DAYLIGHT
BEGIN:STANDARD
TZOFFSETFROM:-0500
TZOFFSETTO:-0600
TZNAME:CST
DTSTART:20271107T070000
END:STANDARD
END:VTIMEZONE
BEGIN:VEVENT
DTSTART;TZID=America/Chicago:20260531T143000
DTEND;TZID=America/Chicago:20260531T163000
DTSTAMP:20260421T102317
CREATED:20251226T191602Z
LAST-MODIFIED:20251226T205247Z
UID:18398-1780237800-1780245000@www.unitedskates.com
SUMMARY:🎉 Sunday Funday! General Public Skate or Bowl 🎉
DESCRIPTION:✨ Come join us for a Sunday filled with fun — skate or bowl\, it’s up to you! ✨ \n$11.00 Admission $4.00 Skate Rental OR \n$11.00 2 Games of Bowling $4.00 Shoe Rental \n$11.00 Spectator fee for Non-Skating OR Non-Bowling Adults \nEach Activity will need to be paid for separately \n*All Guest\, ages 2-17 Must pay for admission and rental whether skating or not. \n*Taxes are not included.
URL:https://www.unitedskates.com/mlk-skating/event/%f0%9f%8e%89-sunday-funday-general-public-skate-or-bowl-%f0%9f%8e%89-2/2026-05-31/
LOCATION:Dr. Martin Luther King\, Jr. Park & Family Entertainment Center\, 1219 W. 76th St.\, Chicago\, IL\, 6020\, United States
CATEGORIES:Public Skates
ATTACH;FMTTYPE=image/png:https://unitedskates-assets.sfo3.digitaloceanspaces.com/wp-content/uploads/sites/18/2025/08/General-Public.png
END:VEVENT
BEGIN:VEVENT
DTSTART;TZID=America/Chicago:20260531T170000
DTEND;TZID=America/Chicago:20260531T193000
DTSTAMP:20260421T102317
CREATED:20260102T232911Z
LAST-MODIFIED:20260409T182145Z
UID:18653-1780246800-1780255800@www.unitedskates.com
SUMMARY:✨🌌 SPRING COSMIC GLOW IN THE DARK ROLLER SKATE! 🛼✨
DESCRIPTION:Get ready to light up the skate floor at one of the most exciting glow events of the season! Bring the family\, grab your friends\, and experience an unforgettable night of cosmic lights\, great music\, and roller skating fun at the Dr. Martin Luther King Jr. Park & Family Entertainment Center. \n$11.00 Admission ✨ Includes a FREE Glow Stick! $5.00 Skate Rental OR \n$11.00 1 Game of Bowling ✨ Includes a FREE Glow Stick! $5.00 Shoe Rental \n$11.00 Spectator fee for Non-Skating OR Non-Bowling Adults \n🎮 Want even more fun? Add a 21 Credit Game Card for only $5! \nBring your crew and skate under the cosmic glow lights while enjoying great music\, arcade games\, and the best vibes on the South Side! \nEach Activity will need to be paid for separately \n*All Guest\, ages 2-17 Must pay for admission and rental whether skating or not. \n*Taxes are not included.
URL:https://www.unitedskates.com/mlk-skating/event/%f0%9f%8e%89-sunday-funday-general-public-skate-or-bowl-%f0%9f%8e%89-3-2026-05-31/
LOCATION:Dr. Martin Luther King\, Jr. Park & Family Entertainment Center\, 1219 W. 76th St.\, Chicago\, IL\, 6020\, United States
CATEGORIES:Family Events,Public Skates,Special Events
ATTACH;FMTTYPE=image/png:https://unitedskates-assets.sfo3.digitaloceanspaces.com/wp-content/uploads/sites/18/2026/01/Spring-Cosmic-Glow-in-the-Dark-Skate-2.png
END:VEVENT
END:VCALENDAR