BEGIN:VCALENDAR
VERSION:2.0
PRODID:-//Rink 46 - MLK Skating - ECPv6.15.20//NONSGML v1.0//EN
CALSCALE:GREGORIAN
METHOD:PUBLISH
X-WR-CALNAME:Rink 46 - MLK Skating
X-ORIGINAL-URL:https://www.unitedskates.com/mlk-skating
X-WR-CALDESC:Events for Rink 46 - MLK Skating
REFRESH-INTERVAL;VALUE=DURATION:PT1H
X-Robots-Tag:noindex
X-PUBLISHED-TTL:PT1H
BEGIN:VTIMEZONE
TZID:America/Chicago
BEGIN:DAYLIGHT
TZOFFSETFROM:-0600
TZOFFSETTO:-0500
TZNAME:CDT
DTSTART:20250309T080000
END:DAYLIGHT
BEGIN:STANDARD
TZOFFSETFROM:-0500
TZOFFSETTO:-0600
TZNAME:CST
DTSTART:20251102T070000
END:STANDARD
BEGIN:DAYLIGHT
TZOFFSETFROM:-0600
TZOFFSETTO:-0500
TZNAME:CDT
DTSTART:20260308T080000
END:DAYLIGHT
BEGIN:STANDARD
TZOFFSETFROM:-0500
TZOFFSETTO:-0600
TZNAME:CST
DTSTART:20261101T070000
END:STANDARD
BEGIN:DAYLIGHT
TZOFFSETFROM:-0600
TZOFFSETTO:-0500
TZNAME:CDT
DTSTART:20270314T080000
END:DAYLIGHT
BEGIN:STANDARD
TZOFFSETFROM:-0500
TZOFFSETTO:-0600
TZNAME:CST
DTSTART:20271107T070000
END:STANDARD
END:VTIMEZONE
BEGIN:VEVENT
DTSTART;TZID=America/Chicago:20260529T163000
DTEND;TZID=America/Chicago:20260529T183000
DTSTAMP:20260421T071206
CREATED:20260101T212319Z
LAST-MODIFIED:20260409T182647Z
UID:18581-1780072200-1780079400@www.unitedskates.com
SUMMARY:🍄🛼 CHEAP SKATE WITH MARIO & LUIGI 🛼🍄
DESCRIPTION:Get ready for a SUPER fun roller skating adventure with everyone’s favorite gaming brothers! 🎮✨ Join Mario & Luigi as they roll into the rink for an exciting evening full of skating\, music\, and photo opportunities! \n📸 Meet Mario & Luigi and snap a fun photo to share on your socials! Bring the kids\, bring your friends\, and come light up the rink for a fun-filled roller skating party you don’t want to miss! \n💻 SAVE $1 when you buy ONLINE! (Tickets will be $7)⏳ Beat the rush — tickets WILL sell out FAST \n$8.00 Admission $5.00 Skate Rental OR \n$8.00  1 Game of Bowling $5.00 Shoe Rental \n$8.00 Spectator fee for Non-Skating OR Non-Bowling Adults \nEach Activity will need to be paid for separately. \n*All Guest\, ages 2-17 Must pay for admission and rental whether skating or not. \n*ALL TICKET SALES FINAL. NO REFUNDS. TAXES ARE NOT INCLUDED
URL:https://www.unitedskates.com/mlk-skating/event/%f0%9f%94%a5-friday-general-public-skate-or-bowl-i%f0%9f%94%a5-2026-05-29/
LOCATION:Dr. Martin Luther King\, Jr. Park & Family Entertainment Center\, 1219 W. 76th St.\, Chicago\, IL\, 6020\, United States
CATEGORIES:Family Events,Public Skates,Special Events
ATTACH;FMTTYPE=image/jpeg:https://unitedskates-assets.sfo3.digitaloceanspaces.com/wp-content/uploads/sites/18/2026/01/Cheap-Skate-with-Character.jpg
END:VEVENT
BEGIN:VEVENT
DTSTART;TZID=America/Chicago:20260529T190000
DTEND;TZID=America/Chicago:20260529T213000
DTSTAMP:20260421T071206
CREATED:20260101T211643Z
LAST-MODIFIED:20260219T211156Z
UID:18538-1780081200-1780090200@www.unitedskates.com
SUMMARY:🔥 Friday General Public Skate or Bowl II🔥
DESCRIPTION:Enjoy some fun for less with our $11 admission! 🎳 Skate or bowl — your choice! \n💻 SAVE $1 when you buy ONLINE! (Tickets will be $10)⏳ Beat the rush — tickets WILL sell out FAST \n$11.00 Admission $5.00 Skate Rental OR \n$11.00  1 Game of Bowling $5.00 Shoe Rental \n$11.00 Spectator fee for Non-Skating OR Non-Bowling Adults \nEach Activity will need to be paid for separately. \n*All Guest\, ages 2-17 Must pay for admission and rental whether skating or not. \n*TAXES ARE NOT INCLUDED
URL:https://www.unitedskates.com/mlk-skating/event/%f0%9f%94%a5-friday-general-public-skate-or-bowl-ii%f0%9f%94%a5/2026-05-29/
LOCATION:Dr. Martin Luther King\, Jr. Park & Family Entertainment Center\, 1219 W. 76th St.\, Chicago\, IL\, 6020\, United States
CATEGORIES:Public Skates
ATTACH;FMTTYPE=image/png:https://unitedskates-assets.sfo3.digitaloceanspaces.com/wp-content/uploads/sites/18/2025/08/General-Public.png
END:VEVENT
END:VCALENDAR