BEGIN:VCALENDAR
VERSION:2.0
PRODID:-//Rink 46 - MLK Skating - ECPv6.15.20//NONSGML v1.0//EN
CALSCALE:GREGORIAN
METHOD:PUBLISH
X-WR-CALNAME:Rink 46 - MLK Skating
X-ORIGINAL-URL:https://www.unitedskates.com/mlk-skating
X-WR-CALDESC:Events for Rink 46 - MLK Skating
REFRESH-INTERVAL;VALUE=DURATION:PT1H
X-Robots-Tag:noindex
X-PUBLISHED-TTL:PT1H
BEGIN:VTIMEZONE
TZID:America/Chicago
BEGIN:DAYLIGHT
TZOFFSETFROM:-0600
TZOFFSETTO:-0500
TZNAME:CDT
DTSTART:20250309T080000
END:DAYLIGHT
BEGIN:STANDARD
TZOFFSETFROM:-0500
TZOFFSETTO:-0600
TZNAME:CST
DTSTART:20251102T070000
END:STANDARD
BEGIN:DAYLIGHT
TZOFFSETFROM:-0600
TZOFFSETTO:-0500
TZNAME:CDT
DTSTART:20260308T080000
END:DAYLIGHT
BEGIN:STANDARD
TZOFFSETFROM:-0500
TZOFFSETTO:-0600
TZNAME:CST
DTSTART:20261101T070000
END:STANDARD
BEGIN:DAYLIGHT
TZOFFSETFROM:-0600
TZOFFSETTO:-0500
TZNAME:CDT
DTSTART:20270314T080000
END:DAYLIGHT
BEGIN:STANDARD
TZOFFSETFROM:-0500
TZOFFSETTO:-0600
TZNAME:CST
DTSTART:20271107T070000
END:STANDARD
END:VTIMEZONE
BEGIN:VEVENT
DTSTART;TZID=America/Chicago:20260125T143000
DTEND;TZID=America/Chicago:20260125T163000
DTSTAMP:20260419T083648
CREATED:20251226T191602Z
LAST-MODIFIED:20251226T205235Z
UID:18380-1769351400-1769358600@www.unitedskates.com
SUMMARY:🎉 Sunday Funday! General Public Skate or Bowl 🎉
DESCRIPTION:✨ Come join us for a Sunday filled with fun — skate or bowl\, it’s up to you! ✨ \n$11.00 Admission $4.00 Skate Rental OR \n$11.00 2 Games of Bowling $4.00 Shoe Rental \n$11.00 Spectator fee for Non-Skating OR Non-Bowling Adults \nEach Activity will need to be paid for separately \n*All Guest\, ages 2-17 Must pay for admission and rental whether skating or not. \n*Taxes are not included.
URL:https://www.unitedskates.com/mlk-skating/event/%f0%9f%8e%89-sunday-funday-general-public-skate-or-bowl-%f0%9f%8e%89-2/2026-01-25/
LOCATION:Dr. Martin Luther King\, Jr. Park & Family Entertainment Center\, 1219 W. 76th St.\, Chicago\, IL\, 6020\, United States
CATEGORIES:Public Skates
ATTACH;FMTTYPE=image/png:https://unitedskates-assets.sfo3.digitaloceanspaces.com/wp-content/uploads/sites/18/2025/08/General-Public.png
END:VEVENT
BEGIN:VEVENT
DTSTART;TZID=America/Chicago:20260125T170000
DTEND;TZID=America/Chicago:20260125T193000
DTSTAMP:20260419T083648
CREATED:20251128T041822Z
LAST-MODIFIED:20251230T224656Z
UID:18348-1769360400-1769369400@www.unitedskates.com
SUMMARY:✨ Character Glow Roll! ✨
DESCRIPTION:✨ Join Our Characters for a Glow Skatin’ Party and Light Up the Rink! ✨Get ready for glowing lights\, great pop music\, and some festive café treats!Bring your friends and roll into an evening of FUN! 🎉🛼\n\n\n💡 Glow Skatin’ Party featuring your favorite characters! \n🎶 Great Pop Music🎉 Café Specials \n\n\n$12.00 Admission $4.00 Skate Rental OR\n\n\n\n$12.00 2 Games of Bowling $4.00 Shoe Rental\n\n\n\n$11.00 Spectator fee for Non-Skating OR Non-Bowling Adults\n\n\n\nEach Activity will need to be paid for separately.\n\n\n\n*All Guest\, ages 2-17 Must pay for admission and rental whether skating or not.\n\n\n\n*TAXES ARE NOT INCLUDED
URL:https://www.unitedskates.com/mlk-skating/event/%e2%9c%a8-character-glow-roll-%e2%9c%a8/
LOCATION:Dr. Martin Luther King\, Jr. Park & Family Entertainment Center\, 1219 W. 76th St.\, Chicago\, IL\, 6020\, United States
CATEGORIES:Family Events,Public Skates,Special Events
ATTACH;FMTTYPE=image/png:https://unitedskates-assets.sfo3.digitaloceanspaces.com/wp-content/uploads/sites/18/2025/11/MLK-Character-Glow-Roll-01-25-26.png
END:VEVENT
END:VCALENDAR