BEGIN:VCALENDAR
VERSION:2.0
PRODID:-//Rink 46 - MLK Skating - ECPv6.15.20//NONSGML v1.0//EN
CALSCALE:GREGORIAN
METHOD:PUBLISH
X-WR-CALNAME:Rink 46 - MLK Skating
X-ORIGINAL-URL:https://www.unitedskates.com/mlk-skating
X-WR-CALDESC:Events for Rink 46 - MLK Skating
REFRESH-INTERVAL;VALUE=DURATION:PT1H
X-Robots-Tag:noindex
X-PUBLISHED-TTL:PT1H
BEGIN:VTIMEZONE
TZID:America/Chicago
BEGIN:DAYLIGHT
TZOFFSETFROM:-0600
TZOFFSETTO:-0500
TZNAME:CDT
DTSTART:20240310T080000
END:DAYLIGHT
BEGIN:STANDARD
TZOFFSETFROM:-0500
TZOFFSETTO:-0600
TZNAME:CST
DTSTART:20241103T070000
END:STANDARD
BEGIN:DAYLIGHT
TZOFFSETFROM:-0600
TZOFFSETTO:-0500
TZNAME:CDT
DTSTART:20250309T080000
END:DAYLIGHT
BEGIN:STANDARD
TZOFFSETFROM:-0500
TZOFFSETTO:-0600
TZNAME:CST
DTSTART:20251102T070000
END:STANDARD
BEGIN:DAYLIGHT
TZOFFSETFROM:-0600
TZOFFSETTO:-0500
TZNAME:CDT
DTSTART:20260308T080000
END:DAYLIGHT
BEGIN:STANDARD
TZOFFSETFROM:-0500
TZOFFSETTO:-0600
TZNAME:CST
DTSTART:20261101T070000
END:STANDARD
BEGIN:DAYLIGHT
TZOFFSETFROM:-0600
TZOFFSETTO:-0500
TZNAME:CDT
DTSTART:20270314T080000
END:DAYLIGHT
BEGIN:STANDARD
TZOFFSETFROM:-0500
TZOFFSETTO:-0600
TZNAME:CST
DTSTART:20271107T070000
END:STANDARD
END:VTIMEZONE
BEGIN:VEVENT
DTSTART;VALUE=DATE:20251219
DTEND;VALUE=DATE:20260106
DTSTAMP:20260419T141542
CREATED:20251112T005917Z
LAST-MODIFIED:20251202T151501Z
UID:18176-1766120400-1767589199@www.unitedskates.com
SUMMARY:❄️🎳 Winter Break Fun at Dr. MLK Skating & Bowling Center! 🛼☃️
DESCRIPTION:School’s out — and it’s time to roll or bowl! 🙌Join us starting Friday\, December 19th through Sunday\, January 4th for a full schedule of winter fun and special events the whole family will love! 🎉 \nFrom themed skate parties to character visits and holiday celebrations\, there’s something happening every day during Winter Break! 🎅✨ \n🎟️ Tickets can be purchased separately for each event — so you can pick your favorites or join us for them all! \n📍 Dr. Martin Luther King Jr. Skating & Bowling Center1219 W. 76th St.\, Chicago📞 312-747-2602 | 🌐 www.mlkskating.com \nLet’s make this Winter Break unforgettable — with skating\, bowling\, music\, and memories that’ll keep you smiling into the New Year! ❄️💙
URL:https://www.unitedskates.com/mlk-skating/event/%e2%9d%84%ef%b8%8f%f0%9f%8e%b3-winter-break-fun-at-dr-mlk-skating-bowling-center-%f0%9f%9b%bc%e2%98%83%ef%b8%8f/
LOCATION:Dr. Martin Luther King\, Jr. Park & Family Entertainment Center\, 1219 W. 76th St.\, Chicago\, IL\, 6020\, United States
CATEGORIES:Family Events,Public Skates,Special Events
ATTACH;FMTTYPE=image/jpeg:https://unitedskates-assets.sfo3.digitaloceanspaces.com/wp-content/uploads/sites/18/2025/12/Rink-46-Winter-Break-2025-1.jpg
END:VEVENT
BEGIN:VEVENT
DTSTART;TZID=America/Chicago:20251220T190000
DTEND;TZID=America/Chicago:20251220T220000
DTSTAMP:20260419T141542
CREATED:20220504T001059Z
LAST-MODIFIED:20251111T021338Z
UID:16019-1766257200-1766268000@www.unitedskates.com
SUMMARY:❄️☃️Frosty V. Olaf Snowball Skate or Bowl❄️☃️
DESCRIPTION:❄️☃️ It’s a Snowball Showdown! FROSTY vs. OLAF! 💙Grab your friends and family for an epic indoor snowball fight\, skating\, bowling\, and tons of winter fun — all without the cold! 🧤 \n📅 Friday\, December 20th\, 2025🕖 7:00pm – 10:00pm💲 Admission: $13 | Bowl Games: $13 | Rentals: $4 \n🎉 Expect snowball battles\, music\, games\, and magical holiday vibes all night long!Who will win the snowball fight — Team Frosty or Team Olaf? Come find out! ❄️ \n❄️ Snowball fight will take place at the last 30 Minutes of the session on the Rink! \n👉 Tag your snow squad and plan your night now at www.MLKskating.com! \n\n\n\nEach Activity will need to be paid for separately. \n\n\n\n*All Guest\, ages 2-17 Must pay for admission and rental whether skating or not.  \n\n\n\n\n\n*Taxes are not included
URL:https://www.unitedskates.com/mlk-skating/event/glow-saturdays-public-skate-or-bowl-session-3-2023-07-22-2025-12-20/
LOCATION:Dr. Martin Luther King\, Jr. Park & Family Entertainment Center\, 1219 W. 76th St.\, Chicago\, IL\, 6020\, United States
CATEGORIES:Family Events,Public Skates
ATTACH;FMTTYPE=image/png:https://unitedskates-assets.sfo3.digitaloceanspaces.com/wp-content/uploads/sites/18/2022/05/Frosty-vs-Olaf-Indoor-Snowball-Fight.png
END:VEVENT
END:VCALENDAR