BEGIN:VCALENDAR
VERSION:2.0
PRODID:-//Rink 46 - MLK Skating - ECPv6.15.20//NONSGML v1.0//EN
CALSCALE:GREGORIAN
METHOD:PUBLISH
X-ORIGINAL-URL:https://www.unitedskates.com/mlk-skating
X-WR-CALDESC:Events for Rink 46 - MLK Skating
REFRESH-INTERVAL;VALUE=DURATION:PT1H
X-Robots-Tag:noindex
X-PUBLISHED-TTL:PT1H
BEGIN:VTIMEZONE
TZID:America/Chicago
BEGIN:DAYLIGHT
TZOFFSETFROM:-0600
TZOFFSETTO:-0500
TZNAME:CDT
DTSTART:20240310T080000
END:DAYLIGHT
BEGIN:STANDARD
TZOFFSETFROM:-0500
TZOFFSETTO:-0600
TZNAME:CST
DTSTART:20241103T070000
END:STANDARD
BEGIN:DAYLIGHT
TZOFFSETFROM:-0600
TZOFFSETTO:-0500
TZNAME:CDT
DTSTART:20250309T080000
END:DAYLIGHT
BEGIN:STANDARD
TZOFFSETFROM:-0500
TZOFFSETTO:-0600
TZNAME:CST
DTSTART:20251102T070000
END:STANDARD
BEGIN:DAYLIGHT
TZOFFSETFROM:-0600
TZOFFSETTO:-0500
TZNAME:CDT
DTSTART:20260308T080000
END:DAYLIGHT
BEGIN:STANDARD
TZOFFSETFROM:-0500
TZOFFSETTO:-0600
TZNAME:CST
DTSTART:20261101T070000
END:STANDARD
BEGIN:DAYLIGHT
TZOFFSETFROM:-0600
TZOFFSETTO:-0500
TZNAME:CDT
DTSTART:20270314T080000
END:DAYLIGHT
BEGIN:STANDARD
TZOFFSETFROM:-0500
TZOFFSETTO:-0600
TZNAME:CST
DTSTART:20271107T070000
END:STANDARD
END:VTIMEZONE
BEGIN:VEVENT
DTSTART;VALUE=DATE:20251219
DTEND;VALUE=DATE:20260106
DTSTAMP:20260419T204853
CREATED:20251112T005917Z
LAST-MODIFIED:20251202T151501Z
UID:18176-1766120400-1767589199@www.unitedskates.com
SUMMARY:❄️🎳 Winter Break Fun at Dr. MLK Skating & Bowling Center! 🛼☃️
DESCRIPTION:School’s out — and it’s time to roll or bowl! 🙌Join us starting Friday\, December 19th through Sunday\, January 4th for a full schedule of winter fun and special events the whole family will love! 🎉 \nFrom themed skate parties to character visits and holiday celebrations\, there’s something happening every day during Winter Break! 🎅✨ \n🎟️ Tickets can be purchased separately for each event — so you can pick your favorites or join us for them all! \n📍 Dr. Martin Luther King Jr. Skating & Bowling Center1219 W. 76th St.\, Chicago📞 312-747-2602 | 🌐 www.mlkskating.com \nLet’s make this Winter Break unforgettable — with skating\, bowling\, music\, and memories that’ll keep you smiling into the New Year! ❄️💙
URL:https://www.unitedskates.com/mlk-skating/event/%e2%9d%84%ef%b8%8f%f0%9f%8e%b3-winter-break-fun-at-dr-mlk-skating-bowling-center-%f0%9f%9b%bc%e2%98%83%ef%b8%8f/
LOCATION:Dr. Martin Luther King\, Jr. Park & Family Entertainment Center\, 1219 W. 76th St.\, Chicago\, IL\, 6020\, United States
CATEGORIES:Family Events,Public Skates,Special Events
ATTACH;FMTTYPE=image/jpeg:https://unitedskates-assets.sfo3.digitaloceanspaces.com/wp-content/uploads/sites/18/2025/12/Rink-46-Winter-Break-2025-1.jpg
END:VEVENT
BEGIN:VEVENT
DTSTART;TZID=America/Chicago:20251219T163000
DTEND;TZID=America/Chicago:20251219T183000
DTSTAMP:20260419T204853
CREATED:20251118T222149Z
LAST-MODIFIED:20251118T222149Z
UID:18264-1766161800-1766169000@www.unitedskates.com
SUMMARY:❄️🛼 WINTER BREAK HALF-PRICE SKATE OR BOWL! 🎳❄️
DESCRIPTION:💥 Kick off Winter Break with BIG savings and even BIGGER fun! Bring your friends\, bring the family\, and start the break with two hours of pure FUN at MLK! 🙌✨ \n$5.50 Admission $4.00 Skate Rental OR \n$5.50  1 Game of Bowling $4.00 Shoe Rental \n$5.50 Spectator fee for Non-Skating OR Non-Bowling Adults \nEach Activity will need to be paid for separately. \n*All Guest\, ages 2-17 Must pay for admission and rental whether skating or not. \n*TAXES ARE NOT INCLUDED
URL:https://www.unitedskates.com/mlk-skating/event/%e2%9d%84%ef%b8%8f%f0%9f%9b%bc-winter-break-half-price-skate-or-bowl-%f0%9f%8e%b3%e2%9d%84%ef%b8%8f/
LOCATION:Dr. Martin Luther King\, Jr. Park & Family Entertainment Center\, 1219 W. 76th St.\, Chicago\, IL\, 6020\, United States
CATEGORIES:Family Events,Public Skates,Special Events
ATTACH;FMTTYPE=image/png:https://unitedskates-assets.sfo3.digitaloceanspaces.com/wp-content/uploads/sites/18/2025/11/MLK-Half-price-121925-1.png
END:VEVENT
BEGIN:VEVENT
DTSTART;TZID=America/Chicago:20251219T190000
DTEND;TZID=America/Chicago:20251219T213000
DTSTAMP:20260419T204853
CREATED:20251111T005833Z
LAST-MODIFIED:20251111T005833Z
UID:18153-1766170800-1766179800@www.unitedskates.com
SUMMARY:💚 Grinch Ugly Sweater Skate or Bowl 💚
DESCRIPTION:🎄 Don’t let the Grinch steal your holiday fun! 🎅Grab your ugly sweaters\, lace up your skates\, or hit the bowling lanes for a night full of laughs\, music\, and holiday cheer! 🌟 \n🗓 Friday\, December 19 | 7pm–9:30pm🛼 Skate Admission: $11 | Skate Rental: $4🎳 Bowling Games: $11 | Shoe Rental: $4✨ Get a glowstick for just $1! \nEnjoy:🎅 Visits from The Grinch & Friends👕 Ugly Sweater Contest🍕 Holiday Café Deals🎶 Holiday Music \nDon’t miss out — it’s going to be a Grinch-tastic good time for the whole family! \nEach Activity will need to be paid for separately. \n*All Guest\, ages 2-17 Must pay for admission and rental whether skating or not. \n*TAXES ARE NOT INCLUDED
URL:https://www.unitedskates.com/mlk-skating/event/%f0%9f%92%9a-grinch-ugly-sweater-skate-or-bowl-%f0%9f%92%9a/
LOCATION:Dr. Martin Luther King\, Jr. Park & Family Entertainment Center\, 1219 W. 76th St.\, Chicago\, IL\, 6020\, United States
CATEGORIES:Family Events,Public Skates,Special Events
ATTACH;FMTTYPE=image/png:https://unitedskates-assets.sfo3.digitaloceanspaces.com/wp-content/uploads/sites/18/2025/11/AYCE-Grinch-Skate.png
END:VEVENT
END:VCALENDAR