BEGIN:VCALENDAR
VERSION:2.0
PRODID:-//Rink 46 - MLK Skating - ECPv6.15.20//NONSGML v1.0//EN
CALSCALE:GREGORIAN
METHOD:PUBLISH
X-ORIGINAL-URL:https://www.unitedskates.com/mlk-skating
X-WR-CALDESC:Events for Rink 46 - MLK Skating
REFRESH-INTERVAL;VALUE=DURATION:PT1H
X-Robots-Tag:noindex
X-PUBLISHED-TTL:PT1H
BEGIN:VTIMEZONE
TZID:America/Chicago
BEGIN:DAYLIGHT
TZOFFSETFROM:-0600
TZOFFSETTO:-0500
TZNAME:CDT
DTSTART:20240310T080000
END:DAYLIGHT
BEGIN:STANDARD
TZOFFSETFROM:-0500
TZOFFSETTO:-0600
TZNAME:CST
DTSTART:20241103T070000
END:STANDARD
BEGIN:DAYLIGHT
TZOFFSETFROM:-0600
TZOFFSETTO:-0500
TZNAME:CDT
DTSTART:20250309T080000
END:DAYLIGHT
BEGIN:STANDARD
TZOFFSETFROM:-0500
TZOFFSETTO:-0600
TZNAME:CST
DTSTART:20251102T070000
END:STANDARD
BEGIN:DAYLIGHT
TZOFFSETFROM:-0600
TZOFFSETTO:-0500
TZNAME:CDT
DTSTART:20260308T080000
END:DAYLIGHT
BEGIN:STANDARD
TZOFFSETFROM:-0500
TZOFFSETTO:-0600
TZNAME:CST
DTSTART:20261101T070000
END:STANDARD
END:VTIMEZONE
BEGIN:VEVENT
DTSTART;TZID=America/Chicago:20251205T163000
DTEND;TZID=America/Chicago:20251205T183000
DTSTAMP:20260419T191133
CREATED:20250728T225943Z
LAST-MODIFIED:20251205T210402Z
UID:17511-1764952200-1764959400@www.unitedskates.com
SUMMARY:🔥 $8 Friday Neon Glow General Public Skate or Bowl 🔥
DESCRIPTION:🎉 Fun Just Got Cheaper — Only $8 Admission! 🎉 🍕 Feeling hungry? Grab a Whole Cheese Pizza & Pitcher Combo for only $20+tax!Looking for affordable family fun? We’ve got you covered! Choose your adventure: \n$8.00 Admission $4.00 Skate Rental OR \n$8.00 1 Game of Bowling $4.00 Shoe Rental \n$8.00 Spectator fee for Non-Skating OR Non-Bowling Adults \nEach Activity will need to be paid for separately. \n*All Guest\, ages 2-17 Must pay for admission and rental whether skating or not. \n*TAXES ARE NOT INCLUDED\nCome make memories without breaking the bank — see you soon! 🙌
URL:https://www.unitedskates.com/mlk-skating/event/%f0%9f%94%a5-friday-general-public-skate-or-bowl-l-%f0%9f%94%a5-2025-09-19/
LOCATION:Dr. Martin Luther King\, Jr. Park & Family Entertainment Center\, 1219 W. 76th St.\, Chicago\, IL\, 6020\, United States
CATEGORIES:Family Events,Public Skates,Special Events
ATTACH;FMTTYPE=image/png:https://unitedskates-assets.sfo3.digitaloceanspaces.com/wp-content/uploads/sites/18/2025/07/8.00-FRIDAYS-2025.png
END:VEVENT
BEGIN:VEVENT
DTSTART;TZID=America/Chicago:20251205T190000
DTEND;TZID=America/Chicago:20251205T213000
DTSTAMP:20260419T191133
CREATED:20250728T231326Z
LAST-MODIFIED:20250826T211904Z
UID:17721-1764961200-1764970200@www.unitedskates.com
SUMMARY:🔥 Friday General Public Skate or Bowl ll🔥
DESCRIPTION:Enjoy some fun for less with our $11 admission! 🎳 Skate or bowl — your choice! \n$11.00 Admission $4.00 Skate Rental OR \n$11.00  1 Game of Bowling $4.00 Shoe Rental \n$11.00 Spectator fee for Non-Skating OR Non-Bowling Adults \nEach Activity will need to be paid for separately. \n*All Guest\, ages 2-17 Must pay for admission and rental whether skating or not. \n*TAXES ARE NOT INCLUDED
URL:https://www.unitedskates.com/mlk-skating/event/%f0%9f%94%a5-friday-general-public-skate-or-bowl-ll%f0%9f%94%a5/2025-12-05/
LOCATION:Dr. Martin Luther King\, Jr. Park & Family Entertainment Center\, 1219 W. 76th St.\, Chicago\, IL\, 6020\, United States
CATEGORIES:Public Skates
ATTACH;FMTTYPE=image/png:https://unitedskates-assets.sfo3.digitaloceanspaces.com/wp-content/uploads/sites/18/2025/08/General-Public.png
END:VEVENT
END:VCALENDAR