BEGIN:VCALENDAR
VERSION:2.0
PRODID:-//Rink 46 - MLK Skating - ECPv6.15.20//NONSGML v1.0//EN
CALSCALE:GREGORIAN
METHOD:PUBLISH
X-ORIGINAL-URL:https://www.unitedskates.com/mlk-skating
X-WR-CALDESC:Events for Rink 46 - MLK Skating
REFRESH-INTERVAL;VALUE=DURATION:PT1H
X-Robots-Tag:noindex
X-PUBLISHED-TTL:PT1H
BEGIN:VTIMEZONE
TZID:America/Chicago
BEGIN:DAYLIGHT
TZOFFSETFROM:-0600
TZOFFSETTO:-0500
TZNAME:CDT
DTSTART:20240310T080000
END:DAYLIGHT
BEGIN:STANDARD
TZOFFSETFROM:-0500
TZOFFSETTO:-0600
TZNAME:CST
DTSTART:20241103T070000
END:STANDARD
BEGIN:DAYLIGHT
TZOFFSETFROM:-0600
TZOFFSETTO:-0500
TZNAME:CDT
DTSTART:20250309T080000
END:DAYLIGHT
BEGIN:STANDARD
TZOFFSETFROM:-0500
TZOFFSETTO:-0600
TZNAME:CST
DTSTART:20251102T070000
END:STANDARD
BEGIN:DAYLIGHT
TZOFFSETFROM:-0600
TZOFFSETTO:-0500
TZNAME:CDT
DTSTART:20260308T080000
END:DAYLIGHT
BEGIN:STANDARD
TZOFFSETFROM:-0500
TZOFFSETTO:-0600
TZNAME:CST
DTSTART:20261101T070000
END:STANDARD
END:VTIMEZONE
BEGIN:VEVENT
DTSTART;TZID=America/Chicago:20251121T163000
DTEND;TZID=America/Chicago:20251130T193000
DTSTAMP:20260420T061327
CREATED:20251110T161017Z
LAST-MODIFIED:20251110T161017Z
UID:18103-1763742600-1764531000@www.unitedskates.com
SUMMARY:🦃 Thanksgiving Break Skates at MLK Skating & Bowling Center! 🎳✨
DESCRIPTION:School’s out — and the fun is rolling at Dr. Martin Luther King Jr. Park & Family Entertainment Center in Chicago!Join us all week long for Thanksgiving Break Skates and Bowling Sessions packed with themed events\, great music\, and family fun. \n🛼 Enjoy sessions like: \n\n\n🦸‍♀️ Glow 90’s Jam & Glow Pajama Jam \n\n\n🧵 Thanksgiving with Stitch & Friendsgiving with Moana \n\n\n🍗 Thanksgiving Skate Party on Thursday night \n\n\n🕺 Hallelujah Festival\, Grinch’s Waffle Skate\, and more! \n\n\n🎟️ Admission: $5–$13 per session | 🎳 Skate or Shoe Rental: $4 \nBring your family\, friends\, and holiday spirit — the celebration never stops at MLK Skating & Bowling Center!
URL:https://www.unitedskates.com/mlk-skating/event/%f0%9f%a6%83-thanksgiving-break-skates-at-mlk-skating-bowling-center-%f0%9f%8e%b3%e2%9c%a8/
LOCATION:IL
CATEGORIES:Family Events,Public Skates,Special Events
ATTACH;FMTTYPE=image/jpeg:https://unitedskates-assets.sfo3.digitaloceanspaces.com/wp-content/uploads/sites/18/2025/11/46-Thanksgiving-Break-Roller-Skate-2025-8.5-x-11-in-scaled.jpg
END:VEVENT
BEGIN:VEVENT
DTSTART;TZID=America/Chicago:20251127T190000
DTEND;TZID=America/Chicago:20251127T220000
DTSTAMP:20260420T061327
CREATED:20251006T004950Z
LAST-MODIFIED:20251006T004950Z
UID:17979-1764270000-1764280800@www.unitedskates.com
SUMMARY:🦃✨ Thanksgiving Skate or Bowl Party! ✨🦃
DESCRIPTION:Are you ready to roll after dinner? 🛼🍗Join our Roller Turkey for a Glow-Style Roller Skating Party and light up the rink with your friends and family! 💡🎶 \nEnjoy great music\, fun café specials\, and an evening full of post-dinner fun for everyone! 😄 \n$10.00 Admission $4.00 Skate Rental OR \n$10.00 1 Game of Bowling $4.00 Shoe Rental \n$10.00 Spectator fee for Non-Skating OR Non-Bowling Adults \nEach Activity will need to be paid for separately \n*All Guest\, ages 2-17 Must pay for admission and rental whether skating or not. \n*Taxes are not included.
URL:https://www.unitedskates.com/mlk-skating/event/%f0%9f%a6%83%e2%9c%a8-thanksgiving-skate-or-bowl-party-%e2%9c%a8%f0%9f%a6%83/
LOCATION:Dr. Martin Luther King\, Jr. Park & Family Entertainment Center\, 1219 W. 76th St.\, Chicago\, IL\, 6020\, United States
CATEGORIES:Family Events,Public Skates,Special Events
ATTACH;FMTTYPE=image/png:https://unitedskates-assets.sfo3.digitaloceanspaces.com/wp-content/uploads/sites/18/2025/10/Skate-your-Turkey-Off-2025.png
END:VEVENT
END:VCALENDAR