BEGIN:VCALENDAR
VERSION:2.0
PRODID:-//Rink 46 - MLK Skating - ECPv6.15.20//NONSGML v1.0//EN
CALSCALE:GREGORIAN
METHOD:PUBLISH
X-ORIGINAL-URL:https://www.unitedskates.com/mlk-skating
X-WR-CALDESC:Events for Rink 46 - MLK Skating
REFRESH-INTERVAL;VALUE=DURATION:PT1H
X-Robots-Tag:noindex
X-PUBLISHED-TTL:PT1H
BEGIN:VTIMEZONE
TZID:America/Chicago
BEGIN:DAYLIGHT
TZOFFSETFROM:-0600
TZOFFSETTO:-0500
TZNAME:CDT
DTSTART:20240310T080000
END:DAYLIGHT
BEGIN:STANDARD
TZOFFSETFROM:-0500
TZOFFSETTO:-0600
TZNAME:CST
DTSTART:20241103T070000
END:STANDARD
BEGIN:DAYLIGHT
TZOFFSETFROM:-0600
TZOFFSETTO:-0500
TZNAME:CDT
DTSTART:20250309T080000
END:DAYLIGHT
BEGIN:STANDARD
TZOFFSETFROM:-0500
TZOFFSETTO:-0600
TZNAME:CST
DTSTART:20251102T070000
END:STANDARD
BEGIN:DAYLIGHT
TZOFFSETFROM:-0600
TZOFFSETTO:-0500
TZNAME:CDT
DTSTART:20260308T080000
END:DAYLIGHT
BEGIN:STANDARD
TZOFFSETFROM:-0500
TZOFFSETTO:-0600
TZNAME:CST
DTSTART:20261101T070000
END:STANDARD
END:VTIMEZONE
BEGIN:VEVENT
DTSTART;TZID=America/Chicago:20251109T143000
DTEND;TZID=America/Chicago:20251109T163000
DTSTAMP:20260420T161415
CREATED:20250318T161358Z
LAST-MODIFIED:20250826T210548Z
UID:17434-1762698600-1762705800@www.unitedskates.com
SUMMARY:🎉 Sunday Funday! General Public Skate or Bowl 🎉
DESCRIPTION:✨ Come join us for a Sunday filled with fun — skate or bowl\, it’s up to you! ✨ \n$11.00 Admission $4.00 Skate Rental OR \n$11.00 1 Game of Bowling $4.00 Shoe Rental \n$11.00 Spectator fee for Non-Skating OR Non-Bowling Adults \nEach Activity will need to be paid for separately \n*All Guest\, ages 2-17 Must pay for admission and rental whether skating or not. \n*Taxes are not included.
URL:https://www.unitedskates.com/mlk-skating/event/sunday-funday-general-public-skate-or-bowl-2025-08-24/2025-11-09/
LOCATION:Dr. Martin Luther King\, Jr. Park & Family Entertainment Center\, 1219 W. 76th St.\, Chicago\, IL\, 6020\, United States
CATEGORIES:Public Skates
ATTACH;FMTTYPE=image/png:https://unitedskates-assets.sfo3.digitaloceanspaces.com/wp-content/uploads/sites/18/2025/08/General-Public.png
END:VEVENT
BEGIN:VEVENT
DTSTART;TZID=America/Chicago:20251109T170000
DTEND;TZID=America/Chicago:20251109T193000
DTSTAMP:20260420T161415
CREATED:20250609T160854Z
LAST-MODIFIED:20251028T172553Z
UID:17614-1762707600-1762716600@www.unitedskates.com
SUMMARY:🍫✨ Rice Krispies & Hot Cocoa Skate or Bowl! ✨🍫
DESCRIPTION:Warm up with some sweet treats and cool moves on the rink (or lanes)! 😋Join us for a cozy Sunday evening filled with skating\, bowling\, and yummy goodies. \nEach paid admission includes a gooey Rice Krispies treat 🍪 and a cup of delicious hot cocoa from our Hot Chocolate Bar! ☕️Perfect for families\, friends\, and anyone who loves a sweet time out! ❤️ \n$13.00 Admission $4.00 Skate Rental OR \n$13.00 1 Game of Bowling $4.00 Shoe Rental \n$11.00 Spectator fee for Non-Skating OR Non-Bowling Adults \nEach Activity will need to be paid for separately \n*All Guest\, ages 2-17 Must pay for admission and rental whether skating or not. \n*Taxes are not included.
URL:https://www.unitedskates.com/mlk-skating/event/%f0%9f%8e%89-sunday-funday-general-public-skate-or-bowl-%f0%9f%8e%89-2025-08-03-2025-11-09/
LOCATION:Dr. Martin Luther King\, Jr. Park & Family Entertainment Center\, 1219 W. 76th St.\, Chicago\, IL\, 6020\, United States
CATEGORIES:Family Events,Public Skates,Special Events
ATTACH;FMTTYPE=image/png:https://unitedskates-assets.sfo3.digitaloceanspaces.com/wp-content/uploads/sites/18/2025/06/Rice-Krispy-Treat-Hot-Cocoa-Skate.png
END:VEVENT
END:VCALENDAR