BEGIN:VCALENDAR
VERSION:2.0
PRODID:-//Rink 46 - MLK Skating - ECPv6.15.20//NONSGML v1.0//EN
CALSCALE:GREGORIAN
METHOD:PUBLISH
X-ORIGINAL-URL:https://www.unitedskates.com/mlk-skating
X-WR-CALDESC:Events for Rink 46 - MLK Skating
REFRESH-INTERVAL;VALUE=DURATION:PT1H
X-Robots-Tag:noindex
X-PUBLISHED-TTL:PT1H
BEGIN:VTIMEZONE
TZID:America/Chicago
BEGIN:DAYLIGHT
TZOFFSETFROM:-0600
TZOFFSETTO:-0500
TZNAME:CDT
DTSTART:20240310T080000
END:DAYLIGHT
BEGIN:STANDARD
TZOFFSETFROM:-0500
TZOFFSETTO:-0600
TZNAME:CST
DTSTART:20241103T070000
END:STANDARD
BEGIN:DAYLIGHT
TZOFFSETFROM:-0600
TZOFFSETTO:-0500
TZNAME:CDT
DTSTART:20250309T080000
END:DAYLIGHT
BEGIN:STANDARD
TZOFFSETFROM:-0500
TZOFFSETTO:-0600
TZNAME:CST
DTSTART:20251102T070000
END:STANDARD
BEGIN:DAYLIGHT
TZOFFSETFROM:-0600
TZOFFSETTO:-0500
TZNAME:CDT
DTSTART:20260308T080000
END:DAYLIGHT
BEGIN:STANDARD
TZOFFSETFROM:-0500
TZOFFSETTO:-0600
TZNAME:CST
DTSTART:20261101T070000
END:STANDARD
END:VTIMEZONE
BEGIN:VEVENT
DTSTART;TZID=America/Chicago:20251031T163000
DTEND;TZID=America/Chicago:20251031T183000
DTSTAMP:20260420T043247
CREATED:20250728T225943Z
LAST-MODIFIED:20250811T191232Z
UID:17517-1761928200-1761935400@www.unitedskates.com
SUMMARY:🔥 Monster Mash Halloween Party🔥
DESCRIPTION:It’s thrills\, chills\, and family fun this Halloween night!Join us Friday\, October 31st\, 2025 | 4:30PM – 6:30 PM for a Family friendly celebration featuring Stich\, Minions\, Trolls and more — perfect for brave kids and fun-loving families! \n👻 $15 Admission Includes: \nAdmission OR Bowl games🛼 Skate OR 🎳 Shoe Rental💡 Glow Necklace to light up the night \nDress in your favorite costume\, snap photos with our creepy crew\, and enjoy a night of laughs\, scares\, and Halloween spirit.🎟 Get your tickets now at MLKSkating.com — spots will vanish into the mist! \nEach Activity will need to be paid for separately. \n*All Guest\, ages 2-17 Must pay for admission and rental whether skating or not. \n*TAXES ARE NOT INCLUDED
URL:https://www.unitedskates.com/mlk-skating/event/%f0%9f%94%a5-friday-general-public-skate-or-bowl-l-%f0%9f%94%a5-2025-10-31/
LOCATION:Dr. Martin Luther King\, Jr. Park & Family Entertainment Center\, 1219 W. 76th St.\, Chicago\, IL\, 6020\, United States
CATEGORIES:Public Skates,Special Events
ATTACH;FMTTYPE=image/jpeg:https://unitedskates-assets.sfo3.digitaloceanspaces.com/wp-content/uploads/sites/18/2025/07/46-Monster-Mash-Flyer.jpg
END:VEVENT
BEGIN:VEVENT
DTSTART;TZID=America/Chicago:20251031T190000
DTEND;TZID=America/Chicago:20251031T213000
DTSTAMP:20260420T043247
CREATED:20250728T231326Z
LAST-MODIFIED:20250811T175625Z
UID:17529-1761937200-1761946200@www.unitedskates.com
SUMMARY:🔥 🩸 Halloween Slasher Skate or Bowl 🩸🔥
DESCRIPTION:This Halloween night… The Rink belongs to the shadows.On Friday\, October 31st\, 2025 | 7 PM – 9:30 PM\, skate or bowl if you dare alongside Pennywise\, Freddy\, Jason\, Chucky\, and more lurking in the dark.\n💀 $20 Admission Includes:🛼 Skate OR 🎳 Shoe Rental🍕 1 Slice of Pizza💡 Glow Necklace to keep the darkness away \nCostumes encouraged… but beware who (or what) you might bump into.🎟 Secure your spot now at MLKSkating.com — before the night swallows you whole. \nEach Activity will need to be paid for separately. \n*All Guest\, ages 2-17 Must pay for admission and rental whether skating or not. \n*TAXES ARE NOT INCLUDED
URL:https://www.unitedskates.com/mlk-skating/event/%f0%9f%94%a5-friday-general-public-skate-or-bowl-ll%f0%9f%94%a5-2025-10-31/
LOCATION:Dr. Martin Luther King\, Jr. Park & Family Entertainment Center\, 1219 W. 76th St.\, Chicago\, IL\, 6020\, United States
CATEGORIES:Public Skates,Special Events
ATTACH;FMTTYPE=image/jpeg:https://unitedskates-assets.sfo3.digitaloceanspaces.com/wp-content/uploads/sites/18/2025/07/Slashers-Skate-Night.jpg
END:VEVENT
END:VCALENDAR