BEGIN:VCALENDAR
VERSION:2.0
PRODID:-//Rink 46 - MLK Skating - ECPv6.15.20//NONSGML v1.0//EN
CALSCALE:GREGORIAN
METHOD:PUBLISH
X-WR-CALNAME:Rink 46 - MLK Skating
X-ORIGINAL-URL:https://www.unitedskates.com/mlk-skating
X-WR-CALDESC:Events for Rink 46 - MLK Skating
REFRESH-INTERVAL;VALUE=DURATION:PT1H
X-Robots-Tag:noindex
X-PUBLISHED-TTL:PT1H
BEGIN:VTIMEZONE
TZID:America/Chicago
BEGIN:DAYLIGHT
TZOFFSETFROM:-0600
TZOFFSETTO:-0500
TZNAME:CDT
DTSTART:20240310T080000
END:DAYLIGHT
BEGIN:STANDARD
TZOFFSETFROM:-0500
TZOFFSETTO:-0600
TZNAME:CST
DTSTART:20241103T070000
END:STANDARD
BEGIN:DAYLIGHT
TZOFFSETFROM:-0600
TZOFFSETTO:-0500
TZNAME:CDT
DTSTART:20250309T080000
END:DAYLIGHT
BEGIN:STANDARD
TZOFFSETFROM:-0500
TZOFFSETTO:-0600
TZNAME:CST
DTSTART:20251102T070000
END:STANDARD
BEGIN:DAYLIGHT
TZOFFSETFROM:-0600
TZOFFSETTO:-0500
TZNAME:CDT
DTSTART:20260308T080000
END:DAYLIGHT
BEGIN:STANDARD
TZOFFSETFROM:-0500
TZOFFSETTO:-0600
TZNAME:CST
DTSTART:20261101T070000
END:STANDARD
END:VTIMEZONE
BEGIN:VEVENT
DTSTART;TZID=America/Chicago:20251012T143000
DTEND;TZID=America/Chicago:20251012T163000
DTSTAMP:20260420T171708
CREATED:20250318T161358Z
LAST-MODIFIED:20251009T183428Z
UID:17430-1760279400-1760286600@www.unitedskates.com
SUMMARY:🍦🐭 Mickey & Minnie’s Ice Cream Party! 🐭🍦
DESCRIPTION:Get ready for a magical afternoon with Mickey and Minnie! 💖Join us for sweet treats\, fun games\, dancing\, and picture-perfect moments! 📸✨ \n🎉 Event Highlights:🍦 Ice Cream Bar — loaded with delicious toppings & sprinkles! (For Skate Rental Ticket Holders Only)🎶 Big Dance Party — groove with Mickey\, Minnie\, and friends!📸 Photo Ops — capture magical memories with your favorite mouse duo!🎲 Games & Prizes — fun for the whole family! \n$12.00 Admission $4.00 Skate Rental OR \n$12.00 1 Game of Bowling $4.00 Shoe Rental \n$11.00 Spectator fee for Non-Skating OR Non-Bowling Adults \nEach Activity will need to be paid for separately \n*All Guest\, ages 2-17 Must pay for admission and rental whether skating or not. \n*Taxes are not included.
URL:https://www.unitedskates.com/mlk-skating/event/sunday-funday-general-public-skate-or-bowl-2025-08-24-2025-10-12/
LOCATION:Dr. Martin Luther King\, Jr. Park & Family Entertainment Center\, 1219 W. 76th St.\, Chicago\, IL\, 6020\, United States
CATEGORIES:Family Events,Public Skates,Special Events
ATTACH;FMTTYPE=image/png:https://unitedskates-assets.sfo3.digitaloceanspaces.com/wp-content/uploads/sites/18/2025/03/Mickey-and-minnies-Ice-Cream-party-10-12-25.png
END:VEVENT
BEGIN:VEVENT
DTSTART;TZID=America/Chicago:20251012T170000
DTEND;TZID=America/Chicago:20251012T193000
DTSTAMP:20260420T171708
CREATED:20250609T160854Z
LAST-MODIFIED:20250826T210642Z
UID:17610-1760288400-1760297400@www.unitedskates.com
SUMMARY:🎉 Sunday Funday! General Public Skate or Bowl 🎉
DESCRIPTION:✨ Come join us for a Sunday filled with fun — skate or bowl\, it’s up to you! ✨ \n$11.00 Admission $4.00 Skate Rental OR \n$11.00 1 Game of Bowling $4.00 Shoe Rental \n$11.00 Spectator fee for Non-Skating OR Non-Bowling Adults \nEach Activity will need to be paid for separately \n*All Guest\, ages 2-17 Must pay for admission and rental whether skating or not. \n*Taxes are not included.
URL:https://www.unitedskates.com/mlk-skating/event/%f0%9f%8e%89-sunday-funday-general-public-skate-or-bowl-%f0%9f%8e%89-2025-08-03/2025-10-12/
LOCATION:Dr. Martin Luther King\, Jr. Park & Family Entertainment Center\, 1219 W. 76th St.\, Chicago\, IL\, 6020\, United States
CATEGORIES:Public Skates
ATTACH;FMTTYPE=image/png:https://unitedskates-assets.sfo3.digitaloceanspaces.com/wp-content/uploads/sites/18/2025/08/General-Public.png
END:VEVENT
END:VCALENDAR