BEGIN:VCALENDAR
VERSION:2.0
PRODID:-//Rink 46 - MLK Skating - ECPv6.15.20//NONSGML v1.0//EN
CALSCALE:GREGORIAN
METHOD:PUBLISH
X-ORIGINAL-URL:https://www.unitedskates.com/mlk-skating
X-WR-CALDESC:Events for Rink 46 - MLK Skating
REFRESH-INTERVAL;VALUE=DURATION:PT1H
X-Robots-Tag:noindex
X-PUBLISHED-TTL:PT1H
BEGIN:VTIMEZONE
TZID:America/Chicago
BEGIN:DAYLIGHT
TZOFFSETFROM:-0600
TZOFFSETTO:-0500
TZNAME:CDT
DTSTART:20240310T080000
END:DAYLIGHT
BEGIN:STANDARD
TZOFFSETFROM:-0500
TZOFFSETTO:-0600
TZNAME:CST
DTSTART:20241103T070000
END:STANDARD
BEGIN:DAYLIGHT
TZOFFSETFROM:-0600
TZOFFSETTO:-0500
TZNAME:CDT
DTSTART:20250309T080000
END:DAYLIGHT
BEGIN:STANDARD
TZOFFSETFROM:-0500
TZOFFSETTO:-0600
TZNAME:CST
DTSTART:20251102T070000
END:STANDARD
BEGIN:DAYLIGHT
TZOFFSETFROM:-0600
TZOFFSETTO:-0500
TZNAME:CDT
DTSTART:20260308T080000
END:DAYLIGHT
BEGIN:STANDARD
TZOFFSETFROM:-0500
TZOFFSETTO:-0600
TZNAME:CST
DTSTART:20261101T070000
END:STANDARD
END:VTIMEZONE
BEGIN:VEVENT
DTSTART;TZID=America/Chicago:20250920T120000
DTEND;TZID=America/Chicago:20250920T150000
DTSTAMP:20260420T214011
CREATED:20240812T202500Z
LAST-MODIFIED:20250811T170644Z
UID:15870-1758369600-1758380400@www.unitedskates.com
SUMMARY:💖🎀 L.O.L. Skate & Bowl Party! 🎀💖
DESCRIPTION:Get ready for a fabulous Saturday on September 20th\, 2025 from 12 PM – 3 PM! \n🛼 $11 Admission + $4 Skate Rental🎳 Or $11 for 2 Bowling Games + $4 Shoe Rental🎟 Add a 20-Credit Game Card for Just $5! \n✨ Meet your favorite L.O.L. Diva Doll — take pictures and make magical memories!🎉 Fun\, games\, and excitement for the whole family! \nDon’t miss this glam day of skating\, bowling\, and smiles! \nEach Activity will need to be paid for separately. \n*All Guest\, ages 2-17 Must pay for admission and rental whether skating or not. \n*TAXES ARE NOT INCLUDED
URL:https://www.unitedskates.com/mlk-skating/event/public-skate-bowl-session-i-2024-10-12-2025-09-20/
LOCATION:Dr. Martin Luther King\, Jr. Park & Family Entertainment Center\, 1219 W. 76th St.\, Chicago\, IL\, 6020\, United States
CATEGORIES:Public Skates,Special Events
ATTACH;FMTTYPE=image/jpeg:https://unitedskates-assets.sfo3.digitaloceanspaces.com/wp-content/uploads/sites/18/2024/08/LOL-Surprise-Skate.jpg
END:VEVENT
BEGIN:VEVENT
DTSTART;TZID=America/Chicago:20250920T190000
DTEND;TZID=America/Chicago:20250920T220000
DTSTAMP:20260420T214011
CREATED:20220504T001059Z
LAST-MODIFIED:20250804T222455Z
UID:14582-1758394800-1758405600@www.unitedskates.com
SUMMARY:🌟✨ Virgo Groove: A Beyoncé Skate Night ✨🌟
DESCRIPTION:🌟✨ Virgo Groove: A Beyoncé Skate Night ✨🌟Grown & glamorous — it’s time to skate under the spotlight!Join us Saturday\, September 20th\, 2025 | 7PM–10PM for a night inspired by Queen Bey herself. \n🎶 All Beyoncé + smooth R&B vibes💃🏽 $13 Admission | $4 Skate Rentals \n$13 2 games of bowling| $4 Shoe Rentals🎁 Trivia\, giveaways & prizes for the best-dressed — bring the energy\, bring the looks! \n Skate\, and slay the night away.🎟️ Grab your tickets now at MLKSkating.com — this is not your average skate night. \n\n\n\nEach Activity will need to be paid for separately. \n\n\n\n*All Guest\, ages 2-17 Must pay for admission and rental whether skating or not.  \n\n\n\n\n\n*Taxes are not included
URL:https://www.unitedskates.com/mlk-skating/event/glow-saturdays-public-skate-or-bowl-session-3-2023-07-22-2025-09-20/
LOCATION:Dr. Martin Luther King\, Jr. Park & Family Entertainment Center\, 1219 W. 76th St.\, Chicago\, IL\, 6020\, United States
CATEGORIES:Family Events,Public Skates,Special Events
ATTACH;FMTTYPE=image/jpeg:https://unitedskates-assets.sfo3.digitaloceanspaces.com/wp-content/uploads/sites/18/2022/05/Copy-of-Beyonce-Virgos-Groove-Skate.jpg
END:VEVENT
END:VCALENDAR