BEGIN:VCALENDAR
VERSION:2.0
PRODID:-//Rink 46 - MLK Skating - ECPv6.15.20//NONSGML v1.0//EN
CALSCALE:GREGORIAN
METHOD:PUBLISH
X-ORIGINAL-URL:https://www.unitedskates.com/mlk-skating
X-WR-CALDESC:Events for Rink 46 - MLK Skating
REFRESH-INTERVAL;VALUE=DURATION:PT1H
X-Robots-Tag:noindex
X-PUBLISHED-TTL:PT1H
BEGIN:VTIMEZONE
TZID:America/Chicago
BEGIN:DAYLIGHT
TZOFFSETFROM:-0600
TZOFFSETTO:-0500
TZNAME:CDT
DTSTART:20240310T080000
END:DAYLIGHT
BEGIN:STANDARD
TZOFFSETFROM:-0500
TZOFFSETTO:-0600
TZNAME:CST
DTSTART:20241103T070000
END:STANDARD
BEGIN:DAYLIGHT
TZOFFSETFROM:-0600
TZOFFSETTO:-0500
TZNAME:CDT
DTSTART:20250309T080000
END:DAYLIGHT
BEGIN:STANDARD
TZOFFSETFROM:-0500
TZOFFSETTO:-0600
TZNAME:CST
DTSTART:20251102T070000
END:STANDARD
BEGIN:DAYLIGHT
TZOFFSETFROM:-0600
TZOFFSETTO:-0500
TZNAME:CDT
DTSTART:20260308T080000
END:DAYLIGHT
BEGIN:STANDARD
TZOFFSETFROM:-0500
TZOFFSETTO:-0600
TZNAME:CST
DTSTART:20261101T070000
END:STANDARD
END:VTIMEZONE
BEGIN:VEVENT
DTSTART;TZID=America/Chicago:20250426T153000
DTEND;TZID=America/Chicago:20250426T183000
DTSTAMP:20260422T130252
CREATED:20220826T160723Z
LAST-MODIFIED:20250425T212746Z
UID:13817-1745681400-1745692200@www.unitedskates.com
SUMMARY:NOTICE OF CLOSURE – SATURDAY\, 04/26/25
DESCRIPTION:📢 NOTICE OF CLOSURE – SATURDAY\, 04/26/25 📢 \nPlease note that we will be closed to the general public for both skating and bowling during the following time. \n🕞 3:30 PM – 10:00 PM 🌙 \nWe apologize for any inconvenience and appreciate your understanding. We hope to see you on Sunday\, 04/27/25 for more fun at MLK Skating & Bowling! 🎳🛼 \nThank you\,\n— MLK Skating & Bowling Team
URL:https://www.unitedskates.com/mlk-skating/event/glow-saturdays-public-skate-or-bowl-2025-04-26/
LOCATION:Dr. Martin Luther King\, Jr. Park & Family Entertainment Center\, 1219 W. 76th St.\, Chicago\, IL\, 6020\, United States
CATEGORIES:Family Events,Public Skates,Special Events
ATTACH;FMTTYPE=image/png:https://unitedskates-assets.sfo3.digitaloceanspaces.com/wp-content/uploads/sites/18/2022/08/closed-sign-2025.png
END:VEVENT
BEGIN:VEVENT
DTSTART;TZID=America/Chicago:20250426T190000
DTEND;TZID=America/Chicago:20250426T220000
DTSTAMP:20260422T130252
CREATED:20220504T001059Z
LAST-MODIFIED:20250425T212937Z
UID:13287-1745694000-1745704800@www.unitedskates.com
SUMMARY:NOTICE OF CLOSURE – SATURDAY\, 04/26/25
DESCRIPTION:📢 NOTICE OF CLOSURE – SATURDAY\, 04/26/25 📢Please note that we will be closed to the general public for both skating and bowling during the following time.🕞 3:30 PM – 10:00 PM 🌙 We apologize for any inconvenience and appreciate your understanding. We hope to see you on Sunday\, 04/27/25 for more fun at MLK Skating & Bowling! 🎳🛼Thank you\,— MLK Skating & Bowling Team
URL:https://www.unitedskates.com/mlk-skating/event/glow-saturdays-public-skate-or-bowl-session-3-2023-07-22-2025-04-26/
LOCATION:Dr. Martin Luther King\, Jr. Park & Family Entertainment Center\, 1219 W. 76th St.\, Chicago\, IL\, 6020\, United States
CATEGORIES:Family Events,Public Skates,Special Events
ATTACH;FMTTYPE=image/png:https://unitedskates-assets.sfo3.digitaloceanspaces.com/wp-content/uploads/sites/18/2022/08/closed-sign-2025.png
END:VEVENT
END:VCALENDAR