BEGIN:VCALENDAR
VERSION:2.0
PRODID:-//Rink 46 - MLK Skating - ECPv6.15.20//NONSGML v1.0//EN
CALSCALE:GREGORIAN
METHOD:PUBLISH
X-WR-CALNAME:Rink 46 - MLK Skating
X-ORIGINAL-URL:https://www.unitedskates.com/mlk-skating
X-WR-CALDESC:Events for Rink 46 - MLK Skating
REFRESH-INTERVAL;VALUE=DURATION:PT1H
X-Robots-Tag:noindex
X-PUBLISHED-TTL:PT1H
BEGIN:VTIMEZONE
TZID:America/Chicago
BEGIN:DAYLIGHT
TZOFFSETFROM:-0600
TZOFFSETTO:-0500
TZNAME:CDT
DTSTART:20240310T080000
END:DAYLIGHT
BEGIN:STANDARD
TZOFFSETFROM:-0500
TZOFFSETTO:-0600
TZNAME:CST
DTSTART:20241103T070000
END:STANDARD
BEGIN:DAYLIGHT
TZOFFSETFROM:-0600
TZOFFSETTO:-0500
TZNAME:CDT
DTSTART:20250309T080000
END:DAYLIGHT
BEGIN:STANDARD
TZOFFSETFROM:-0500
TZOFFSETTO:-0600
TZNAME:CST
DTSTART:20251102T070000
END:STANDARD
BEGIN:DAYLIGHT
TZOFFSETFROM:-0600
TZOFFSETTO:-0500
TZNAME:CDT
DTSTART:20260308T080000
END:DAYLIGHT
BEGIN:STANDARD
TZOFFSETFROM:-0500
TZOFFSETTO:-0600
TZNAME:CST
DTSTART:20261101T070000
END:STANDARD
END:VTIMEZONE
BEGIN:VEVENT
DTSTART;TZID=America/Chicago:20250413T143000
DTEND;TZID=America/Chicago:20250413T163000
DTSTAMP:20260424T102123
CREATED:20250113T192726Z
LAST-MODIFIED:20250303T214651Z
UID:15321-1744554600-1744561800@www.unitedskates.com
SUMMARY:Faith and Family Skate or Bowl
DESCRIPTION:Calling all Pastors\, Youth Leaders\, Church famalies please join us for an afternoon of Fellowship. We are introducing our Faith and Family Gospel Skate or Bowl. This session will be CHRISTIAN music ONLY! No secular music will be played. Receive a FREE Glow Stick with each paid admission.  \n$12.00 Admission $4.00 Skate Rental OR \n\n\n\n$12.00 2 Games of Bowling $4.00 Shoe Rental \n\n\n\n$12.00 Spectator fee for Non-Skating OR Non-Bowling Adults \n\n\n\nEach Activity will need to be paid for separately \n\n\n\nIf you are interested in reserving your group of 20 or more please email lbragg@usa-skating.com or call us today at 312-747-2602 so we can get you all booked. 
URL:https://www.unitedskates.com/mlk-skating/event/sunday-funday-skate-or-bowl-2025-04-13/
LOCATION:Dr. Martin Luther King\, Jr. Park & Family Entertainment Center\, 1219 W. 76th St.\, Chicago\, IL\, 6020\, United States
CATEGORIES:Family Events,Public Skates,Special Events
ATTACH;FMTTYPE=image/png:https://unitedskates-assets.sfo3.digitaloceanspaces.com/wp-content/uploads/sites/18/2025/01/Family-and-Faith-Glow-Skate-04-13-25.png
END:VEVENT
END:VCALENDAR