BEGIN:VCALENDAR
VERSION:2.0
PRODID:-//Rink 46 - MLK Skating - ECPv6.15.20//NONSGML v1.0//EN
CALSCALE:GREGORIAN
METHOD:PUBLISH
X-ORIGINAL-URL:https://www.unitedskates.com/mlk-skating
X-WR-CALDESC:Events for Rink 46 - MLK Skating
REFRESH-INTERVAL;VALUE=DURATION:PT1H
X-Robots-Tag:noindex
X-PUBLISHED-TTL:PT1H
BEGIN:VTIMEZONE
TZID:America/Chicago
BEGIN:DAYLIGHT
TZOFFSETFROM:-0600
TZOFFSETTO:-0500
TZNAME:CDT
DTSTART:20240310T080000
END:DAYLIGHT
BEGIN:STANDARD
TZOFFSETFROM:-0500
TZOFFSETTO:-0600
TZNAME:CST
DTSTART:20241103T070000
END:STANDARD
BEGIN:DAYLIGHT
TZOFFSETFROM:-0600
TZOFFSETTO:-0500
TZNAME:CDT
DTSTART:20250309T080000
END:DAYLIGHT
BEGIN:STANDARD
TZOFFSETFROM:-0500
TZOFFSETTO:-0600
TZNAME:CST
DTSTART:20251102T070000
END:STANDARD
BEGIN:DAYLIGHT
TZOFFSETFROM:-0600
TZOFFSETTO:-0500
TZNAME:CDT
DTSTART:20260308T080000
END:DAYLIGHT
BEGIN:STANDARD
TZOFFSETFROM:-0500
TZOFFSETTO:-0600
TZNAME:CST
DTSTART:20261101T070000
END:STANDARD
END:VTIMEZONE
BEGIN:VEVENT
DTSTART;TZID=America/Chicago:20250214T170000
DTEND;TZID=America/Chicago:20250217T203000
DTSTAMP:20260422T161658
CREATED:20250122T171609Z
LAST-MODIFIED:20250123T174813Z
UID:15442-1739552400-1739824200@www.unitedskates.com
SUMMARY:Presidents' Day Weekend Roller Skating
DESCRIPTION:School’s Out! Celebrate Presidents’ Day Weekend at the Rink!\nLooking for a fun and exciting way to spend Presidents’ Day Weekend? Join us at Dr. Martin Luther King Jr. Roller & Family Entertainment Center for a weekend packed with themed skating events\, glow fun\, and family-friendly activities! Bring your loved ones and create unforgettable memories on wheels. \nWeekend Event Highlights: \n\nFriday\, February 14: Valentine’s Day Glow Fun!\n\nGrinch Steals Valentine’s Glow Party: 5:00 PM – 7:00 PM ($11 Admission\, includes glow stick).\nGalentine’s Skate Night: 7:30 PM – 9:30 PM ($14 Admission\, includes a Wicked Valentine bag and glow stick).\nMeet Glinda & Alphaba for a magical evening!\n\n\nSaturday\, February 15: Mickey & Minnie Valentine’s Brunch!\n\n11:00 AM – 3:00 PM: Non-skating for the first hour\, followed by skating fun.\n$20 Admission includes brunch ticket\, rentals\, and an all-you-can-eat buffet!\n\n\nSunday\, February 16: S’mores & Glow Skate Fun!\n\nS’mores Skate or Bowl: 2:30 PM – 5:00 PM ($12 Admission\, includes s’mores).\nSchools Out Glow Party: 5:30 PM – 8:00 PM ($11 Admission\, includes glow stick).\n\n\nMonday\, February 17: Presidents’ Day Party!\n\nCharacter Day Party: 12:00 PM – 2:30 PM ($12 Admission\, includes photo ops and cotton candy bag).\nPizza Party: 3:00 PM – 5:30 PM ($13 Admission\, includes pizza slice and skating).\nPublic Skate or Bowl: 6:00 PM – 8:30 PM ($10 Admission).\n\n\n\nAffordable Family Fun: \n\nSkate or Shoe Rental: $4.00 (plus tax).\nSkate Mate Rentals: $5.00.\n\nImportant Notes: \n\nAdmission price does not include rental costs.\nCheck our website for more special event details!\n\n📍 Visit us at 1219 W. 76th St.\, Chicago\, IL 60620.\n📞 Call 312-747-2602 or check out www.MLKSkating.com for more information. \nBring your family and friends for a weekend full of fun\, food\, and skating excitement—see you on the rink!
URL:https://www.unitedskates.com/mlk-skating/event/presidents-day-weekend-roller-skating/
LOCATION:IL
CATEGORIES:Family Events,Public Skates,Special Events
ATTACH;FMTTYPE=image/jpeg:https://unitedskates-assets.sfo3.digitaloceanspaces.com/wp-content/uploads/sites/18/2025/01/Pres-day-weekend-2025-calendar-Front-rink46.jpg
END:VEVENT
BEGIN:VEVENT
DTSTART;TZID=America/Chicago:20250216T143000
DTEND;TZID=America/Chicago:20250216T170000
DTSTAMP:20260422T161658
CREATED:20241226T213659Z
LAST-MODIFIED:20241226T213700Z
UID:15181-1739716200-1739725200@www.unitedskates.com
SUMMARY:Smores Skate
DESCRIPTION:Bring the Entire family out for our Smores skate! Admission includes a trip to the Smores Bar. \n$12.00 Admission $4.00 Skate Rental OR \n$12.00 2 Games of Bowling $4.00 Shoe Rental \n$12.00 Spectator fee for Non-Skating OR Non-Bowling Adults \nEach Activity will need to be paid for separately. \n*All Guest\, ages 2-17 Must pay for admission and rental whether skating or not. \nChaperones are required for all ages. \n*Taxes are not included
URL:https://www.unitedskates.com/mlk-skating/event/smores-skate/
LOCATION:Dr. Martin Luther King\, Jr. Park & Family Entertainment Center\, 1219 W. 76th St.\, Chicago\, IL\, 6020\, United States
CATEGORIES:Public Skates,Special Events
ATTACH;FMTTYPE=image/png:https://unitedskates-assets.sfo3.digitaloceanspaces.com/wp-content/uploads/sites/18/2024/12/Smores-skate-02-16-25.png
END:VEVENT
BEGIN:VEVENT
DTSTART;TZID=America/Chicago:20250216T173000
DTEND;TZID=America/Chicago:20250216T200000
DTSTAMP:20260422T161658
CREATED:20220504T002055Z
LAST-MODIFIED:20241226T214208Z
UID:12357-1739727000-1739736000@www.unitedskates.com
SUMMARY:Neon Glow Skate
DESCRIPTION:Get A Free glow stick with every Admission!\n$11.00 Admission $4.00 Skate Rental OR  \n\n\n\n$11.00 2 Games of Bowling $4.00 Shoe Rental \n\n\n\n$11.00 Spectator fee for Non-Skating OR Non-Bowling Adults \n\n\n\nEach Activity will need to be paid for separately \n\n\n\n*All Guest\, ages 2-17 Must pay for admission and rental whether skating or not. \n\n\n\n*Taxes are not included.
URL:https://www.unitedskates.com/mlk-skating/event/sunday-funday-public-skate-or-bowl-session-2-2025-02-16/
LOCATION:Dr. Martin Luther King\, Jr. Park & Family Entertainment Center\, 1219 W. 76th St.\, Chicago\, IL\, 6020\, United States
CATEGORIES:Public Skates,Special Events
ATTACH;FMTTYPE=image/png:https://unitedskates-assets.sfo3.digitaloceanspaces.com/wp-content/uploads/sites/18/2022/05/neon-GLOW-skate-2-16-24.png
END:VEVENT
END:VCALENDAR