BEGIN:VCALENDAR
VERSION:2.0
PRODID:-//Rink 46 - MLK Skating - ECPv6.15.20//NONSGML v1.0//EN
CALSCALE:GREGORIAN
METHOD:PUBLISH
X-ORIGINAL-URL:https://www.unitedskates.com/mlk-skating
X-WR-CALDESC:Events for Rink 46 - MLK Skating
REFRESH-INTERVAL;VALUE=DURATION:PT1H
X-Robots-Tag:noindex
X-PUBLISHED-TTL:PT1H
BEGIN:VTIMEZONE
TZID:America/Chicago
BEGIN:DAYLIGHT
TZOFFSETFROM:-0600
TZOFFSETTO:-0500
TZNAME:CDT
DTSTART:20240310T080000
END:DAYLIGHT
BEGIN:STANDARD
TZOFFSETFROM:-0500
TZOFFSETTO:-0600
TZNAME:CST
DTSTART:20241103T070000
END:STANDARD
BEGIN:DAYLIGHT
TZOFFSETFROM:-0600
TZOFFSETTO:-0500
TZNAME:CDT
DTSTART:20250309T080000
END:DAYLIGHT
BEGIN:STANDARD
TZOFFSETFROM:-0500
TZOFFSETTO:-0600
TZNAME:CST
DTSTART:20251102T070000
END:STANDARD
BEGIN:DAYLIGHT
TZOFFSETFROM:-0600
TZOFFSETTO:-0500
TZNAME:CDT
DTSTART:20260308T080000
END:DAYLIGHT
BEGIN:STANDARD
TZOFFSETFROM:-0500
TZOFFSETTO:-0600
TZNAME:CST
DTSTART:20261101T070000
END:STANDARD
END:VTIMEZONE
BEGIN:VEVENT
DTSTART;TZID=America/Chicago:20250117T170000
DTEND;TZID=America/Chicago:20250120T200000
DTSTAMP:20260424T072353
CREATED:20241231T184344Z
LAST-MODIFIED:20241231T184344Z
UID:15189-1737133200-1737403200@www.unitedskates.com
SUMMARY:MLK Weekend Roller Skating
DESCRIPTION:🎉 School’s Out\, Let’s Roll and Bowl! 🛼🎳✨ \nCelebrate MLK Weekend with a fun-packed lineup of roller skating and bowling at the Dr. Martin Luther King Jr. Park & Family Entertainment Center! Bring the whole family for themed events\, character meet-and-greets\, and nonstop fun! \n🗓 Weekend Highlights: \n✨ Friday\, Jan 17: \n\nGeneral Public Skate/Bowl: 5:00 PM–7:00 PM ($10 Admission or Unlimited Bowling)\nSpongeBob Skate: 7:30 PM–9:30 PM ($10 Admission or Unlimited Bowling)\n\n✨ Saturday\, Jan 18: \n\nTots Character Skate Party: 12:00 PM–3:00 PM ($10 Admission or Unlimited Bowling)\nGlow Crazy Skate/Bowl: 3:30 PM–6:30 PM ($11 Admission or Unlimited Bowling\, includes FREE Glow Stick!)\nReggae Skate/Bowl Party: 7:00 PM–10:00 PM ($13 Admission or Unlimited Bowling)\n\n✨ Sunday\, Jan 19: \n\nPoppy’s Poptart Skate/Bowl Party: 2:00 PM–4:30 PM ($11 Admission or Unlimited Bowling)\nSlushies w/ Stitch Skate/Bowl Party: 5:00 PM–8:00 PM ($12 Admission or Unlimited Bowling)\n\n✨ Monday\, Jan 20 (MLK Jr. Day): \n\nOlaf’s All White Extravaganza: 1:00 PM–4:00 PM ($15 Admission includes skate\, bowl\, or shoe rental)\nMLK Day Glow Supreme Carnival: 5:00 PM–8:00 PM ($20 Admission per person\, includes games\, a cupcake\, glow sticks\, and more!)\n\n📍 Where:\nDr. Martin Luther King Jr. Park & Family Entertainment Center\n1219 W. 76th St\, Chicago\, IL 60620 \n📞 Contact: 312-747-2602\n💻 Details: www.MLKSkating.com \n🎶 Skate Rentals: $4 + tax | Skatemates: $5 \nBring your friends and family for a weekend full of joy\, laughter\, and unforgettable memories! Let’s roll and bowl together this MLK weekend! 🛼🎉
URL:https://www.unitedskates.com/mlk-skating/event/mlk-weekend-roller-skating/
LOCATION:IL
CATEGORIES:Family Events,Public Skates,Special Events
ATTACH;FMTTYPE=image/jpeg:https://unitedskates-assets.sfo3.digitaloceanspaces.com/wp-content/uploads/sites/18/2024/12/MLK-weekend-break-2025-calendar-Front-rink46.jpg
END:VEVENT
BEGIN:VEVENT
DTSTART;TZID=America/Chicago:20250118T120000
DTEND;TZID=America/Chicago:20250118T150000
DTSTAMP:20260424T072353
CREATED:20240812T202500Z
LAST-MODIFIED:20250115T235650Z
UID:13748-1737201600-1737212400@www.unitedskates.com
SUMMARY:Tots Character Skate
DESCRIPTION:Bring your tiny tots out and meet some of their favorite characters for a fun filled time on the rink! \n$10.00 Admission $4.00 Skate Rental \n$10.00 Spectator fee for Non-Skating OR Non-Bowling Adults \n*All Guest\, ages 2-17 Must pay for admission and rental whether skating or not. \n  \nBOWLING IS UNAVAILABLE DURING THIS SESSION DUE TO A PRIVATE EVENT!
URL:https://www.unitedskates.com/mlk-skating/event/public-skate-bowl-session-i-2025-01-18/
LOCATION:Dr. Martin Luther King\, Jr. Park & Family Entertainment Center\, 1219 W. 76th St.\, Chicago\, IL\, 6020\, United States
CATEGORIES:Family Events,Public Skates,Special Events
ATTACH;FMTTYPE=image/png:https://unitedskates-assets.sfo3.digitaloceanspaces.com/wp-content/uploads/sites/18/2024/08/tots-character-skate-or-bowl-01-18-25.png
END:VEVENT
BEGIN:VEVENT
DTSTART;TZID=America/Chicago:20250118T153000
DTEND;TZID=America/Chicago:20250118T183000
DTSTAMP:20260424T072353
CREATED:20220826T160723Z
LAST-MODIFIED:20241204T154635Z
UID:13802-1737214200-1737225000@www.unitedskates.com
SUMMARY:Glow Crazy Skate or Bowl
DESCRIPTION:Receive a FREE glow stick with your paid admission! \n$11.00 Admission $4.00 Skate Rental OR \n$11.00 2 Games of Bowling $4.00 Shoe Rental \n$10.00 Spectator fee for Non-Skating OR Non-Bowling Adults \nEach Activity will need to be paid for separately. \n*All Guest\, ages 2-17 Must pay for admission and rental whether skating or not. \nTaxes are not Included.
URL:https://www.unitedskates.com/mlk-skating/event/glow-saturdays-public-skate-or-bowl-2025-01-18/
LOCATION:Dr. Martin Luther King\, Jr. Park & Family Entertainment Center\, 1219 W. 76th St.\, Chicago\, IL\, 6020\, United States
CATEGORIES:Family Events,Public Skates,Special Events
ATTACH;FMTTYPE=image/png:https://unitedskates-assets.sfo3.digitaloceanspaces.com/wp-content/uploads/sites/18/2022/08/Glow-crazy-skate-or-bowl-01-18-24.png
END:VEVENT
BEGIN:VEVENT
DTSTART;TZID=America/Chicago:20250118T190000
DTEND;TZID=America/Chicago:20250118T220000
DTSTAMP:20260424T072353
CREATED:20220504T001059Z
LAST-MODIFIED:20241204T155220Z
UID:13273-1737226800-1737237600@www.unitedskates.com
SUMMARY:Reggae Skate or Bowl
DESCRIPTION:Enjoy the Best Reggae hits all session long. Come dressed in Reggae attire and receive a chance to be entered into our raffle for a Grand prize.  \n$13.00 Admission $4.00 Skate Rental OR  \n\n\n\n$13.00 2 Games of Bowling $4.00 Shoe Rental \n\n\n\n$13.00 Spectator fee for Non-Skating OR Non-Bowling Adults \n\n\n\nEach Activity will need to be paid for separately. \n\n\n\n*All Guest\, ages 2-17 Must pay for admission and rental whether skating or not.  \n\n\n\nChaperones are required for all ages. \n\n\n\n*Taxes are not included
URL:https://www.unitedskates.com/mlk-skating/event/glow-saturdays-public-skate-or-bowl-session-3-2023-07-22-2025-01-18/
LOCATION:Dr. Martin Luther King\, Jr. Park & Family Entertainment Center\, 1219 W. 76th St.\, Chicago\, IL\, 6020\, United States
CATEGORIES:Family Events,Public Skates,Special Events
ATTACH;FMTTYPE=image/jpeg:https://unitedskates-assets.sfo3.digitaloceanspaces.com/wp-content/uploads/sites/18/2022/05/Reggae-Skate-1200x1200-1.jpg
END:VEVENT
END:VCALENDAR