BEGIN:VCALENDAR
VERSION:2.0
PRODID:-//Rink 46 - MLK Skating - ECPv6.15.20//NONSGML v1.0//EN
CALSCALE:GREGORIAN
METHOD:PUBLISH
X-ORIGINAL-URL:https://www.unitedskates.com/mlk-skating
X-WR-CALDESC:Events for Rink 46 - MLK Skating
REFRESH-INTERVAL;VALUE=DURATION:PT1H
X-Robots-Tag:noindex
X-PUBLISHED-TTL:PT1H
BEGIN:VTIMEZONE
TZID:America/Chicago
BEGIN:DAYLIGHT
TZOFFSETFROM:-0600
TZOFFSETTO:-0500
TZNAME:CDT
DTSTART:20230312T080000
END:DAYLIGHT
BEGIN:STANDARD
TZOFFSETFROM:-0500
TZOFFSETTO:-0600
TZNAME:CST
DTSTART:20231105T070000
END:STANDARD
BEGIN:DAYLIGHT
TZOFFSETFROM:-0600
TZOFFSETTO:-0500
TZNAME:CDT
DTSTART:20240310T080000
END:DAYLIGHT
BEGIN:STANDARD
TZOFFSETFROM:-0500
TZOFFSETTO:-0600
TZNAME:CST
DTSTART:20241103T070000
END:STANDARD
BEGIN:DAYLIGHT
TZOFFSETFROM:-0600
TZOFFSETTO:-0500
TZNAME:CDT
DTSTART:20250309T080000
END:DAYLIGHT
BEGIN:STANDARD
TZOFFSETFROM:-0500
TZOFFSETTO:-0600
TZNAME:CST
DTSTART:20251102T070000
END:STANDARD
BEGIN:DAYLIGHT
TZOFFSETFROM:-0600
TZOFFSETTO:-0500
TZNAME:CDT
DTSTART:20260308T080000
END:DAYLIGHT
BEGIN:STANDARD
TZOFFSETFROM:-0500
TZOFFSETTO:-0600
TZNAME:CST
DTSTART:20261101T070000
END:STANDARD
END:VTIMEZONE
BEGIN:VEVENT
DTSTART;TZID=America/Chicago:20241220T080000
DTEND;TZID=America/Chicago:20250105T200000
DTSTAMP:20260424T071930
CREATED:20241111T150240Z
LAST-MODIFIED:20241126T172741Z
UID:14825-1734681600-1736107200@www.unitedskates.com
SUMMARY:🎄🎅🏽🎄Winter Break Roller Skating🎄🎅🏽🎄
DESCRIPTION:❄️🛼 Winter Break Magic Awaits at MLK Skating Center! 🛼❄️\nLooking for family-friendly fun this Winter Break? Head to Dr. Martin Luther King Jr. Park & Family Entertainment Center for unforgettable skating sessions\, themed events\, and holiday cheer! 🎄✨ \n🗓️ Event Highlights:\n🎅 Dec 20: Winter Break Kickoff – enjoy 1/2 Price Skating or Bowling!\n🎄 Dec 25: Celebrate Christmas with our Character Explosion and FREE Pizza for the first hour!\n🎭 Dec 30: Family Game Night + Character Meet & Greet!\n🎉 Dec 31: Ring in the New Year with countdown celebrations for all ages!\n🍭 Jan 2: FREE Pizza Skate or Bowl – a tasty way to keep the fun going! \n🎟️ Affordable Fun for All: \n\n$4 Skate/Shoe Rentals\nEvents as low as $10-$15\n\n📍 Location: 1219 W. 76th St\, Chicago\, IL 60620\n📞 Contact: 312-747-2602\n🌐 Visit www.MLKskating.com for the full schedule and details! \nFrom skating with Santa to epic New Year’s Eve celebrations\, we’ve got something for everyone. Let’s roll into the holidays with joy and excitement! 🛼✨ \n 
URL:https://www.unitedskates.com/mlk-skating/event/%f0%9f%8e%84%f0%9f%8e%85%f0%9f%8f%bd%f0%9f%8e%84winter-break-roller-skating%f0%9f%8e%84%f0%9f%8e%85%f0%9f%8f%bd%f0%9f%8e%84/
LOCATION:IL
CATEGORIES:Family Events,Public Skates,Special Events
ATTACH;FMTTYPE=image/jpeg:https://unitedskates-assets.sfo3.digitaloceanspaces.com/wp-content/uploads/sites/18/2024/11/Winter-Break-Calendar-front-2024-46.jpg
END:VEVENT
BEGIN:VEVENT
DTSTART;TZID=America/Chicago:20250105T143000
DTEND;TZID=America/Chicago:20250105T163000
DTSTAMP:20260424T071930
CREATED:20241204T212437Z
LAST-MODIFIED:20241204T212437Z
UID:15133-1736087400-1736094600@www.unitedskates.com
SUMMARY:Winter Break Ball Skate or Bowl
DESCRIPTION:Come enjoy the last day of Winter Break and partipate in our Fun Winter Ball with fun games and winter wonderland activities.\n\n$10.00 Admission $4.00 Skate Rental OR\n\n\n\n$10.00 2 Games of Bowling $4.00 Shoe Rental\n\n\n\n$10.00 Spectator fee for Non-Skating OR Non-Bowling Adults\n\n\n\nEach Activity will need to be paid for separately\n\n\n\n*All Guest\, ages 2-17 Must pay for admission and rental whether skating or not.\n\n\n*Taxes are not included.
URL:https://www.unitedskates.com/mlk-skating/event/winter-break-ball-skate-or-bowl/
LOCATION:Dr. Martin Luther King\, Jr. Park & Family Entertainment Center\, 1219 W. 76th St.\, Chicago\, IL\, 6020\, United States
CATEGORIES:Family Events,Public Skates,Special Events
ATTACH;FMTTYPE=image/jpeg:https://unitedskates-assets.sfo3.digitaloceanspaces.com/wp-content/uploads/sites/18/2022/05/Winter-Wonderland-2022-1200x1200-1.jpg
END:VEVENT
BEGIN:VEVENT
DTSTART;TZID=America/Chicago:20250105T170000
DTEND;TZID=America/Chicago:20250105T200000
DTSTAMP:20260424T071930
CREATED:20220504T002055Z
LAST-MODIFIED:20241204T212338Z
UID:12351-1736096400-1736107200@www.unitedskates.com
SUMMARY:Winter Break Ball Skate or Bowl
DESCRIPTION:Come enjoy the last day of Winter Break and partipate in our Fun Winter Ball with fun games and winter wonderland activities. \n$10.00 Admission $4.00 Skate Rental OR  \n\n\n\n$10.00 2 Games of Bowling $4.00 Shoe Rental \n\n\n\n$10.00 Spectator fee for Non-Skating OR Non-Bowling Adults \n\n\n\nEach Activity will need to be paid for separately \n\n\n\n*All Guest\, ages 2-17 Must pay for admission and rental whether skating or not. \n\n\n\n*Taxes are not included.
URL:https://www.unitedskates.com/mlk-skating/event/sunday-funday-public-skate-or-bowl-session-2-2025-01-05/
LOCATION:Dr. Martin Luther King\, Jr. Park & Family Entertainment Center\, 1219 W. 76th St.\, Chicago\, IL\, 6020\, United States
CATEGORIES:Family Events,Public Skates,Special Events
ATTACH;FMTTYPE=image/jpeg:https://unitedskates-assets.sfo3.digitaloceanspaces.com/wp-content/uploads/sites/18/2022/05/Winter-Wonderland-2022-1200x1200-1.jpg
END:VEVENT
END:VCALENDAR