BEGIN:VCALENDAR
VERSION:2.0
PRODID:-//Rink 46 - MLK Skating - ECPv6.15.20//NONSGML v1.0//EN
CALSCALE:GREGORIAN
METHOD:PUBLISH
X-ORIGINAL-URL:https://www.unitedskates.com/mlk-skating
X-WR-CALDESC:Events for Rink 46 - MLK Skating
REFRESH-INTERVAL;VALUE=DURATION:PT1H
X-Robots-Tag:noindex
X-PUBLISHED-TTL:PT1H
BEGIN:VTIMEZONE
TZID:America/Chicago
BEGIN:DAYLIGHT
TZOFFSETFROM:-0600
TZOFFSETTO:-0500
TZNAME:CDT
DTSTART:20240310T080000
END:DAYLIGHT
BEGIN:STANDARD
TZOFFSETFROM:-0500
TZOFFSETTO:-0600
TZNAME:CST
DTSTART:20241103T070000
END:STANDARD
BEGIN:DAYLIGHT
TZOFFSETFROM:-0600
TZOFFSETTO:-0500
TZNAME:CDT
DTSTART:20250309T080000
END:DAYLIGHT
BEGIN:STANDARD
TZOFFSETFROM:-0500
TZOFFSETTO:-0600
TZNAME:CST
DTSTART:20251102T070000
END:STANDARD
BEGIN:DAYLIGHT
TZOFFSETFROM:-0600
TZOFFSETTO:-0500
TZNAME:CDT
DTSTART:20260308T080000
END:DAYLIGHT
BEGIN:STANDARD
TZOFFSETFROM:-0500
TZOFFSETTO:-0600
TZNAME:CST
DTSTART:20261101T070000
END:STANDARD
END:VTIMEZONE
BEGIN:VEVENT
DTSTART;TZID=America/Chicago:20250703T173000
DTEND;TZID=America/Chicago:20250703T200000
DTSTAMP:20260421T214856
CREATED:20241203T212711Z
LAST-MODIFIED:20250624T193931Z
UID:17089-1751563800-1751572800@www.unitedskates.com
SUMMARY:✨ Red\, White & GLOW Skate or Bowl! ✨
DESCRIPTION:🎆 Join us for a Pre-4th of July celebration right here at the MLK Skating & Bowling Center! 🌟 FREE Glow Stick with paid admission! \nBring your family and friends for a fun\, safe\, and exciting time indoors as we light up the rink and lanes for this patriotic glow party! \n$10.00 Admission $4.00 Skate Rental OR \n$10.00 2 Games of Bowling $4.00 Shoe Rental \n$10.00 Spectator fee for Non-Skating OR Non-Bowling Adults \nEach Activity will need to be paid for separately. \n*All Guest\, ages 2-17 Must pay for admission and rental whether skating or not. \nChaperones are required for all ages. \n*TAXES ARE NOT INCLUDED
URL:https://www.unitedskates.com/mlk-skating/event/general-public-session-2025-07-03/
LOCATION:Dr. Martin Luther King\, Jr. Park & Family Entertainment Center\, 1219 W. 76th St.\, Chicago\, IL\, 6020\, United States
CATEGORIES:Family Events,Public Skates,Special Events
ATTACH;FMTTYPE=image/png:https://unitedskates-assets.sfo3.digitaloceanspaces.com/wp-content/uploads/sites/18/2024/12/15.-Red-white-and-GLOW-skate-07-03-25.png
END:VEVENT
BEGIN:VEVENT
DTSTART;TZID=America/Chicago:20250704T140000
DTEND;TZID=America/Chicago:20250704T170000
DTSTAMP:20260421T214856
CREATED:20240812T160501Z
LAST-MODIFIED:20250624T193412Z
UID:15677-1751637600-1751648400@www.unitedskates.com
SUMMARY:🎆 Mario's Red\, White & Boom Sno Cone Bash! 🎆
DESCRIPTION:Get ready to chill\, thrill\, and celebrate the 4th of July with Mario at our Red\, White & Boom Sno Cone Event! 🎉 It’s all going down at MLK Skating & Bowling — and it’s going to be a blast. 💥 🍧 FREE Red\, White\, or Blue Sno Cone with admission 🎭 Live character appearances by Mario himself! (photo ops = must!) \n$11.00 Admission $4.00 Skate Rental OR \n$11.00 2 Games of Bowling $4.00 Shoe Rental \n$11.00 Spectator fee for Non-Skating OR Non-Bowling Adults \nEach Activity will need to be paid for separately. \n*All Guest\, ages 2-17 Must pay for admission and rental whether skating or not. \n*TAXES ARE NOT INCLUDED
URL:https://www.unitedskates.com/mlk-skating/event/public-skate-or-bowl-5-2025-07-04/
LOCATION:Dr. Martin Luther King\, Jr. Park & Family Entertainment Center\, 1219 W. 76th St.\, Chicago\, IL\, 6020\, United States
CATEGORIES:Family Events,Public Skates,Special Events
ATTACH;FMTTYPE=image/png:https://unitedskates-assets.sfo3.digitaloceanspaces.com/wp-content/uploads/sites/18/2024/08/Marios-Red-White-Boom-Skate-07-04-25.png
END:VEVENT
BEGIN:VEVENT
DTSTART;TZID=America/Chicago:20250705T120000
DTEND;TZID=America/Chicago:20250705T150000
DTSTAMP:20260421T214856
CREATED:20250515T163133Z
LAST-MODIFIED:20250515T163134Z
UID:16621-1751716800-1751727600@www.unitedskates.com
SUMMARY:Skate with Stitch & Angel
DESCRIPTION:Aloha fun on wheels! 🌺🛼Stitch & Angel are rolling into town!📅 Saturday\, July 5 | 🕛 12 PM – 3 PM$13 gets you in + a cheesy slice 🍕$4 skate rentalBring your ohana & let’s skate! 🐾✨\nAll ages 2-17 must pay for admission and rental regardless of participation\, \nAges 18+ must pay for Admission Regardless of participation
URL:https://www.unitedskates.com/mlk-skating/event/skate-with-stitch-angel/
LOCATION:Dr. Martin Luther King\, Jr. Park & Family Entertainment Center\, 1219 W. 76th St.\, Chicago\, IL\, 6020\, United States
CATEGORIES:Public Skates,Special Events
ATTACH;FMTTYPE=image/png:https://unitedskates-assets.sfo3.digitaloceanspaces.com/wp-content/uploads/sites/18/2025/05/Stitch-and-angel-7-5-25.png
END:VEVENT
BEGIN:VEVENT
DTSTART;TZID=America/Chicago:20250706T143000
DTEND;TZID=America/Chicago:20250706T163000
DTSTAMP:20260421T214856
CREATED:20250318T161358Z
LAST-MODIFIED:20250702T190415Z
UID:17072-1751812200-1751819400@www.unitedskates.com
SUMMARY:🎉 $5.00 Sundays In July! General Public Skate or Bowl 🎉
DESCRIPTION:✨ Come join us for a Sunday filled with fun and SAVINGS‼️ — skate or bowl\, it’s up to you! ✨ \n✨ The perfect way to save this summer and still bring the fun\, the vibes\, and the memories with your crew or your kids! ☀️🎶 \n🍕 FAMILY SPECIAL 💥 ONLY $30✔️ One Whole Topping Pizza✔️ One Pitcher of Your Choice✔️ A 20 Credit Game Card (That’s over $10 in SAVINGS‼️) Must Mention this to cashier at the time of purchasing. \n💯 Great music\, cool vibes\, air-conditioned fun\, and deals that’ll make your wallet smile. 🙌🏾 Come chill with us\, get your roll on\, and let’s make every Sunday a whole vibe! \n$5.00 Admission $4.00 Skate Rental OR \n$5.00 2 Games of Bowling $4.00 Shoe Rental \n$5.00 Spectator fee for Non-Skating OR Non-Bowling Adults \n$6.00 Skate Mates \nEach Activity will need to be paid for separately \n*All Guest\, ages 2-17 Must pay for admission and rental whether skating or not. \n*Taxes are not included.
URL:https://www.unitedskates.com/mlk-skating/event/sunday-funday-general-public-skate-or-bowl-2025-07-06/
LOCATION:Dr. Martin Luther King\, Jr. Park & Family Entertainment Center\, 1219 W. 76th St.\, Chicago\, IL\, 6020\, United States
CATEGORIES:Family Events,Public Skates,Special Events
ATTACH;FMTTYPE=image/png:https://unitedskates-assets.sfo3.digitaloceanspaces.com/wp-content/uploads/sites/18/2025/03/5-Dollar-Sundays-in-July-2025-.png
END:VEVENT
BEGIN:VEVENT
DTSTART;TZID=America/Chicago:20250706T170000
DTEND;TZID=America/Chicago:20250706T193000
DTSTAMP:20260421T214856
CREATED:20220504T002055Z
LAST-MODIFIED:20250702T200648Z
UID:16523-1751821200-1751830200@www.unitedskates.com
SUMMARY:🎉 $5.00 Sundays In July! General Public Skate or Bowl 🎉
DESCRIPTION:✨ Come join us for a Sunday filled with fun and SAVINGS‼️ — skate or bowl\, it’s up to you! ✨ \n✨ The perfect way to save this summer and still bring the fun\, the vibes\, and the memories with your crew or your kids! ☀️🎶 \n🍕 FAMILY SPECIAL 💥 ONLY $30✔️ One Whole Topping Pizza✔️ One Pitcher of Your Choice✔️ A 20 Credit Game Card (That’s over $10 in SAVINGS‼️) Must Mention this to cashier at the time of purchasing. \n💯 Great music\, cool vibes\, air-conditioned fun\, and deals that’ll make your wallet smile. 🙌🏾 Come chill with us\, get your roll on\, and let’s make every Sunday a whole vibe! \n$5.00 Admission $4.00 Skate Rental OR \n$5.00 2 Games of Bowling $4.00 Shoe Rental \n$5.00 Spectator fee for Non-Skating OR Non-Bowling Adults \n$6.00 Skate Mates \nEach Activity will need to be paid for separately \n*All Guest\, ages 2-17 Must pay for admission and rental whether skating or not. \n*Taxes are not included.
URL:https://www.unitedskates.com/mlk-skating/event/sunday-funday-public-skate-or-bowl-session-2-2025-07-06/
LOCATION:Dr. Martin Luther King\, Jr. Park & Family Entertainment Center\, 1219 W. 76th St.\, Chicago\, IL\, 6020\, United States
CATEGORIES:Family Events,Public Skates,Special Events
ATTACH;FMTTYPE=image/png:https://unitedskates-assets.sfo3.digitaloceanspaces.com/wp-content/uploads/sites/18/2025/03/5-Dollar-Sundays-in-July-2025-.png
END:VEVENT
BEGIN:VEVENT
DTSTART;TZID=America/Chicago:20250707T173000
DTEND;TZID=America/Chicago:20250707T200000
DTSTAMP:20260421T214856
CREATED:20250702T202331Z
LAST-MODIFIED:20250702T202331Z
UID:17265-1751909400-1751918400@www.unitedskates.com
SUMMARY:Monday Summer Skate or Bowl 🎳 Session III
DESCRIPTION:🎉 Join us every Monday this summer for skating and bowling at MLK Skating & Bowling! It’s the perfect way to kick off the week and keep the summer vibes rolling. 🎳 Skate. Bowl. Have fun! We can’t wait to see you every Monday this summer! \n$10.00 Admission $4.00 Skate Rental OR \n$10.00 2 Games of Bowling $4.00 Shoe Rental \n$10.00 Spectator fee for Non-Skating OR Non-Bowling Adults \nEach Activity will need to be paid for separately. \n*All Guest\, ages 2-17 Must pay for admission and rental whether skating or not. \n*TAXES ARE NOT INCLUDED
URL:https://www.unitedskates.com/mlk-skating/event/monday-summer-skate-or-bowl-%f0%9f%8e%b3-session-iii/2025-07-07/
LOCATION:Dr. Martin Luther King\, Jr. Park & Family Entertainment Center\, 1219 W. 76th St.\, Chicago\, IL\, 6020\, United States
CATEGORIES:Public Skates
ATTACH;FMTTYPE=image/jpeg:https://unitedskates-assets.sfo3.digitaloceanspaces.com/wp-content/uploads/sites/18/2024/05/Summer-Fun-Skate-1200x1200-1.jpg
END:VEVENT
BEGIN:VEVENT
DTSTART;TZID=America/Chicago:20250712T120000
DTEND;TZID=America/Chicago:20250712T150000
DTSTAMP:20260421T214856
CREATED:20240812T202500Z
LAST-MODIFIED:20250610T172529Z
UID:15860-1752321600-1752332400@www.unitedskates.com
SUMMARY:🌺🏖️ BIKINI BOTTOM UNDER THE SEA LUAU! 🏖️🌺
DESCRIPTION:👙 🌴Dress up in your best island gear and get ready to hula your heart out! This party’s gonna be under the sea—and over the top. \n⭐ SpongeBob🌺 Stitch🧜‍♀️ Little Mermaid🌈 Moana \nAdmission Includes LED Lei & “Under the Sea” Snow Cone! 🎶 Great Music 🎯 Fun Games🌸 Leis & Snow Cones – For Skate Ticket Holders Only! \n$13.00 Admission $4.00 Skate Rental OR \n$13.00 2 Games of Bowling $4.00 Shoe Rental \n$11.00 Spectator fee for Non-Skating OR Non-Bowling Adults \nEach Activity will need to be paid for separately. \n*All Guest\, ages 2-17 Must pay for admission and rental whether skating or not. \n*TAXES ARE NOT INCLUDED
URL:https://www.unitedskates.com/mlk-skating/event/public-skate-bowl-session-i-2024-10-12-2025-07-12/
LOCATION:Dr. Martin Luther King\, Jr. Park & Family Entertainment Center\, 1219 W. 76th St.\, Chicago\, IL\, 6020\, United States
CATEGORIES:Family Events,Public Skates,Special Events
ATTACH;FMTTYPE=image/png:https://unitedskates-assets.sfo3.digitaloceanspaces.com/wp-content/uploads/sites/18/2024/08/Bikini-Bottom-Under-the-Sea-07-12-25.png
END:VEVENT
BEGIN:VEVENT
DTSTART;TZID=America/Chicago:20250713T143000
DTEND;TZID=America/Chicago:20250713T163000
DTSTAMP:20260421T214857
CREATED:20250318T161358Z
LAST-MODIFIED:20250702T200814Z
UID:17073-1752417000-1752424200@www.unitedskates.com
SUMMARY:🎉 $5.00 Sundays In July! General Public Skate or Bowl 🎉
DESCRIPTION:✨ Come join us for a Sunday filled with fun and SAVINGS‼️ — skate or bowl\, it’s up to you! ✨ \n✨ The perfect way to save this summer and still bring the fun\, the vibes\, and the memories with your crew or your kids! ☀️🎶 \n🍕 FAMILY SPECIAL 💥 ONLY $30✔️ One Whole Topping Pizza✔️ One Pitcher of Your Choice✔️ A 20 Credit Game Card (That’s over $10 in SAVINGS‼️) Must Mention this to cashier at the time of purchasing. \n💯 Great music\, cool vibes\, air-conditioned fun\, and deals that’ll make your wallet smile. 🙌🏾 Come chill with us\, get your roll on\, and let’s make every Sunday a whole vibe! \n$5.00 Admission $4.00 Skate Rental OR \n$5.00 2 Games of Bowling $4.00 Shoe Rental \n$5.00 Spectator fee for Non-Skating OR Non-Bowling Adults \n$6.00 Skate Mates \nEach Activity will need to be paid for separately \n*All Guest\, ages 2-17 Must pay for admission and rental whether skating or not. \n*Taxes are not included.
URL:https://www.unitedskates.com/mlk-skating/event/sunday-funday-general-public-skate-or-bowl-2025-07-13/
LOCATION:Dr. Martin Luther King\, Jr. Park & Family Entertainment Center\, 1219 W. 76th St.\, Chicago\, IL\, 6020\, United States
CATEGORIES:Family Events,Public Skates,Special Events
ATTACH;FMTTYPE=image/png:https://unitedskates-assets.sfo3.digitaloceanspaces.com/wp-content/uploads/sites/18/2025/03/5-Dollar-Sundays-in-July-2025-.png
END:VEVENT
BEGIN:VEVENT
DTSTART;TZID=America/Chicago:20250713T170000
DTEND;TZID=America/Chicago:20250713T193000
DTSTAMP:20260421T214857
CREATED:20250609T160854Z
LAST-MODIFIED:20250702T201013Z
UID:17143-1752426000-1752435000@www.unitedskates.com
SUMMARY:🎉 $5.00 Sundays In July! General Public Skate or Bowl 🎉
DESCRIPTION:✨ Come join us for a Sunday filled with fun and SAVINGS‼️ — skate or bowl\, it’s up to you! ✨ \n✨ The perfect way to save this summer and still bring the fun\, the vibes\, and the memories with your crew or your kids! ☀️🎶 \n🍕 FAMILY SPECIAL 💥 ONLY $30✔️ One Whole Topping Pizza✔️ One Pitcher of Your Choice✔️ A 20 Credit Game Card (That’s over $10 in SAVINGS‼️) Must Mention this to cashier at the time of purchasing. \n💯 Great music\, cool vibes\, air-conditioned fun\, and deals that’ll make your wallet smile. 🙌🏾 Come chill with us\, get your roll on\, and let’s make every Sunday a whole vibe! \n$5.00 Admission $4.00 Skate Rental OR \n$5.00 2 Games of Bowling $4.00 Shoe Rental \n$5.00 Spectator fee for Non-Skating OR Non-Bowling Adults \n$6.00 Skate Mates \nEach Activity will need to be paid for separately \n*All Guest\, ages 2-17 Must pay for admission and rental whether skating or not. \n*Taxes are not included.
URL:https://www.unitedskates.com/mlk-skating/event/%f0%9f%8e%89-sunday-funday-general-public-skate-or-bowl-%f0%9f%8e%89/
LOCATION:Dr. Martin Luther King\, Jr. Park & Family Entertainment Center\, 1219 W. 76th St.\, Chicago\, IL\, 6020\, United States
CATEGORIES:Family Events,Public Skates,Special Events
ATTACH;FMTTYPE=image/png:https://unitedskates-assets.sfo3.digitaloceanspaces.com/wp-content/uploads/sites/18/2025/03/5-Dollar-Sundays-in-July-2025-.png
END:VEVENT
BEGIN:VEVENT
DTSTART;TZID=America/Chicago:20250720T143000
DTEND;TZID=America/Chicago:20250720T163000
DTSTAMP:20260421T214857
CREATED:20250318T161358Z
LAST-MODIFIED:20250718T194613Z
UID:17074-1753021800-1753029000@www.unitedskates.com
SUMMARY:🎉 $5.00 Sundays In July! General Public Skate or Bowl 🎉
DESCRIPTION:✨ Come join us for a Sunday filled with fun and SAVINGS‼️ — skate or bowl\, it’s up to you! ✨ \n✨ The perfect way to save this summer and still bring the fun\, the vibes\, and the memories with your crew or your kids! ☀️🎶 \n🍕 FAMILY SPECIAL 💥 ONLY $30✔️ One Whole Topping Pizza✔️ One Pitcher of Your Choice✔️ A 20 Credit Game Card (That’s over $10 in SAVINGS‼️) Must Mention this to cashier at the time of purchasing. \n💯 Great music\, cool vibes\, air-conditioned fun\, and deals that’ll make your wallet smile. 🙌🏾 Come chill with us\, get your roll on\, and let’s make every Sunday a whole vibe! \n$5.00 Admission $4.00 Skate Rental OR \n$5.00 2 Games of Bowling $4.00 Shoe Rental \n$5.00 Spectator fee for Non-Skating OR Non-Bowling Adults \n$6.00 Skate Mates \nEach Activity will need to be paid for separately \n*All Guest\, ages 2-17 Must pay for admission and rental whether skating or not. \n*Taxes are not included.
URL:https://www.unitedskates.com/mlk-skating/event/sunday-funday-general-public-skate-or-bowl-2025-07-20/
LOCATION:Dr. Martin Luther King\, Jr. Park & Family Entertainment Center\, 1219 W. 76th St.\, Chicago\, IL\, 6020\, United States
CATEGORIES:Family Events,Public Skates,Special Events
ATTACH;FMTTYPE=image/png:https://unitedskates-assets.sfo3.digitaloceanspaces.com/wp-content/uploads/sites/18/2025/03/5-Dollar-Sundays-in-July-2025-.png
END:VEVENT
BEGIN:VEVENT
DTSTART;TZID=America/Chicago:20250720T170000
DTEND;TZID=America/Chicago:20250720T193000
DTSTAMP:20260421T214857
CREATED:20250609T160854Z
LAST-MODIFIED:20250702T201125Z
UID:17145-1753030800-1753039800@www.unitedskates.com
SUMMARY:🎉 $5.00 Sundays In July! General Public Skate or Bowl 🎉
DESCRIPTION:✨ Come join us for a Sunday filled with fun and SAVINGS‼️ — skate or bowl\, it’s up to you! ✨ \n✨ The perfect way to save this summer and still bring the fun\, the vibes\, and the memories with your crew or your kids! ☀️🎶 \n🍕 FAMILY SPECIAL 💥 ONLY $30✔️ One Whole Topping Pizza✔️ One Pitcher of Your Choice✔️ A 20 Credit Game Card (That’s over $10 in SAVINGS‼️) Must Mention this to cashier at the time of purchasing. \n💯 Great music\, cool vibes\, air-conditioned fun\, and deals that’ll make your wallet smile. 🙌🏾 Come chill with us\, get your roll on\, and let’s make every Sunday a whole vibe! \n$5.00 Admission $4.00 Skate Rental OR \n$5.00 2 Games of Bowling $4.00 Shoe Rental \n$5.00 Spectator fee for Non-Skating OR Non-Bowling Adults \n$6.00 Skate Mates \nEach Activity will need to be paid for separately \n*All Guest\, ages 2-17 Must pay for admission and rental whether skating or not. \n*Taxes are not included.
URL:https://www.unitedskates.com/mlk-skating/event/%f0%9f%8e%89-sunday-funday-general-public-skate-or-bowl-%f0%9f%8e%89-2025-07-20/
LOCATION:Dr. Martin Luther King\, Jr. Park & Family Entertainment Center\, 1219 W. 76th St.\, Chicago\, IL\, 6020\, United States
CATEGORIES:Family Events,Public Skates,Special Events
ATTACH;FMTTYPE=image/png:https://unitedskates-assets.sfo3.digitaloceanspaces.com/wp-content/uploads/sites/18/2025/03/5-Dollar-Sundays-in-July-2025-.png
END:VEVENT
BEGIN:VEVENT
DTSTART;TZID=America/Chicago:20250723T143000
DTEND;TZID=America/Chicago:20250723T170000
DTSTAMP:20260421T214857
CREATED:20250602T192916Z
LAST-MODIFIED:20250715T192044Z
UID:16869-1753281000-1753290000@www.unitedskates.com
SUMMARY:  🦈🌊 Shark Attack Skate or Bowl 🌊🦈
DESCRIPTION:Celebrate Shark Week with Us! Get ready for some jaw-some fun and meet our Shark of the Week — snap pics\, have fun\, and make a splash at Dr. MLK Skating & Bowling Center!  \n$6.00 Admission $4.00 Skate Rental OR \n$6.00 2 Games of Bowling $4.00 Shoe Rental \n$6.00 Spectator fee for Non-Skating OR Non-Bowling Adults \nEach Activity will need to be paid for separately. \n*All Guest\, ages 2-17 Must pay for admission and rental whether skating or not. \n*TAXES ARE NOT INCLUDED
URL:https://www.unitedskates.com/mlk-skating/event/wednesday-summer-skate-or-bowl-%f0%9f%8e%b3-session-ii-2025-07-23/
LOCATION:Dr. Martin Luther King\, Jr. Park & Family Entertainment Center\, 1219 W. 76th St.\, Chicago\, IL\, 6020\, United States
CATEGORIES:Family Events,Public Skates,Special Events
ATTACH;FMTTYPE=image/png:https://unitedskates-assets.sfo3.digitaloceanspaces.com/wp-content/uploads/sites/18/2025/06/Shark-Attack-Skate-2024-editable-07-23-25.png
END:VEVENT
BEGIN:VEVENT
DTSTART;TZID=America/Chicago:20250726T120000
DTEND;TZID=America/Chicago:20250726T150000
DTSTAMP:20260421T214857
CREATED:20240812T202500Z
LAST-MODIFIED:20250515T180151Z
UID:15862-1753531200-1753542000@www.unitedskates.com
SUMMARY:Olaf's Summer Wish
DESCRIPTION:Olaf’s dreaming of summer… on skates! ☀️⛸️❄️\nJoin us Saturday\, July 26th | 12–3 PM for Olaf’s Summer Wish Skate!\n🎟️ $11 admission | 🛼 $4 skate rental or she\n🍧 Cool snow cones\, ❄️ fun games\, & 📸 pics with Olaf himself!\nLet’s chill and roll into summer fun! ⛄🛼💙 \nEach Activity will need to be paid for separately. \n*All Guest\, ages 2-17 Must pay for admission and rental whether skating or not. \n*TAXES ARE NOT INCLUDED
URL:https://www.unitedskates.com/mlk-skating/event/public-skate-bowl-session-i-2024-10-12-2025-07-26/
LOCATION:Dr. Martin Luther King\, Jr. Park & Family Entertainment Center\, 1219 W. 76th St.\, Chicago\, IL\, 6020\, United States
CATEGORIES:Public Skates,Special Events
ATTACH;FMTTYPE=image/png:https://unitedskates-assets.sfo3.digitaloceanspaces.com/wp-content/uploads/sites/18/2024/08/Olaf-summer-wish-7-26-25.png
END:VEVENT
BEGIN:VEVENT
DTSTART;TZID=America/Chicago:20250727T143000
DTEND;TZID=America/Chicago:20250727T163000
DTSTAMP:20260421T214857
CREATED:20250318T161358Z
LAST-MODIFIED:20250609T153409Z
UID:17075-1753626600-1753633800@www.unitedskates.com
SUMMARY:Merry Minion skate
DESCRIPTION:✨ Come join us for a Sunday filled with fun — skate or bowl\, it’s up to you! ✨ \nMeet The minion! \n$11.00 Admission $4.00 Skate Rental OR \n$11.00 2 Games of Bowling $4.00 Shoe Rental \n$11.00 Spectator fee for Non-Skating OR Non-Bowling Adults \nEach Activity will need to be paid for separately \n*All Guest\, ages 2-17 Must pay for admission and rental whether skating or not. \n*Taxes are not included.
URL:https://www.unitedskates.com/mlk-skating/event/sunday-funday-general-public-skate-or-bowl-2025-07-27/
LOCATION:Dr. Martin Luther King\, Jr. Park & Family Entertainment Center\, 1219 W. 76th St.\, Chicago\, IL\, 6020\, United States
CATEGORIES:Public Skates,Special Events
ATTACH;FMTTYPE=image/jpeg:https://unitedskates-assets.sfo3.digitaloceanspaces.com/wp-content/uploads/sites/18/2025/03/Merry-Minion-roller-skate-scaled.jpg
END:VEVENT
BEGIN:VEVENT
DTSTART;TZID=America/Chicago:20250727T170000
DTEND;TZID=America/Chicago:20250727T193000
DTSTAMP:20260421T214857
CREATED:20250609T160854Z
LAST-MODIFIED:20250702T201446Z
UID:17146-1753635600-1753644600@www.unitedskates.com
SUMMARY: $5.00 Sundays In July! General Public Skate or Bowl ✨
DESCRIPTION:✨ Come join us for a Sunday filled with fun and SAVINGS‼️ — skate or bowl\, it’s up to you! ✨ \n✨ The perfect way to save this summer and still bring the fun\, the vibes\, and the memories with your crew or your kids! ☀️🎶 \n🍕 FAMILY SPECIAL 💥 ONLY $30✔️ One Whole Topping Pizza✔️ One Pitcher of Your Choice✔️ A 20 Credit Game Card (That’s over $10 in SAVINGS‼️) Must Mention this to cashier at the time of purchasing. \n💯 Great music\, cool vibes\, air-conditioned fun\, and deals that’ll make your wallet smile. 🙌🏾 Come chill with us\, get your roll on\, and let’s make every Sunday a whole vibe! \n$5.00 Admission $4.00 Skate Rental OR \n$5.00 2 Games of Bowling $4.00 Shoe Rental \n$5.00 Spectator fee for Non-Skating OR Non-Bowling Adults \n$6.00 Skate Mates \nEach Activity will need to be paid for separately \n*All Guest\, ages 2-17 Must pay for admission and rental whether skating or not. \n*Taxes are not included.
URL:https://www.unitedskates.com/mlk-skating/event/%f0%9f%8e%89-sunday-funday-general-public-skate-or-bowl-%f0%9f%8e%89-2025-07-27/
LOCATION:Dr. Martin Luther King\, Jr. Park & Family Entertainment Center\, 1219 W. 76th St.\, Chicago\, IL\, 6020\, United States
CATEGORIES:Family Events,Public Skates,Special Events
ATTACH;FMTTYPE=image/png:https://unitedskates-assets.sfo3.digitaloceanspaces.com/wp-content/uploads/sites/18/2025/03/5-Dollar-Sundays-in-July-2025-.png
END:VEVENT
END:VCALENDAR