BEGIN:VCALENDAR
VERSION:2.0
PRODID:-//Rink 46 - MLK Skating - ECPv6.15.20//NONSGML v1.0//EN
CALSCALE:GREGORIAN
METHOD:PUBLISH
X-ORIGINAL-URL:https://www.unitedskates.com/mlk-skating
X-WR-CALDESC:Events for Rink 46 - MLK Skating
REFRESH-INTERVAL;VALUE=DURATION:PT1H
X-Robots-Tag:noindex
X-PUBLISHED-TTL:PT1H
BEGIN:VTIMEZONE
TZID:America/Chicago
BEGIN:DAYLIGHT
TZOFFSETFROM:-0600
TZOFFSETTO:-0500
TZNAME:CDT
DTSTART:20240310T080000
END:DAYLIGHT
BEGIN:STANDARD
TZOFFSETFROM:-0500
TZOFFSETTO:-0600
TZNAME:CST
DTSTART:20241103T070000
END:STANDARD
BEGIN:DAYLIGHT
TZOFFSETFROM:-0600
TZOFFSETTO:-0500
TZNAME:CDT
DTSTART:20250309T080000
END:DAYLIGHT
BEGIN:STANDARD
TZOFFSETFROM:-0500
TZOFFSETTO:-0600
TZNAME:CST
DTSTART:20251102T070000
END:STANDARD
BEGIN:DAYLIGHT
TZOFFSETFROM:-0600
TZOFFSETTO:-0500
TZNAME:CDT
DTSTART:20260308T080000
END:DAYLIGHT
BEGIN:STANDARD
TZOFFSETFROM:-0500
TZOFFSETTO:-0600
TZNAME:CST
DTSTART:20261101T070000
END:STANDARD
END:VTIMEZONE
BEGIN:VEVENT
DTSTART;TZID=America/Chicago:20250505T170000
DTEND;TZID=America/Chicago:20250505T200000
DTSTAMP:20260421T145957
CREATED:20250318T161358Z
LAST-MODIFIED:20250328T215400Z
UID:16497-1746464400-1746475200@www.unitedskates.com
SUMMARY:🌮🎉 Cinco de Mayo Skate or Bowl Fiesta! 🎉🌮
DESCRIPTION:Get ready for a Cinco de Mayo celebration like no other! Join us for a fun-filled afternoon of skating\, bowling\, and festive vibes with family and friends! 🇲🇽💃 👉 Grab your amigos and familia and celebrate Cinco de Mayo with us—fun\, food\, and unforgettable memories await! \n🎁 Cinco de Mayo Giveaways – All session long! 🌮 Walking Tacos – Available for purchase all session long! ❤️💚 Red & Green Glow Sticks – Just $1 to light up the rink! 🕹️ Game Cards – Only $5 for 20 credits—play and win! 🎶 The Best Hits – Dance and skate to the hottest beats! \n$12.00 Admission $4.00 Skate Rental OR \n$12.00 2 Games of Bowling $4.00 Shoe Rental \n$11.00 Spectator fee for Non-Skating OR Non-Bowling Adults \nEach Activity will need to be paid for separately \n*All Guest\, ages 2-17 Must pay for admission and rental whether skating or not. \n*Taxes are not included.
URL:https://www.unitedskates.com/mlk-skating/event/sunday-funday-general-public-skate-or-bowl-2025-05-04/
LOCATION:Dr. Martin Luther King\, Jr. Park & Family Entertainment Center\, 1219 W. 76th St.\, Chicago\, IL\, 6020\, United States
CATEGORIES:Family Events,Public Skates,Special Events
ATTACH;FMTTYPE=image/png:https://unitedskates-assets.sfo3.digitaloceanspaces.com/wp-content/uploads/sites/18/2025/03/Cinco-De-Mayo-Flyer-05-05-2025.png
END:VEVENT
BEGIN:VEVENT
DTSTART;TZID=America/Chicago:20250509T170000
DTEND;TZID=America/Chicago:20250509T190000
DTSTAMP:20260421T145957
CREATED:20250314T201021Z
LAST-MODIFIED:20250314T201021Z
UID:16397-1746810000-1746817200@www.unitedskates.com
SUMMARY:🍟🎉 Funnel Fries Friday! 🎉🍟
DESCRIPTION:Get ready for a night of fun\, food\, and family time at our Funnel Fries Friday! You don’t want to miss out on this delicious and exciting event! 😋 \n🍟 FREE Small Funnel Fries with every paid admission – topped with delicious powdered sugar! 😍 \n$13.00 Admission $4.00 Skate Rental OR \n$13.00 2 Games of Bowling $4.00 Shoe Rental \n$11.00 Spectator fee for Non-Skating OR Non-Bowling Adults \nEach Activity will need to be paid for separately. \n*All Guest\, ages 2-17 Must pay for admission and rental whether skating or not. \n*TAXES ARE NOT INCLUDED
URL:https://www.unitedskates.com/mlk-skating/event/%f0%9f%8d%9f%f0%9f%8e%89-funnel-fries-friday-%f0%9f%8e%89%f0%9f%8d%9f/
LOCATION:Dr. Martin Luther King\, Jr. Park & Family Entertainment Center\, 1219 W. 76th St.\, Chicago\, IL\, 6020\, United States
CATEGORIES:Family Events,Public Skates,Special Events
ATTACH;FMTTYPE=image/png:https://unitedskates-assets.sfo3.digitaloceanspaces.com/wp-content/uploads/sites/18/2025/03/FUNNELFRIES-FRIDAY-05-09-25.png
END:VEVENT
BEGIN:VEVENT
DTSTART;TZID=America/Chicago:20250511T143000
DTEND;TZID=America/Chicago:20250511T163000
DTSTAMP:20260421T145957
CREATED:20250318T161358Z
LAST-MODIFIED:20250507T181547Z
UID:16498-1746973800-1746981000@www.unitedskates.com
SUMMARY:🌸 Mother's Day Skate or Bowl 🌸
DESCRIPTION:🌸 Celebrate Mom in Style! 🌸 Join us this Mother’s Day — Sunday\, May 11th\, 2025 from 2:30 PM to 4:30 PM for an afternoon full of fun\, laughter\, and great memories! 💃🛼🎳 \n💐 Moms get $2.00 OFF with every paid admission! \n$11.00 Admission $4.00 Skate Rental OR \n$11.00 2 Games of Bowling $4.00 Shoe Rental \n$11.00 Spectator fee for Non-Skating OR Non-Bowling Adults \nEach Activity will need to be paid for separately. \n*All Guest\, ages 2-17 Must pay for admission and rental whether skating or not. \n*Taxes are not included.
URL:https://www.unitedskates.com/mlk-skating/event/sunday-funday-general-public-skate-or-bowl-2025-05-11/
LOCATION:Dr. Martin Luther King\, Jr. Park & Family Entertainment Center\, 1219 W. 76th St.\, Chicago\, IL\, 6020\, United States
CATEGORIES:Family Events,Public Skates,Special Events
ATTACH;FMTTYPE=image/png:https://unitedskates-assets.sfo3.digitaloceanspaces.com/wp-content/uploads/sites/18/2025/03/Mothers-Day-Skate-or-Bowl-Session-I-05-11-25.png
END:VEVENT
BEGIN:VEVENT
DTSTART;TZID=America/Chicago:20250511T170000
DTEND;TZID=America/Chicago:20250511T190000
DTSTAMP:20260421T145957
CREATED:20220504T002055Z
LAST-MODIFIED:20250507T214308Z
UID:16515-1746982800-1746990000@www.unitedskates.com
SUMMARY:🌸 Mother's Day Character Skate or Bowl Session II 🌸
DESCRIPTION:🎀 Wear Your Pink Bows & Take Pictures with Minnie Mouse 💕 for an afternoon full of fun\, laughter\, and great memories! 💃🎳 \n💐 Moms get $2.00 OFF with every paid admission! \n$11.00 Admission $4.00 Skate Rental OR  \n\n\n\n$11.00 2 Games of Bowling $4.00 Shoe Rental \n\n\n\n$11.00 Spectator fee for Non-Skating OR Non-Bowling Adults \n\n\n\nEach Activity will need to be paid for separately \n\n\n\n*All Guest\, ages 2-17 Must pay for admission and rental whether skating or not. \n\n\n\n*Taxes are not included.
URL:https://www.unitedskates.com/mlk-skating/event/sunday-funday-public-skate-or-bowl-session-2-2025-05-11/
LOCATION:Dr. Martin Luther King\, Jr. Park & Family Entertainment Center\, 1219 W. 76th St.\, Chicago\, IL\, 6020\, United States
CATEGORIES:Family Events,Public Skates,Special Events
ATTACH;FMTTYPE=image/png:https://unitedskates-assets.sfo3.digitaloceanspaces.com/wp-content/uploads/sites/18/2022/05/5-7-pm-session-Mothers-Day-Skate-05-11-2025.png
END:VEVENT
BEGIN:VEVENT
DTSTART;TZID=America/Chicago:20250517T120000
DTEND;TZID=America/Chicago:20250517T150000
DTSTAMP:20260421T145957
CREATED:20240812T202500Z
LAST-MODIFIED:20250314T213253Z
UID:15830-1747483200-1747494000@www.unitedskates.com
SUMMARY:🍄🎯 Mario & Peach Skate or Bowl Party! 🎯🍄
DESCRIPTION:It’s-a me\, Mario! 👨‍🔧👑 Get ready for a super fun adventure at our Mario & Peach Skate or Bowl Party! Join us for a day of gaming-inspired fun\, giveaways\, and a special appearance by Mario and Princess Peach! \n$11.00 Admission $4.00 Skate Rental OR \n$11.00 2 Games of Bowling $4.00 Shoe Rental \n$11.00 Spectator fee for Non-Skating OR Non-Bowling Adults \nEach Activity will need to be paid for separately. \n*All Guest\, ages 2-17 Must pay for admission and rental whether skating or not. \n*TAXES ARE NOT INCLUDED
URL:https://www.unitedskates.com/mlk-skating/event/public-skate-bowl-session-i-2024-10-12-2025-05-17/
LOCATION:Dr. Martin Luther King\, Jr. Park & Family Entertainment Center\, 1219 W. 76th St.\, Chicago\, IL\, 6020\, United States
CATEGORIES:Family Events,Public Skates,Special Events
ATTACH;FMTTYPE=image/png:https://unitedskates-assets.sfo3.digitaloceanspaces.com/wp-content/uploads/sites/18/2024/08/Mario-Peach-05-17-25.png
END:VEVENT
BEGIN:VEVENT
DTSTART;TZID=America/Chicago:20250518T170000
DTEND;TZID=America/Chicago:20250518T190000
DTSTAMP:20260421T145957
CREATED:20220504T002055Z
LAST-MODIFIED:20250328T153712Z
UID:16516-1747587600-1747594800@www.unitedskates.com
SUMMARY:🎮🛹🎳 Fortnite Skate or Bowl Night! 🎳🛹🎮
DESCRIPTION:🔥 Get ready to drop in! Join us for an epic Fortnite Skate or Bowl Night! \n💃 Bust out your best moves to Fortnite Emote songs all night!🎭 Costume Contest – Dress as your favorite Fortnite skin and win awesome prizes!🧠 Fortnite Trivia – Test your game knowledge and snag some sweet rewards!🍕 Cafe Specials – Fuel up with tasty deals all session long! \n$11.00 Admission $4.00 Skate Rental OR  \n\n\n\n$11.00 2 Games of Bowling $4.00 Shoe Rental \n\n\n\n$11.00 Spectator fee for Non-Skating OR Non-Bowling Adults \n\n\n\nEach Activity will need to be paid for separately \n\n\n\n*All Guest\, ages 2-17 Must pay for admission and rental whether skating or not. \n\n\n\n*Taxes are not included.
URL:https://www.unitedskates.com/mlk-skating/event/sunday-funday-public-skate-or-bowl-session-2-2025-05-18/
LOCATION:Dr. Martin Luther King\, Jr. Park & Family Entertainment Center\, 1219 W. 76th St.\, Chicago\, IL\, 6020\, United States
CATEGORIES:Family Events,Public Skates,Special Events
ATTACH;FMTTYPE=image/png:https://unitedskates-assets.sfo3.digitaloceanspaces.com/wp-content/uploads/sites/18/2022/05/Fortnite-Skate-05-18-2025.png
END:VEVENT
BEGIN:VEVENT
DTSTART;TZID=America/Chicago:20250522T170000
DTEND;TZID=America/Chicago:20250522T200000
DTSTAMP:20260421T145957
CREATED:20241203T212711Z
LAST-MODIFIED:20250328T181851Z
UID:15006-1747933200-1747944000@www.unitedskates.com
SUMMARY:🔥🍫 S'mores Night Skate & Bowl! 🍫🔥
DESCRIPTION:🔥🍫 Get ready for a sweet night of fun! Join us for our  S’MORES NIGHT! 🍫🔥 \n🍫 Admission includes ONE TRIP to our gooey\, delicious S’mores Bar – because nothing pairs better with skating than melty chocolate and toasted marshmallows! 😋 \n$13.00 Admission $4.00 Skate Rental OR \n$13.00 2 Games of Bowling $4.00 Shoe Rental \n$11.00 Spectator fee for Non-participating adults. \nEach Activity will need to be paid for separately. \n*All Guest\, ages 2-17 Must pay for admission and rental whether skating or not. \n*TAXES ARE NOT INCLUDED
URL:https://www.unitedskates.com/mlk-skating/event/general-public-session-2025-05-22/
LOCATION:Dr. Martin Luther King\, Jr. Park & Family Entertainment Center\, 1219 W. 76th St.\, Chicago\, IL\, 6020\, United States
CATEGORIES:Public Skates,Special Events
ATTACH;FMTTYPE=image/png:https://unitedskates-assets.sfo3.digitaloceanspaces.com/wp-content/uploads/sites/18/2024/12/Smores-skate-05-22-25.png
END:VEVENT
BEGIN:VEVENT
DTSTART;TZID=America/Chicago:20250526T130000
DTEND;TZID=America/Chicago:20250526T160000
DTSTAMP:20260421T145957
CREATED:20250502T205700Z
LAST-MODIFIED:20250502T205700Z
UID:16570-1748264400-1748275200@www.unitedskates.com
SUMMARY:🎉 Memorial Day School’s Out Skate & Bowl Bash! 🎳⛸
DESCRIPTION:School’s out — let’s celebrate! Join us for skating\, bowling\, and a special character meet & greet — fun for the whole family! \n$11.00 Admission $4.00 Skate Rental OR \n$11.00 2 Games of Bowling $4.00 Shoe Rental \n$11.00 Spectator fee for Non-Skating OR Non-Bowling Adults \nEach Activity will need to be paid for separately. \n*All Guest\, ages 2-17 Must pay for admission and rental whether skating or not. \n*TAXES ARE NOT INCLUDED
URL:https://www.unitedskates.com/mlk-skating/event/%f0%9f%8e%89-memorial-day-schools-out-skate-bowl-bash-%f0%9f%8e%b3%e2%9b%b8/
LOCATION:Dr. Martin Luther King\, Jr. Park & Family Entertainment Center\, 1219 W. 76th St.\, Chicago\, IL\, 6020\, United States
CATEGORIES:Family Events,Public Skates,Special Events
ATTACH;FMTTYPE=image/png:https://unitedskates-assets.sfo3.digitaloceanspaces.com/wp-content/uploads/sites/18/2025/05/Memorial-Day-Session-2025-1-4pm.png
END:VEVENT
BEGIN:VEVENT
DTSTART;TZID=America/Chicago:20250526T170000
DTEND;TZID=America/Chicago:20250526T200000
DTSTAMP:20260421T145957
CREATED:20240917T180132Z
LAST-MODIFIED:20250502T200553Z
UID:14399-1748278800-1748289600@www.unitedskates.com
SUMMARY:🎉 Memorial Day Skate & Bowl Bash! 🎳⛸
DESCRIPTION:Bring your family and friends for an evening full of fun\, excitement\, and prizes! Don’t miss out on the fun — see you there! \n🎁 BONUS! Get your Raffle Ticket for a chance to WIN a Grill or Roller Skating Passes! (Tickets are for Adults with Skate Rental Tickets Only) \n$13.00 Admission $4.00 Skate Rental OR \n$13.00 2 Games of Bowling $4.00 Shoe Rental \n$11.00 Spectator fee for Non-Skating OR Non-Bowling Adults \nEach Activity will need to be paid for separately. \n*All Guest\, ages 2-17 Must pay for admission and rental whether skating or not. \n*TAXES ARE NOT INCLUDED
URL:https://www.unitedskates.com/mlk-skating/event/private-events-skate-or-bowl-reservations-available-2025-05-26/
LOCATION:Dr. Martin Luther King\, Jr. Park & Family Entertainment Center\, 1219 W. 76th St.\, Chicago\, IL\, 6020\, United States
CATEGORIES:Family Events,Public Skates,Special Events
ATTACH;FMTTYPE=image/png:https://unitedskates-assets.sfo3.digitaloceanspaces.com/wp-content/uploads/sites/18/2024/09/Memorial-Day-roller-skate-05-26-2025.png
END:VEVENT
END:VCALENDAR