BEGIN:VCALENDAR
VERSION:2.0
PRODID:-//Rink 46 - MLK Skating - ECPv6.15.20//NONSGML v1.0//EN
CALSCALE:GREGORIAN
METHOD:PUBLISH
X-ORIGINAL-URL:https://www.unitedskates.com/mlk-skating
X-WR-CALDESC:Events for Rink 46 - MLK Skating
REFRESH-INTERVAL;VALUE=DURATION:PT1H
X-Robots-Tag:noindex
X-PUBLISHED-TTL:PT1H
BEGIN:VTIMEZONE
TZID:America/Chicago
BEGIN:DAYLIGHT
TZOFFSETFROM:-0600
TZOFFSETTO:-0500
TZNAME:CDT
DTSTART:20250309T080000
END:DAYLIGHT
BEGIN:STANDARD
TZOFFSETFROM:-0500
TZOFFSETTO:-0600
TZNAME:CST
DTSTART:20251102T070000
END:STANDARD
BEGIN:DAYLIGHT
TZOFFSETFROM:-0600
TZOFFSETTO:-0500
TZNAME:CDT
DTSTART:20260308T080000
END:DAYLIGHT
BEGIN:STANDARD
TZOFFSETFROM:-0500
TZOFFSETTO:-0600
TZNAME:CST
DTSTART:20261101T070000
END:STANDARD
BEGIN:DAYLIGHT
TZOFFSETFROM:-0600
TZOFFSETTO:-0500
TZNAME:CDT
DTSTART:20270314T080000
END:DAYLIGHT
BEGIN:STANDARD
TZOFFSETFROM:-0500
TZOFFSETTO:-0600
TZNAME:CST
DTSTART:20271107T070000
END:STANDARD
END:VTIMEZONE
BEGIN:VEVENT
DTSTART;TZID=America/Chicago:20260215T143000
DTEND;TZID=America/Chicago:20260215T163000
DTSTAMP:20260419T072316
CREATED:20251226T191602Z
LAST-MODIFIED:20260114T172938Z
UID:18383-1771165800-1771173000@www.unitedskates.com
SUMMARY:💖✨ MICKEY & MINNIE AFTER VALENTINE’S DAY PARTY ✨💖
DESCRIPTION:Valentine’s Day fun doesn’t stop here! 💃🕺Come celebrate with a fun-filled dance party featuring your favorites — Mickey Mouse & Minnie Mouse — making a special appearance just for YOU! 🎉🐭💕 \n👨‍👩‍👧‍👦 Perfect for families🎶 Music • 💃 Dancing • ✨ Smiles everywhere \nBring the kids\, bring the energy\, and keep the Valentine’s vibes going strong! 💕🎉 \n🎟 Admission Includes:✨ Glow Stick 🎶 Dance Party Fun 📸 Character Meet & Photo Moments \n💻 Save $1 when you purchase tickets online! (Tickets will be $12 ONLINE ONLY) \n$13.00 Admission $4.00 Skate Rental OR \n$13.00 1 Game of Bowling $4.00 Shoe Rental \n$11.00 Spectator fee for Non-Skating OR Non-Bowling Adults \nEach Activity will need to be paid for separately \n*All Guest\, ages 2-17 Must pay for admission and rental whether skating or not. \n*Taxes are not included.
URL:https://www.unitedskates.com/mlk-skating/event/%f0%9f%8e%89-sunday-funday-general-public-skate-or-bowl-%f0%9f%8e%89-2-2026-02-15/
LOCATION:Dr. Martin Luther King\, Jr. Park & Family Entertainment Center\, 1219 W. 76th St.\, Chicago\, IL\, 6020\, United States
CATEGORIES:Family Events,Public Skates,Special Events
ATTACH;FMTTYPE=image/png:https://unitedskates-assets.sfo3.digitaloceanspaces.com/wp-content/uploads/sites/18/2025/12/FINAL-Mickey-and-minnie-After-vday-party-021526-1.png
END:VEVENT
BEGIN:VEVENT
DTSTART;TZID=America/Chicago:20260215T170000
DTEND;TZID=America/Chicago:20260215T190000
DTSTAMP:20260419T072316
CREATED:20260114T191639Z
LAST-MODIFIED:20260114T193454Z
UID:18714-1771174800-1771182000@www.unitedskates.com
SUMMARY:🎉 Sunday Funday! General Public Skate or Bowl 🎉
DESCRIPTION:✨ Come join us for a Sunday filled with fun — skate or bowl\, it’s up to you! ✨ \n💻 Save $1 when you purchase tickets online! (Tickets will be $10 ONLINE ONLY) \n$11.00 Admission $4.00 Skate Rental OR \n$11.00 1 Game of Bowling $4.00 Shoe Rental \n$11.00 Spectator fee for Non-Skating OR Non-Bowling Adults \nEach Activity will need to be paid for separately \n*All Guest\, ages 2-17 Must pay for admission and rental whether skating or not. \n*Taxes are not included.
URL:https://www.unitedskates.com/mlk-skating/event/%f0%9f%8e%89-sunday-funday-general-public-skate-or-bowl-%f0%9f%8e%89-4/
LOCATION:Dr. Martin Luther King\, Jr. Park & Family Entertainment Center\, 1219 W. 76th St.\, Chicago\, IL\, 6020\, United States
CATEGORIES:Family Events,Public Skates,Special Events
ATTACH;FMTTYPE=image/png:https://unitedskates-assets.sfo3.digitaloceanspaces.com/wp-content/uploads/sites/18/2025/08/General-Public.png
END:VEVENT
BEGIN:VEVENT
DTSTART;TZID=America/Chicago:20260215T193000
DTEND;TZID=America/Chicago:20260215T213000
DTSTAMP:20260419T072316
CREATED:20260114T170838Z
LAST-MODIFIED:20260204T192613Z
UID:18707-1771183800-1771191000@www.unitedskates.com
SUMMARY:🎉📚✌️ SCHOOL’S OUT — LATE SKATE OR BOWL! ✌️📚🎉
DESCRIPTION:No school TOMORROW? NO PROBLEM! 😎 Celebrate not having to go with nonstop fun on the rink 🛼 or the lanes 🎳 for a special late skate and have a BLAST! 💥🎉 \n✨ Choose Your Fun: 🛼 Roller Skating OR 🎳 Bowling \n👨‍👩‍👧‍👦 Perfect for friends\, families & classmates🎶 Music pumping🍕 Snacks flowing🔥 Fun turned ALL the way up \nSave $1 when you purchase tickets online (Admission will be $12.00) \n$13.00 Admission $4.00 Skate Rental OR \n$13.00 1 Game of Bowling $4.00 Shoe Rental \n$11.00 Spectator fee for Non-Skating OR Non-Bowling Adults \nEach Activity will need to be paid for separately \n*All Guest\, ages 2-17 Must pay for admission and rental whether skating or not. \n*Taxes are not included.
URL:https://www.unitedskates.com/mlk-skating/event/%f0%9f%8e%89%f0%9f%93%9a%e2%9c%8c%ef%b8%8f-schools-out-late-skate-or-bowl-%e2%9c%8c%ef%b8%8f%f0%9f%93%9a%f0%9f%8e%89/
LOCATION:Dr. Martin Luther King\, Jr. Park & Family Entertainment Center\, 1219 W. 76th St.\, Chicago\, IL\, 6020\, United States
CATEGORIES:Family Events,Public Skates,Special Events
ATTACH;FMTTYPE=image/png:https://unitedskates-assets.sfo3.digitaloceanspaces.com/wp-content/uploads/sites/18/2026/01/School-Is-Out-Skate-or-Bowl-2-scaled.png
END:VEVENT
END:VCALENDAR