BEGIN:VCALENDAR
VERSION:2.0
PRODID:-//Rink 46 - MLK Skating - ECPv6.15.20//NONSGML v1.0//EN
CALSCALE:GREGORIAN
METHOD:PUBLISH
X-ORIGINAL-URL:https://www.unitedskates.com/mlk-skating
X-WR-CALDESC:Events for Rink 46 - MLK Skating
REFRESH-INTERVAL;VALUE=DURATION:PT1H
X-Robots-Tag:noindex
X-PUBLISHED-TTL:PT1H
BEGIN:VTIMEZONE
TZID:America/Chicago
BEGIN:DAYLIGHT
TZOFFSETFROM:-0600
TZOFFSETTO:-0500
TZNAME:CDT
DTSTART:20250309T080000
END:DAYLIGHT
BEGIN:STANDARD
TZOFFSETFROM:-0500
TZOFFSETTO:-0600
TZNAME:CST
DTSTART:20251102T070000
END:STANDARD
BEGIN:DAYLIGHT
TZOFFSETFROM:-0600
TZOFFSETTO:-0500
TZNAME:CDT
DTSTART:20260308T080000
END:DAYLIGHT
BEGIN:STANDARD
TZOFFSETFROM:-0500
TZOFFSETTO:-0600
TZNAME:CST
DTSTART:20261101T070000
END:STANDARD
BEGIN:DAYLIGHT
TZOFFSETFROM:-0600
TZOFFSETTO:-0500
TZNAME:CDT
DTSTART:20270314T080000
END:DAYLIGHT
BEGIN:STANDARD
TZOFFSETFROM:-0500
TZOFFSETTO:-0600
TZNAME:CST
DTSTART:20271107T070000
END:STANDARD
END:VTIMEZONE
BEGIN:VEVENT
DTSTART;TZID=America/Chicago:20260116T163000
DTEND;TZID=America/Chicago:20260116T183000
DTSTAMP:20260420T042200
CREATED:20251205T201631Z
LAST-MODIFIED:20251205T201632Z
UID:18366-1768581000-1768588200@www.unitedskates.com
SUMMARY:🕊️✨ MLK WEEKEND EARLY BIRD KICKOFF! ✨🕊️
DESCRIPTION:Start your MLK Day Weekend with some ROLLING fun! 🛼🎉Kick off the long weekend with an amazing Early Bird Special: \nBring the family\, bring your friends\, and celebrate the spirit of the weekend with skating\, music\, and good vibes all around! 🙌💙 \n🎟️ $5.00 Admission $4.00 🛼 Skate Rental OR \n🎳 $5.00 1 Game of Bowling 👟 $4.00 Shoe Rental \n$5.00 Spectator fee for Non-Skating OR Non-Bowling Adults \nEach Activity will need to be paid for separately. \n*All Guest\, ages 2-17 Must pay for admission and rental whether skating or not. \n*TAXES ARE NOT INCLUDED\nCome make memories without breaking the bank — see you soon! 🙌
URL:https://www.unitedskates.com/mlk-skating/event/%f0%9f%95%8a%ef%b8%8f%e2%9c%a8-mlk-weekend-early-bird-kickoff-%e2%9c%a8%f0%9f%95%8a%ef%b8%8f/
LOCATION:Dr. Martin Luther King\, Jr. Park & Family Entertainment Center\, 1219 W. 76th St.\, Chicago\, IL\, 6020\, United States
CATEGORIES:Family Events,Public Skates,Special Events
ATTACH;FMTTYPE=image/png:https://unitedskates-assets.sfo3.digitaloceanspaces.com/wp-content/uploads/sites/18/2025/12/MLK-WEEKEND-EARLY-BIRD-011626.png
END:VEVENT
BEGIN:VEVENT
DTSTART;TZID=America/Chicago:20260116T190000
DTEND;TZID=America/Chicago:20260116T213000
DTSTAMP:20260420T042200
CREATED:20251205T204244Z
LAST-MODIFIED:20251230T223341Z
UID:18370-1768590000-1768599000@www.unitedskates.com
SUMMARY:🎭✨ MYSTERY CHARACTER ROLL OR BOWL! ✨🎭
DESCRIPTION:❓🤩 Who will the Mystery Character be? Come find out\, have fun\, and make memories without breaking the bank! 🙌 \n🎟️ $8.00 Admission $4.00 🛼 Skate Rental OR \n🎳 $8.00 1 Game of Bowling 👟 $4.00 Shoe Rental \n$8.00 Spectator fee for Non-Skating OR Non-Bowling Adults \nEach Activity will need to be paid for separately. \n*All Guest\, ages 2-17 Must pay for admission and rental whether skating or not. \n*TAXES ARE NOT INCLUDED\nCome make memories without breaking the bank — see you soon! 🙌
URL:https://www.unitedskates.com/mlk-skating/event/%f0%9f%8e%ad%e2%9c%a8-mystery-character-roll-or-bowl-%e2%9c%a8%f0%9f%8e%ad/
LOCATION:Dr. Martin Luther King\, Jr. Park & Family Entertainment Center\, 1219 W. 76th St.\, Chicago\, IL\, 6020\, United States
CATEGORIES:Family Events,Public Skates,Special Events
ATTACH;FMTTYPE=image/png:https://unitedskates-assets.sfo3.digitaloceanspaces.com/wp-content/uploads/sites/18/2025/12/Holiday-Skate-Parties.png
END:VEVENT
END:VCALENDAR