BEGIN:VCALENDAR
VERSION:2.0
PRODID:-//Rink 46 - MLK Skating - ECPv6.15.20//NONSGML v1.0//EN
CALSCALE:GREGORIAN
METHOD:PUBLISH
X-ORIGINAL-URL:https://www.unitedskates.com/mlk-skating
X-WR-CALDESC:Events for Rink 46 - MLK Skating
REFRESH-INTERVAL;VALUE=DURATION:PT1H
X-Robots-Tag:noindex
X-PUBLISHED-TTL:PT1H
BEGIN:VTIMEZONE
TZID:America/Chicago
BEGIN:DAYLIGHT
TZOFFSETFROM:-0600
TZOFFSETTO:-0500
TZNAME:CDT
DTSTART:20240310T080000
END:DAYLIGHT
BEGIN:STANDARD
TZOFFSETFROM:-0500
TZOFFSETTO:-0600
TZNAME:CST
DTSTART:20241103T070000
END:STANDARD
BEGIN:DAYLIGHT
TZOFFSETFROM:-0600
TZOFFSETTO:-0500
TZNAME:CDT
DTSTART:20250309T080000
END:DAYLIGHT
BEGIN:STANDARD
TZOFFSETFROM:-0500
TZOFFSETTO:-0600
TZNAME:CST
DTSTART:20251102T070000
END:STANDARD
BEGIN:DAYLIGHT
TZOFFSETFROM:-0600
TZOFFSETTO:-0500
TZNAME:CDT
DTSTART:20260308T080000
END:DAYLIGHT
BEGIN:STANDARD
TZOFFSETFROM:-0500
TZOFFSETTO:-0600
TZNAME:CST
DTSTART:20261101T070000
END:STANDARD
BEGIN:DAYLIGHT
TZOFFSETFROM:-0600
TZOFFSETTO:-0500
TZNAME:CDT
DTSTART:20270314T080000
END:DAYLIGHT
BEGIN:STANDARD
TZOFFSETFROM:-0500
TZOFFSETTO:-0600
TZNAME:CST
DTSTART:20271107T070000
END:STANDARD
END:VTIMEZONE
BEGIN:VEVENT
DTSTART;VALUE=DATE:20251219
DTEND;VALUE=DATE:20260106
DTSTAMP:20260421T005625
CREATED:20251112T005917Z
LAST-MODIFIED:20251202T151501Z
UID:18176-1766120400-1767589199@www.unitedskates.com
SUMMARY:❄️🎳 Winter Break Fun at Dr. MLK Skating & Bowling Center! 🛼☃️
DESCRIPTION:School’s out — and it’s time to roll or bowl! 🙌Join us starting Friday\, December 19th through Sunday\, January 4th for a full schedule of winter fun and special events the whole family will love! 🎉 \nFrom themed skate parties to character visits and holiday celebrations\, there’s something happening every day during Winter Break! 🎅✨ \n🎟️ Tickets can be purchased separately for each event — so you can pick your favorites or join us for them all! \n📍 Dr. Martin Luther King Jr. Skating & Bowling Center1219 W. 76th St.\, Chicago📞 312-747-2602 | 🌐 www.mlkskating.com \nLet’s make this Winter Break unforgettable — with skating\, bowling\, music\, and memories that’ll keep you smiling into the New Year! ❄️💙
URL:https://www.unitedskates.com/mlk-skating/event/%e2%9d%84%ef%b8%8f%f0%9f%8e%b3-winter-break-fun-at-dr-mlk-skating-bowling-center-%f0%9f%9b%bc%e2%98%83%ef%b8%8f/
LOCATION:Dr. Martin Luther King\, Jr. Park & Family Entertainment Center\, 1219 W. 76th St.\, Chicago\, IL\, 6020\, United States
CATEGORIES:Family Events,Public Skates,Special Events
ATTACH;FMTTYPE=image/jpeg:https://unitedskates-assets.sfo3.digitaloceanspaces.com/wp-content/uploads/sites/18/2025/12/Rink-46-Winter-Break-2025-1.jpg
END:VEVENT
BEGIN:VEVENT
DTSTART;TZID=America/Chicago:20251224T120000
DTEND;TZID=America/Chicago:20251224T140000
DTSTAMP:20260421T005625
CREATED:20251119T194239Z
LAST-MODIFIED:20251124T171812Z
UID:18270-1766577600-1766584800@www.unitedskates.com
SUMMARY:🎄TINY TOTS XMAS EVE JAM! 🛼✨
DESCRIPTION:Bring your little ones out for some before-Christmas joy at our Tiny Tots Xmas Eve Jam! 🎅🎁Enjoy fun characters\, games\, and family-friendly activities perfect for young children. 💕 \nMake magical memories with the kiddos before Santa arrives! 🎄❤️ \n$11.00 Admission $4.00 🛼 Skate Rental OR \n$11.00  1 Game of Bowling 👟 $4.00 Shoe Rental \n$11.00 Spectator fee for Non-Skating OR Non-Bowling Adults \nEach Activity will need to be paid for separately. \n*All Guest\, ages 2-17 Must pay for admission and rental whether skating or not. \n*TAXES ARE NOT INCLUDED
URL:https://www.unitedskates.com/mlk-skating/event/%f0%9f%8e%84tiny-tots-xmas-eve-jam-%f0%9f%9b%bc%e2%9c%a8/
LOCATION:Dr. Martin Luther King\, Jr. Park & Family Entertainment Center\, 1219 W. 76th St.\, Chicago\, IL\, 6020\, United States
CATEGORIES:Family Events,Public Skates,Special Events
ATTACH;FMTTYPE=image/png:https://unitedskates-assets.sfo3.digitaloceanspaces.com/wp-content/uploads/sites/18/2025/11/Santas-Holiday-Kickoff-Skate-1.png
END:VEVENT
BEGIN:VEVENT
DTSTART;TZID=America/Chicago:20251224T143000
DTEND;TZID=America/Chicago:20251224T163000
DTSTAMP:20260421T005625
CREATED:20251118T223436Z
LAST-MODIFIED:20251119T192205Z
UID:18267-1766586600-1766593800@www.unitedskates.com
SUMMARY:🎄🎧 Christmas Eve Remix 🎅🧁
DESCRIPTION:Get ready to roll into the holiday spirit at our Christmas Eve Remix featuring fun Christmas characters and festive vibes all afternoon! 🎅✨ \nBring the whole family and kick off Christmas with music\, magic\, and memorable moments at MLK! ❤️💚 \n$12.00 Admission $4.00 🛼 Skate Rental OR \n$12.00  1 Game of Bowling 👟 $4.00 Shoe Rental \n$11.00 Spectator fee for Non-Skating OR Non-Bowling Adults \nEach Activity will need to be paid for separately. \n*All Guest\, ages 2-17 Must pay for admission and rental whether skating or not. \n*TAXES ARE NOT INCLUDED
URL:https://www.unitedskates.com/mlk-skating/event/%f0%9f%8e%84%f0%9f%8e%a7-christmas-eve-remix-%f0%9f%8e%85%f0%9f%a7%81/
LOCATION:Dr. Martin Luther King\, Jr. Park & Family Entertainment Center\, 1219 W. 76th St.\, Chicago\, IL\, 6020\, United States
CATEGORIES:Family Events,Public Skates,Special Events
ATTACH;FMTTYPE=image/png:https://unitedskates-assets.sfo3.digitaloceanspaces.com/wp-content/uploads/sites/18/2025/11/Christmas-Eve-Remix.png
END:VEVENT
BEGIN:VEVENT
DTSTART;TZID=America/Chicago:20251224T170000
DTEND;TZID=America/Chicago:20251224T200000
DTSTAMP:20260421T005625
CREATED:20251113T215236Z
LAST-MODIFIED:20251128T023050Z
UID:18195-1766595600-1766606400@www.unitedskates.com
SUMMARY:💀🎄 A Nightmare Before Christmas Pajama Jam! 🎃🛼
DESCRIPTION:Get ready for a Hauntingly Good Time at Dr. Martin Luther King Jr. Skating & Bowling Center! Step into Halloween Town and celebrate with Jack Skellington himself! 👻✨ \n📸 Meet Jack Skellington for frightful photo ops!🍬 Wickedly delicious Café & ICEE Specials!🎶 Roll to ghastly good music and games from Halloween Town! \n$12.00 Admission $4.00 Skate Rental OR \n$12.00 2 Games of Bowling $4.00 Shoe Rental \n$11.00 Spectator fee for Non-Skating OR Non-Bowling Adults \nEach Activity will need to be paid for separately. \n*All Guest\, ages 2-17 Must pay for admission and rental whether skating or not. \n*TAXES ARE NOT INCLUDED
URL:https://www.unitedskates.com/mlk-skating/event/%f0%9f%92%80%f0%9f%8e%84-a-nightmare-before-christmas-pajama-jam-%f0%9f%8e%83%f0%9f%9b%bc/
LOCATION:Dr. Martin Luther King\, Jr. Park & Family Entertainment Center\, 1219 W. 76th St.\, Chicago\, IL\, 6020\, United States
CATEGORIES:Family Events,Public Skates,Special Events
ATTACH;FMTTYPE=image/png:https://unitedskates-assets.sfo3.digitaloceanspaces.com/wp-content/uploads/sites/18/2025/11/Nightmare-Before-Christmas-Revised-MLK-.png
END:VEVENT
END:VCALENDAR