BEGIN:VCALENDAR
VERSION:2.0
PRODID:-//Rink 46 - MLK Skating - ECPv6.15.20//NONSGML v1.0//EN
CALSCALE:GREGORIAN
METHOD:PUBLISH
X-WR-CALNAME:Rink 46 - MLK Skating
X-ORIGINAL-URL:https://www.unitedskates.com/mlk-skating
X-WR-CALDESC:Events for Rink 46 - MLK Skating
REFRESH-INTERVAL;VALUE=DURATION:PT1H
X-Robots-Tag:noindex
X-PUBLISHED-TTL:PT1H
BEGIN:VTIMEZONE
TZID:America/Chicago
BEGIN:DAYLIGHT
TZOFFSETFROM:-0600
TZOFFSETTO:-0500
TZNAME:CDT
DTSTART:20240310T080000
END:DAYLIGHT
BEGIN:STANDARD
TZOFFSETFROM:-0500
TZOFFSETTO:-0600
TZNAME:CST
DTSTART:20241103T070000
END:STANDARD
BEGIN:DAYLIGHT
TZOFFSETFROM:-0600
TZOFFSETTO:-0500
TZNAME:CDT
DTSTART:20250309T080000
END:DAYLIGHT
BEGIN:STANDARD
TZOFFSETFROM:-0500
TZOFFSETTO:-0600
TZNAME:CST
DTSTART:20251102T070000
END:STANDARD
BEGIN:DAYLIGHT
TZOFFSETFROM:-0600
TZOFFSETTO:-0500
TZNAME:CDT
DTSTART:20260308T080000
END:DAYLIGHT
BEGIN:STANDARD
TZOFFSETFROM:-0500
TZOFFSETTO:-0600
TZNAME:CST
DTSTART:20261101T070000
END:STANDARD
END:VTIMEZONE
BEGIN:VEVENT
DTSTART;TZID=America/Chicago:20251110T170000
DTEND;TZID=America/Chicago:20251110T200000
DTSTAMP:20260420T230104
CREATED:20251103T181831Z
LAST-MODIFIED:20251103T181831Z
UID:18075-1762794000-1762804800@www.unitedskates.com
SUMMARY:🎳✨ Character Roll or Bowl Night! ✨🎳
DESCRIPTION:Join us Monday\, November 10th from 5PM–8PM at Dr. Martin Luther King Jr. Park & Family Entertainment Center for a night of skating\, bowling\, and family fun! 💛🖤 \n👋 Meet your favorite characters — Minion & Shadow! \n🛼 Skate Admission: $11 | Skate Rental: $4🎳 Bowling Games: $11 | Shoe Rental: $4 \n🍕 Rink Specials:🍕 Family Meal Deal – 2 Large Pizzas + Pitcher of Soda for only $45🎉 Family Fun Deals – $1 Glow Sticks | $5 Game Cards | $10 Glow Swords \nDon’t miss this perfect family night out full of laughter\, lights\, and good vibes! 💫📍1219 W. 76th St\, Chicago\, IL🌐 www.mlkskating.com | ☎️ 312-747-2602 \n#MLKSkating #FamilyFun #ChicagoEvents #RollOrBowl #MeetTheCharacters #Minion #Shadow #FamilyNight
URL:https://www.unitedskates.com/mlk-skating/event/%f0%9f%8e%b3%e2%9c%a8-character-roll-or-bowl-night-%e2%9c%a8%f0%9f%8e%b3/
LOCATION:Dr. Martin Luther King\, Jr. Park & Family Entertainment Center\, 1219 W. 76th St.\, Chicago\, IL\, 6020\, United States
CATEGORIES:Family Events,Public Skates,Special Events
ATTACH;FMTTYPE=image/png:https://unitedskates-assets.sfo3.digitaloceanspaces.com/wp-content/uploads/sites/18/2025/11/Black-Friday-Skate-1.png
END:VEVENT
END:VCALENDAR