BEGIN:VCALENDAR
VERSION:2.0
PRODID:-//Rink 46 - MLK Skating - ECPv6.15.20//NONSGML v1.0//EN
CALSCALE:GREGORIAN
METHOD:PUBLISH
X-WR-CALNAME:Rink 46 - MLK Skating
X-ORIGINAL-URL:https://www.unitedskates.com/mlk-skating
X-WR-CALDESC:Events for Rink 46 - MLK Skating
REFRESH-INTERVAL;VALUE=DURATION:PT1H
X-Robots-Tag:noindex
X-PUBLISHED-TTL:PT1H
BEGIN:VTIMEZONE
TZID:America/Chicago
BEGIN:DAYLIGHT
TZOFFSETFROM:-0600
TZOFFSETTO:-0500
TZNAME:CDT
DTSTART:20240310T080000
END:DAYLIGHT
BEGIN:STANDARD
TZOFFSETFROM:-0500
TZOFFSETTO:-0600
TZNAME:CST
DTSTART:20241103T070000
END:STANDARD
BEGIN:DAYLIGHT
TZOFFSETFROM:-0600
TZOFFSETTO:-0500
TZNAME:CDT
DTSTART:20250309T080000
END:DAYLIGHT
BEGIN:STANDARD
TZOFFSETFROM:-0500
TZOFFSETTO:-0600
TZNAME:CST
DTSTART:20251102T070000
END:STANDARD
BEGIN:DAYLIGHT
TZOFFSETFROM:-0600
TZOFFSETTO:-0500
TZNAME:CDT
DTSTART:20260308T080000
END:DAYLIGHT
BEGIN:STANDARD
TZOFFSETFROM:-0500
TZOFFSETTO:-0600
TZNAME:CST
DTSTART:20261101T070000
END:STANDARD
END:VTIMEZONE
BEGIN:VEVENT
DTSTART;TZID=America/Chicago:20251101T120000
DTEND;TZID=America/Chicago:20251101T150000
DTSTAMP:20260420T230026
CREATED:20240812T202500Z
LAST-MODIFIED:20251009T205640Z
UID:15876-1761998400-1762009200@www.unitedskates.com
SUMMARY:🌺💀 Día de los Muertos Skate or Bowl Party 💀🌺
DESCRIPTION:Celebrate Día de los Muertos with the heartwarming movie Coco\, playing on all of our big screens all session long! 🌺🎶 Join us for an afternoon filled with culture\, color\, and fun! 🎉 \n🎶 The Best Latin Music — dance the day away!🎭 Costume Contest — show off your style and win prizes!🌮 Walking Tacos for Purchase — a crowd favorite!💀 Sugar Skull Decorating — creative fun for all ages!☕ Day of the Dead Café Specials — delicious seasonal treats! \n$11.00 Admission $4.00 Skate Rental OR \n$11.00 2 Games of Bowling $4.00 Shoe Rental \n$11.00 Spectator fee for Non-Skating OR Non-Bowling Adults \nEach Activity will need to be paid for separately. \n*All Guest\, ages 2-17 Must pay for admission and rental whether skating or not. \n*TAXES ARE NOT INCLUDED
URL:https://www.unitedskates.com/mlk-skating/event/public-skate-bowl-session-i-2024-10-12-2025-11-01/
LOCATION:Dr. Martin Luther King\, Jr. Park & Family Entertainment Center\, 1219 W. 76th St.\, Chicago\, IL\, 6020\, United States
CATEGORIES:Family Events,Public Skates,Special Events
ATTACH;FMTTYPE=image/png:https://unitedskates-assets.sfo3.digitaloceanspaces.com/wp-content/uploads/sites/18/2024/08/Dia-De-Los-Muertos-Skate-11-01-25.png
END:VEVENT
END:VCALENDAR