BEGIN:VCALENDAR
VERSION:2.0
PRODID:-//Rink 46 - MLK Skating - ECPv6.15.20//NONSGML v1.0//EN
CALSCALE:GREGORIAN
METHOD:PUBLISH
X-WR-CALNAME:Rink 46 - MLK Skating
X-ORIGINAL-URL:https://www.unitedskates.com/mlk-skating
X-WR-CALDESC:Events for Rink 46 - MLK Skating
REFRESH-INTERVAL;VALUE=DURATION:PT1H
X-Robots-Tag:noindex
X-PUBLISHED-TTL:PT1H
BEGIN:VTIMEZONE
TZID:America/Chicago
BEGIN:DAYLIGHT
TZOFFSETFROM:-0600
TZOFFSETTO:-0500
TZNAME:CDT
DTSTART:20240310T080000
END:DAYLIGHT
BEGIN:STANDARD
TZOFFSETFROM:-0500
TZOFFSETTO:-0600
TZNAME:CST
DTSTART:20241103T070000
END:STANDARD
BEGIN:DAYLIGHT
TZOFFSETFROM:-0600
TZOFFSETTO:-0500
TZNAME:CDT
DTSTART:20250309T080000
END:DAYLIGHT
BEGIN:STANDARD
TZOFFSETFROM:-0500
TZOFFSETTO:-0600
TZNAME:CST
DTSTART:20251102T070000
END:STANDARD
BEGIN:DAYLIGHT
TZOFFSETFROM:-0600
TZOFFSETTO:-0500
TZNAME:CDT
DTSTART:20260308T080000
END:DAYLIGHT
BEGIN:STANDARD
TZOFFSETFROM:-0500
TZOFFSETTO:-0600
TZNAME:CST
DTSTART:20261101T070000
END:STANDARD
END:VTIMEZONE
BEGIN:VEVENT
DTSTART;TZID=America/Chicago:20251023T170000
DTEND;TZID=America/Chicago:20251023T200000
DTSTAMP:20260421T171853
CREATED:20250728T223323Z
LAST-MODIFIED:20250901T230251Z
UID:17391-1761238800-1761249600@www.unitedskates.com
SUMMARY:🎭✨ Halloween Masquerade Skate & Bowl ✨🎭
DESCRIPTION:Get ready for a night of mystery\, music\, and masquerade magic! 🖤🎶 Whether you’re rolling on the skate floor or striking out on the lanes\, this is a Halloween night you won’t forget. \n🎭 Masquerade Costume Contest:✨ The BEST masquerade costume will be entered into our raffle for a TOP PRIZE!(So bring your most creative\, stylish\, or spooky mask to impress!) \n🍬 Trick-or-Treat Surprises🎶 Halloween Music & Party Vibes🍔 Festive Café & ICEE Specials📸 Photo Ops with Your Crew \nGrab your mask\, grab your friends\, and let’s light up the night! 🕷️🕸️ \n$11.00 Admission $4.00 Skate Rental OR \n$11.00 1 Game of Bowling $4.00 Shoe Rental \n$11.00 Spectator fee for Non-Skating OR Non-Bowling Adults \nEach Activity will need to be paid for separately. \n*All Guest\, ages 2-17 Must pay for admission and rental whether skating or not. \n*TAXES ARE NOT INCLUDED
URL:https://www.unitedskates.com/mlk-skating/event/%f0%9f%94%a5-thursday-general-public-skate-or-bowl-%f0%9f%94%a5-2025-09-04-2025-10-23/
LOCATION:Dr. Martin Luther King\, Jr. Park & Family Entertainment Center\, 1219 W. 76th St.\, Chicago\, IL\, 6020\, United States
CATEGORIES:Family Events,Public Skates,Special Events
ATTACH;FMTTYPE=image/png:https://unitedskates-assets.sfo3.digitaloceanspaces.com/wp-content/uploads/sites/18/2025/07/NEWBIE-NIGHT-Masquerade-skate-10-23-25.png
END:VEVENT
END:VCALENDAR