BEGIN:VCALENDAR
VERSION:2.0
PRODID:-//Rink 46 - MLK Skating - ECPv6.15.20//NONSGML v1.0//EN
CALSCALE:GREGORIAN
METHOD:PUBLISH
X-ORIGINAL-URL:https://www.unitedskates.com/mlk-skating
X-WR-CALDESC:Events for Rink 46 - MLK Skating
REFRESH-INTERVAL;VALUE=DURATION:PT1H
X-Robots-Tag:noindex
X-PUBLISHED-TTL:PT1H
BEGIN:VTIMEZONE
TZID:America/Chicago
BEGIN:DAYLIGHT
TZOFFSETFROM:-0600
TZOFFSETTO:-0500
TZNAME:CDT
DTSTART:20240310T080000
END:DAYLIGHT
BEGIN:STANDARD
TZOFFSETFROM:-0500
TZOFFSETTO:-0600
TZNAME:CST
DTSTART:20241103T070000
END:STANDARD
BEGIN:DAYLIGHT
TZOFFSETFROM:-0600
TZOFFSETTO:-0500
TZNAME:CDT
DTSTART:20250309T080000
END:DAYLIGHT
BEGIN:STANDARD
TZOFFSETFROM:-0500
TZOFFSETTO:-0600
TZNAME:CST
DTSTART:20251102T070000
END:STANDARD
BEGIN:DAYLIGHT
TZOFFSETFROM:-0600
TZOFFSETTO:-0500
TZNAME:CDT
DTSTART:20260308T080000
END:DAYLIGHT
BEGIN:STANDARD
TZOFFSETFROM:-0500
TZOFFSETTO:-0600
TZNAME:CST
DTSTART:20261101T070000
END:STANDARD
END:VTIMEZONE
BEGIN:VEVENT
DTSTART;TZID=America/Chicago:20251022T170000
DTEND;TZID=America/Chicago:20251022T200000
DTSTAMP:20260421T081029
CREATED:20250604T223925Z
LAST-MODIFIED:20250903T221556Z
UID:17750-1761152400-1761163200@www.unitedskates.com
SUMMARY:🕷️🖤 Wednesday Addams & Thing Creepy & Kooky Party! 🖤🕷️
DESCRIPTION:✨ Come meet the spooky & mysterious Wednesday Addams along with her sidekick\, the famous “Thing”! \n✨ What’s Happening:🎶 Sway to the Beats – We’re spinning all your favorite tunes from the series (and beyond!)🕵️ Creepy-Cool Scavenger Hunt – Can you uncover all the Addams Family secrets? \n🍕 Admission includes a FREE slice of pizza! \nThis will be a night of laughs\, scares\, and skating fun you won’t want to miss! 👻 \n$13.00 Admission $4.00 Skate Rental OR \n$13.00 1 Games of Bowling $4.00 Shoe Rental \n$11.00 Spectator fee for Non-Skating OR Non-Bowling Adults (Does Not Include Pizza Slice) \nEach Activity will need to be paid for separately. \n*All Guest\, ages 2-17 Must pay for admission and rental whether skating or not. \n*TAXES ARE NOT INCLUDED
URL:https://www.unitedskates.com/mlk-skating/event/%f0%9f%94%a5-wednesdays-general-public-skate-or-bowl-%f0%9f%94%a5-2025-10-22/
LOCATION:Dr. Martin Luther King\, Jr. Park & Family Entertainment Center\, 1219 W. 76th St.\, Chicago\, IL\, 6020\, United States
CATEGORIES:Family Events,Public Skates,Special Events
ATTACH;FMTTYPE=image/png:https://unitedskates-assets.sfo3.digitaloceanspaces.com/wp-content/uploads/sites/18/2025/06/Copy-of-Flyer-Wednesday-Season-2-Skate.png
END:VEVENT
END:VCALENDAR