BEGIN:VCALENDAR
VERSION:2.0
PRODID:-//Rink 46 - MLK Skating - ECPv6.15.20//NONSGML v1.0//EN
CALSCALE:GREGORIAN
METHOD:PUBLISH
X-ORIGINAL-URL:https://www.unitedskates.com/mlk-skating
X-WR-CALDESC:Events for Rink 46 - MLK Skating
REFRESH-INTERVAL;VALUE=DURATION:PT1H
X-Robots-Tag:noindex
X-PUBLISHED-TTL:PT1H
BEGIN:VTIMEZONE
TZID:America/Chicago
BEGIN:DAYLIGHT
TZOFFSETFROM:-0600
TZOFFSETTO:-0500
TZNAME:CDT
DTSTART:20240310T080000
END:DAYLIGHT
BEGIN:STANDARD
TZOFFSETFROM:-0500
TZOFFSETTO:-0600
TZNAME:CST
DTSTART:20241103T070000
END:STANDARD
BEGIN:DAYLIGHT
TZOFFSETFROM:-0600
TZOFFSETTO:-0500
TZNAME:CDT
DTSTART:20250309T080000
END:DAYLIGHT
BEGIN:STANDARD
TZOFFSETFROM:-0500
TZOFFSETTO:-0600
TZNAME:CST
DTSTART:20251102T070000
END:STANDARD
BEGIN:DAYLIGHT
TZOFFSETFROM:-0600
TZOFFSETTO:-0500
TZNAME:CDT
DTSTART:20260308T080000
END:DAYLIGHT
BEGIN:STANDARD
TZOFFSETFROM:-0500
TZOFFSETTO:-0600
TZNAME:CST
DTSTART:20261101T070000
END:STANDARD
END:VTIMEZONE
BEGIN:VEVENT
DTSTART;TZID=America/Chicago:20251018T110000
DTEND;TZID=America/Chicago:20251018T150000
DTSTAMP:20260421T063703
CREATED:20250901T203336Z
LAST-MODIFIED:20250901T203336Z
UID:17894-1760785200-1760799600@www.unitedskates.com
SUMMARY:🎃👻 Not-So-Scary Halloween Brunch! 👻🎃
DESCRIPTION:🧟 Meet our Friendly Monsters and kick off the spooky season with a Monstrously Fun Time the whole family will love! 🧡 \n🍴 Brunch Bar (served during the 1st hour – 11:00am – 12:00pm)🧃 Juice🎭 Character Parade🍬 Special Trick-or-Treating \n🍔 Halloween-Themed Café & ICEE Specials🎶 Roll to Great Music & Games \n$15.00 Admission $4.00 Skate Rental OR \n$15.00 1 Game of Bowling $4.00 Shoe Rental \n$11.00 Non-Participating Adult Chaperone Fee \nEach Activity will need to be paid for seperately. \nAll Guests 2-17 must pay whether participating or not. \n🎟️ Don’t wait—Purchase your tickets in advance at www.MLKSkating.com!
URL:https://www.unitedskates.com/mlk-skating/event/%f0%9f%8e%83%f0%9f%91%bb-not-so-scary-halloween-brunch-%f0%9f%91%bb%f0%9f%8e%83/
LOCATION:Dr. Martin Luther King\, Jr. Park & Family Entertainment Center\, 1219 W. 76th St.\, Chicago\, IL\, 6020\, United States
CATEGORIES:Family Events,Public Skates,Special Events
ATTACH;FMTTYPE=image/png:https://unitedskates-assets.sfo3.digitaloceanspaces.com/wp-content/uploads/sites/18/2025/09/46-Halloween-Not-So-Scary-10-18-25.png
END:VEVENT
END:VCALENDAR