BEGIN:VCALENDAR
VERSION:2.0
PRODID:-//Rink 46 - MLK Skating - ECPv6.15.20//NONSGML v1.0//EN
CALSCALE:GREGORIAN
METHOD:PUBLISH
X-ORIGINAL-URL:https://www.unitedskates.com/mlk-skating
X-WR-CALDESC:Events for Rink 46 - MLK Skating
REFRESH-INTERVAL;VALUE=DURATION:PT1H
X-Robots-Tag:noindex
X-PUBLISHED-TTL:PT1H
BEGIN:VTIMEZONE
TZID:America/Chicago
BEGIN:DAYLIGHT
TZOFFSETFROM:-0600
TZOFFSETTO:-0500
TZNAME:CDT
DTSTART:20240310T080000
END:DAYLIGHT
BEGIN:STANDARD
TZOFFSETFROM:-0500
TZOFFSETTO:-0600
TZNAME:CST
DTSTART:20241103T070000
END:STANDARD
BEGIN:DAYLIGHT
TZOFFSETFROM:-0600
TZOFFSETTO:-0500
TZNAME:CDT
DTSTART:20250309T080000
END:DAYLIGHT
BEGIN:STANDARD
TZOFFSETFROM:-0500
TZOFFSETTO:-0600
TZNAME:CST
DTSTART:20251102T070000
END:STANDARD
BEGIN:DAYLIGHT
TZOFFSETFROM:-0600
TZOFFSETTO:-0500
TZNAME:CDT
DTSTART:20260308T080000
END:DAYLIGHT
BEGIN:STANDARD
TZOFFSETFROM:-0500
TZOFFSETTO:-0600
TZNAME:CST
DTSTART:20261101T070000
END:STANDARD
END:VTIMEZONE
BEGIN:VEVENT
DTSTART;TZID=America/Chicago:20250905T163000
DTEND;TZID=America/Chicago:20250905T183000
DTSTAMP:20260422T223854
CREATED:20250820T181710Z
LAST-MODIFIED:20250820T185544Z
UID:17707-1757089800-1757097000@www.unitedskates.com
SUMMARY:✨🛼🎳 $5 Fridays Skate or Bowl 🎳🛼✨
DESCRIPTION:Join us every Friday from 4:30pm – 6:30pm in September for Neon Skate or Bowl 🌟 — just $5 admission! \n🍔 Café specials served all night long🌈 Fun glow items available in our Stuff Shop \nBring your crew\, glow bright\, and kick off the weekend the FUN way! 🙌 \n$5.00 Admission $4.00 Skate Rental OR \n$5.00 2 Games of Bowling $4.00 Shoe Rental \n$5.00 Spectator fee for Non-Skating OR Non-Bowling Adults \nEach Activity will need to be paid for separately. \n*All Guest\, ages 2-17 Must pay for admission and rental whether skating or not. \n*TAXES ARE NOT INCLUDED
URL:https://www.unitedskates.com/mlk-skating/event/%e2%9c%a8%f0%9f%9b%bc%f0%9f%8e%b3-5-fridays-skate-or-bowl-%f0%9f%8e%b3%f0%9f%9b%bc%e2%9c%a8/2025-09-05/
LOCATION:Dr. Martin Luther King\, Jr. Park & Family Entertainment Center\, 1219 W. 76th St.\, Chicago\, IL\, 6020\, United States
CATEGORIES:Family Events,Public Skates,Special Events
ATTACH;FMTTYPE=image/png:https://unitedskates-assets.sfo3.digitaloceanspaces.com/wp-content/uploads/sites/18/2025/07/5-Fridays-Tile.png
END:VEVENT
BEGIN:VEVENT
DTSTART;TZID=America/Chicago:20250905T190000
DTEND;TZID=America/Chicago:20250905T213000
DTSTAMP:20260422T223854
CREATED:20250820T183424Z
LAST-MODIFIED:20250820T183425Z
UID:17716-1757098800-1757107800@www.unitedskates.com
SUMMARY:✨🛼🎳 $5 Fridays Skate or Bowl 🎳🛼✨
DESCRIPTION:Join us every Friday from 7:00pm – 9:30pm in September for Neon Skate or Bowl 🌟 — just $5 admission! \n🍔 Café specials served all night long🌈 Fun glow items available in our Stuff Shop \nBring your crew\, glow bright\, and kick off the weekend the FUN way! 🙌 \n$5.00 Admission $4.00 Skate Rental OR \n$5.00 2 Games of Bowling $4.00 Shoe Rental \n$5.00 Spectator fee for Non-Skating OR Non-Bowling Adults \nEach Activity will need to be paid for separately. \n*All Guest\, ages 2-17 Must pay for admission and rental whether skating or not. \n*TAXES ARE NOT INCLUDED
URL:https://www.unitedskates.com/mlk-skating/event/%e2%9c%a8%f0%9f%9b%bc%f0%9f%8e%b3-5-fridays-skate-or-bowl-%f0%9f%8e%b3%f0%9f%9b%bc%e2%9c%a8-2/2025-09-05/
LOCATION:Dr. Martin Luther King\, Jr. Park & Family Entertainment Center\, 1219 W. 76th St.\, Chicago\, IL\, 6020\, United States
CATEGORIES:Family Events,Public Skates,Special Events
ATTACH;FMTTYPE=image/png:https://unitedskates-assets.sfo3.digitaloceanspaces.com/wp-content/uploads/sites/18/2025/07/5-Fridays-Tile.png
END:VEVENT
END:VCALENDAR