BEGIN:VCALENDAR
VERSION:2.0
PRODID:-//Rink 46 - MLK Skating - ECPv6.15.20//NONSGML v1.0//EN
CALSCALE:GREGORIAN
METHOD:PUBLISH
X-WR-CALNAME:Rink 46 - MLK Skating
X-ORIGINAL-URL:https://www.unitedskates.com/mlk-skating
X-WR-CALDESC:Events for Rink 46 - MLK Skating
REFRESH-INTERVAL;VALUE=DURATION:PT1H
X-Robots-Tag:noindex
X-PUBLISHED-TTL:PT1H
BEGIN:VTIMEZONE
TZID:America/Chicago
BEGIN:DAYLIGHT
TZOFFSETFROM:-0600
TZOFFSETTO:-0500
TZNAME:CDT
DTSTART:20250309T080000
END:DAYLIGHT
BEGIN:STANDARD
TZOFFSETFROM:-0500
TZOFFSETTO:-0600
TZNAME:CST
DTSTART:20251102T070000
END:STANDARD
BEGIN:DAYLIGHT
TZOFFSETFROM:-0600
TZOFFSETTO:-0500
TZNAME:CDT
DTSTART:20260308T080000
END:DAYLIGHT
BEGIN:STANDARD
TZOFFSETFROM:-0500
TZOFFSETTO:-0600
TZNAME:CST
DTSTART:20261101T070000
END:STANDARD
BEGIN:DAYLIGHT
TZOFFSETFROM:-0600
TZOFFSETTO:-0500
TZNAME:CDT
DTSTART:20270314T080000
END:DAYLIGHT
BEGIN:STANDARD
TZOFFSETFROM:-0500
TZOFFSETTO:-0600
TZNAME:CST
DTSTART:20271107T070000
END:STANDARD
END:VTIMEZONE
BEGIN:VEVENT
DTSTART;TZID=America/Chicago:20260608T120000
DTEND;TZID=America/Chicago:20260608T140000
DTSTAMP:20260423T060709
CREATED:20260422T222310Z
LAST-MODIFIED:20260422T222310Z
UID:20756-1780920000-1780927200@www.unitedskates.com
SUMMARY:🛼✨ SKATE & PLAY MONDAYS IN JUNE ✨🎮
DESCRIPTION:Looking for the perfect way to kick off your week this summer? We got you covered EVERY MONDAY IN JUNE 🗓️ Starting June 8th! 🔥🛼 Roller Skating OR Bowling FUN 🎶 The Best Music & Vibes All Session Long \n$15.00 🎉 Admission Includes: 🎮 21 Game Credits to our Arcade $5.00 Skate Rental OR \n$15.00 1 Game of Bowling 🎉 Includes: 🎮 21 Game Credits to our Arcade$5.00 Shoe Rental \n$11.00 Spectator fee for Non-Skating OR Non-Bowling Adults \nEach Activity will need to be paid for separately. \n*All Guest\, ages 2-17 Must pay for admission and rental whether skating or not. \n💻 SAVE $1 when you buy ONLINE! (Tickets will be $14)⏳ Beat the rush — tickets WILL sell out FAST \n*ALL TICKET SALES FINAL. NO REFUNDS. TAXES ARE NOT INCLUDED\nThis is the ultimate midday escape for kids\, families\, camps\, and anyone looking to have a GOOD time! 🙌 \n⚠️ Don’t wait—Mondays just became the hottest day of the week and spots will fill up FAST!
URL:https://www.unitedskates.com/mlk-skating/event/%f0%9f%9b%bc%e2%9c%a8-skate-play-mondays-in-june-%e2%9c%a8%f0%9f%8e%ae/2026-06-08/
LOCATION:Dr. Martin Luther King\, Jr. Park & Family Entertainment Center\, 1219 W. 76th St.\, Chicago\, IL\, 6020\, United States
CATEGORIES:Family Events,Public Skates,Special Events
ATTACH;FMTTYPE=image/png:https://unitedskates-assets.sfo3.digitaloceanspaces.com/wp-content/uploads/sites/18/2026/04/Skate-Play-Summer.png
END:VEVENT
BEGIN:VEVENT
DTSTART;TZID=America/Chicago:20260615T120000
DTEND;TZID=America/Chicago:20260615T140000
DTSTAMP:20260423T060709
CREATED:20260422T222310Z
LAST-MODIFIED:20260422T222310Z
UID:20759-1781524800-1781532000@www.unitedskates.com
SUMMARY:🛼✨ SKATE & PLAY MONDAYS IN JUNE ✨🎮
DESCRIPTION:Looking for the perfect way to kick off your week this summer? We got you covered EVERY MONDAY IN JUNE 🗓️ Starting June 8th! 🔥🛼 Roller Skating OR Bowling FUN 🎶 The Best Music & Vibes All Session Long \n$15.00 🎉 Admission Includes: 🎮 21 Game Credits to our Arcade $5.00 Skate Rental OR \n$15.00 1 Game of Bowling 🎉 Includes: 🎮 21 Game Credits to our Arcade$5.00 Shoe Rental \n$11.00 Spectator fee for Non-Skating OR Non-Bowling Adults \nEach Activity will need to be paid for separately. \n*All Guest\, ages 2-17 Must pay for admission and rental whether skating or not. \n💻 SAVE $1 when you buy ONLINE! (Tickets will be $14)⏳ Beat the rush — tickets WILL sell out FAST \n*ALL TICKET SALES FINAL. NO REFUNDS. TAXES ARE NOT INCLUDED\nThis is the ultimate midday escape for kids\, families\, camps\, and anyone looking to have a GOOD time! 🙌 \n⚠️ Don’t wait—Mondays just became the hottest day of the week and spots will fill up FAST!
URL:https://www.unitedskates.com/mlk-skating/event/%f0%9f%9b%bc%e2%9c%a8-skate-play-mondays-in-june-%e2%9c%a8%f0%9f%8e%ae/2026-06-15/
LOCATION:Dr. Martin Luther King\, Jr. Park & Family Entertainment Center\, 1219 W. 76th St.\, Chicago\, IL\, 6020\, United States
CATEGORIES:Family Events,Public Skates,Special Events
ATTACH;FMTTYPE=image/png:https://unitedskates-assets.sfo3.digitaloceanspaces.com/wp-content/uploads/sites/18/2026/04/Skate-Play-Summer.png
END:VEVENT
BEGIN:VEVENT
DTSTART;TZID=America/Chicago:20260622T120000
DTEND;TZID=America/Chicago:20260622T140000
DTSTAMP:20260423T060709
CREATED:20260422T222310Z
LAST-MODIFIED:20260422T222310Z
UID:20760-1782129600-1782136800@www.unitedskates.com
SUMMARY:🛼✨ SKATE & PLAY MONDAYS IN JUNE ✨🎮
DESCRIPTION:Looking for the perfect way to kick off your week this summer? We got you covered EVERY MONDAY IN JUNE 🗓️ Starting June 8th! 🔥🛼 Roller Skating OR Bowling FUN 🎶 The Best Music & Vibes All Session Long \n$15.00 🎉 Admission Includes: 🎮 21 Game Credits to our Arcade $5.00 Skate Rental OR \n$15.00 1 Game of Bowling 🎉 Includes: 🎮 21 Game Credits to our Arcade$5.00 Shoe Rental \n$11.00 Spectator fee for Non-Skating OR Non-Bowling Adults \nEach Activity will need to be paid for separately. \n*All Guest\, ages 2-17 Must pay for admission and rental whether skating or not. \n💻 SAVE $1 when you buy ONLINE! (Tickets will be $14)⏳ Beat the rush — tickets WILL sell out FAST \n*ALL TICKET SALES FINAL. NO REFUNDS. TAXES ARE NOT INCLUDED\nThis is the ultimate midday escape for kids\, families\, camps\, and anyone looking to have a GOOD time! 🙌 \n⚠️ Don’t wait—Mondays just became the hottest day of the week and spots will fill up FAST!
URL:https://www.unitedskates.com/mlk-skating/event/%f0%9f%9b%bc%e2%9c%a8-skate-play-mondays-in-june-%e2%9c%a8%f0%9f%8e%ae/2026-06-22/
LOCATION:Dr. Martin Luther King\, Jr. Park & Family Entertainment Center\, 1219 W. 76th St.\, Chicago\, IL\, 6020\, United States
CATEGORIES:Family Events,Public Skates,Special Events
ATTACH;FMTTYPE=image/png:https://unitedskates-assets.sfo3.digitaloceanspaces.com/wp-content/uploads/sites/18/2026/04/Skate-Play-Summer.png
END:VEVENT
BEGIN:VEVENT
DTSTART;TZID=America/Chicago:20260629T120000
DTEND;TZID=America/Chicago:20260629T140000
DTSTAMP:20260423T060709
CREATED:20260422T222310Z
LAST-MODIFIED:20260422T222310Z
UID:20761-1782734400-1782741600@www.unitedskates.com
SUMMARY:🛼✨ SKATE & PLAY MONDAYS IN JUNE ✨🎮
DESCRIPTION:Looking for the perfect way to kick off your week this summer? We got you covered EVERY MONDAY IN JUNE 🗓️ Starting June 8th! 🔥🛼 Roller Skating OR Bowling FUN 🎶 The Best Music & Vibes All Session Long \n$15.00 🎉 Admission Includes: 🎮 21 Game Credits to our Arcade $5.00 Skate Rental OR \n$15.00 1 Game of Bowling 🎉 Includes: 🎮 21 Game Credits to our Arcade$5.00 Shoe Rental \n$11.00 Spectator fee for Non-Skating OR Non-Bowling Adults \nEach Activity will need to be paid for separately. \n*All Guest\, ages 2-17 Must pay for admission and rental whether skating or not. \n💻 SAVE $1 when you buy ONLINE! (Tickets will be $14)⏳ Beat the rush — tickets WILL sell out FAST \n*ALL TICKET SALES FINAL. NO REFUNDS. TAXES ARE NOT INCLUDED\nThis is the ultimate midday escape for kids\, families\, camps\, and anyone looking to have a GOOD time! 🙌 \n⚠️ Don’t wait—Mondays just became the hottest day of the week and spots will fill up FAST!
URL:https://www.unitedskates.com/mlk-skating/event/%f0%9f%9b%bc%e2%9c%a8-skate-play-mondays-in-june-%e2%9c%a8%f0%9f%8e%ae/2026-06-29/
LOCATION:Dr. Martin Luther King\, Jr. Park & Family Entertainment Center\, 1219 W. 76th St.\, Chicago\, IL\, 6020\, United States
CATEGORIES:Family Events,Public Skates,Special Events
ATTACH;FMTTYPE=image/png:https://unitedskates-assets.sfo3.digitaloceanspaces.com/wp-content/uploads/sites/18/2026/04/Skate-Play-Summer.png
END:VEVENT
END:VCALENDAR