BEGIN:VCALENDAR
VERSION:2.0
PRODID:-//Rink 44 - Millennium Skate World - ECPv6.15.20//NONSGML v1.0//EN
CALSCALE:GREGORIAN
METHOD:PUBLISH
X-WR-CALNAME:Rink 44 - Millennium Skate World
X-ORIGINAL-URL:https://www.unitedskates.com/millennium-skate-world
X-WR-CALDESC:Events for Rink 44 - Millennium Skate World
REFRESH-INTERVAL;VALUE=DURATION:PT1H
X-Robots-Tag:noindex
X-PUBLISHED-TTL:PT1H
BEGIN:VTIMEZONE
TZID:America/New_York
BEGIN:DAYLIGHT
TZOFFSETFROM:-0500
TZOFFSETTO:-0400
TZNAME:EDT
DTSTART:20250309T070000
END:DAYLIGHT
BEGIN:STANDARD
TZOFFSETFROM:-0400
TZOFFSETTO:-0500
TZNAME:EST
DTSTART:20251102T060000
END:STANDARD
BEGIN:DAYLIGHT
TZOFFSETFROM:-0500
TZOFFSETTO:-0400
TZNAME:EDT
DTSTART:20260308T070000
END:DAYLIGHT
BEGIN:STANDARD
TZOFFSETFROM:-0400
TZOFFSETTO:-0500
TZNAME:EST
DTSTART:20261101T060000
END:STANDARD
BEGIN:DAYLIGHT
TZOFFSETFROM:-0500
TZOFFSETTO:-0400
TZNAME:EDT
DTSTART:20270314T070000
END:DAYLIGHT
BEGIN:STANDARD
TZOFFSETFROM:-0400
TZOFFSETTO:-0500
TZNAME:EST
DTSTART:20271107T060000
END:STANDARD
END:VTIMEZONE
BEGIN:VEVENT
DTSTART;TZID=America/New_York:20260606T100000
DTEND;TZID=America/New_York:20260606T114500
DTSTAMP:20260421T220956
CREATED:20250415T063745Z
LAST-MODIFIED:20250415T063745Z
UID:27041-1780740000-1780746300@www.unitedskates.com
SUMMARY:Skating Lessons
DESCRIPTION:Skating Lessons for all Ages \n$15.00 per person   $5.00 Skate rental \n10am-11:45am \nStay over – practice what you learned 12pm-3pm; Only $5.00 per person \n\nBeginners\nIntermediate\nAdvanced
URL:https://www.unitedskates.com/millennium-skate-world/event/skating-lessons-9/2026-06-06/
LOCATION:Millennium Skate World\, 1900 Carman St.\, Camden\, NJ\, 08105\, United States
CATEGORIES:Family Events,Lessons,Public Skates,Special Events
ATTACH;FMTTYPE=image/jpeg:https://unitedskates-assets.sfo3.digitaloceanspaces.com/wp-content/uploads/sites/17/2025/04/Lessons-10.11.25-to-6.27.26.jpg
END:VEVENT
BEGIN:VEVENT
DTSTART;TZID=America/New_York:20260606T190000
DTEND;TZID=America/New_York:20260606T220000
DTSTAMP:20260421T220956
CREATED:20260313T053948Z
LAST-MODIFIED:20260313T053948Z
UID:29500-1780772400-1780783200@www.unitedskates.com
SUMMARY:Saturday Night Family Skate
DESCRIPTION:Saturday Night Family Skate  \n7pm-10pm \nGet your ROLL on to your favorite Hip Hop and R&B Music \n\nSchedule a Birthday party\nMeetup with family and friends\nBuy Tickets online for a Discount OR pay at the door\n\n$12.00 Admission \n$5.00 Skate rental
URL:https://www.unitedskates.com/millennium-skate-world/event/saturday-night-family-skate-4/2026-06-06/
LOCATION:Millennium Skate World\, 1900 Carman St.\, Camden\, NJ\, 08105\, United States
CATEGORIES:Family Events,Public Skates,Special Events
ATTACH;FMTTYPE=image/png:https://unitedskates-assets.sfo3.digitaloceanspaces.com/wp-content/uploads/sites/17/2025/12/Saturday-7pm-10pm-12.png
END:VEVENT
BEGIN:VEVENT
DTSTART;TZID=America/New_York:20260606T230000
DTEND;TZID=America/New_York:20260607T030000
DTSTAMP:20260421T220956
CREATED:20260410T033004Z
LAST-MODIFIED:20260410T033107Z
UID:29717-1780786800-1780801200@www.unitedskates.com
SUMMARY:Old School meets New School Music Adult Skate
DESCRIPTION:Adult Night Skate – Old School meets New School music \n“Get your ROLL on to your favorite music” \n11pm-3am \n\nMeetup with friends and family\nPlan a Birthday party\nMusic by DJ Jir\n\n$15.00 Admission with own skates \n$20.00 Admission with rental skates/Spectators
URL:https://www.unitedskates.com/millennium-skate-world/event/old-school-meets-new-school-music-adult-skate/
LOCATION:Millennium Skate World\, 1900 Carman St.\, Camden\, NJ\, 08105\, United States
CATEGORIES:Adult Events,Public Skates,Special Events
ATTACH;FMTTYPE=image/jpeg:https://unitedskates-assets.sfo3.digitaloceanspaces.com/wp-content/uploads/sites/17/2026/04/Old-School-meets-New-School-6.6.26.jpg
END:VEVENT
END:VCALENDAR