BEGIN:VCALENDAR
VERSION:2.0
PRODID:-//Rink 44 - Millennium Skate World - ECPv6.15.20//NONSGML v1.0//EN
CALSCALE:GREGORIAN
METHOD:PUBLISH
X-WR-CALNAME:Rink 44 - Millennium Skate World
X-ORIGINAL-URL:https://www.unitedskates.com/millennium-skate-world
X-WR-CALDESC:Events for Rink 44 - Millennium Skate World
REFRESH-INTERVAL;VALUE=DURATION:PT1H
X-Robots-Tag:noindex
X-PUBLISHED-TTL:PT1H
BEGIN:VTIMEZONE
TZID:America/New_York
BEGIN:DAYLIGHT
TZOFFSETFROM:-0500
TZOFFSETTO:-0400
TZNAME:EDT
DTSTART:20250309T070000
END:DAYLIGHT
BEGIN:STANDARD
TZOFFSETFROM:-0400
TZOFFSETTO:-0500
TZNAME:EST
DTSTART:20251102T060000
END:STANDARD
BEGIN:DAYLIGHT
TZOFFSETFROM:-0500
TZOFFSETTO:-0400
TZNAME:EDT
DTSTART:20260308T070000
END:DAYLIGHT
BEGIN:STANDARD
TZOFFSETFROM:-0400
TZOFFSETTO:-0500
TZNAME:EST
DTSTART:20261101T060000
END:STANDARD
BEGIN:DAYLIGHT
TZOFFSETFROM:-0500
TZOFFSETTO:-0400
TZNAME:EDT
DTSTART:20270314T070000
END:DAYLIGHT
BEGIN:STANDARD
TZOFFSETFROM:-0400
TZOFFSETTO:-0500
TZNAME:EST
DTSTART:20271107T060000
END:STANDARD
END:VTIMEZONE
BEGIN:VEVENT
DTSTART;TZID=America/New_York:20260207T100000
DTEND;TZID=America/New_York:20260207T114500
DTSTAMP:20260420T110131
CREATED:20250415T063745Z
LAST-MODIFIED:20250415T063745Z
UID:27024-1770458400-1770464700@www.unitedskates.com
SUMMARY:Skating Lessons
DESCRIPTION:Skating Lessons for all Ages \n$15.00 per person   $5.00 Skate rental \n10am-11:45am \nStay over – practice what you learned 12pm-3pm; Only $5.00 per person \n\nBeginners\nIntermediate\nAdvanced
URL:https://www.unitedskates.com/millennium-skate-world/event/skating-lessons-9/2026-02-07/
LOCATION:Millennium Skate World\, 1900 Carman St.\, Camden\, NJ\, 08105\, United States
CATEGORIES:Family Events,Lessons,Public Skates,Special Events
ATTACH;FMTTYPE=image/jpeg:https://unitedskates-assets.sfo3.digitaloceanspaces.com/wp-content/uploads/sites/17/2025/04/Lessons-10.11.25-to-6.27.26.jpg
END:VEVENT
BEGIN:VEVENT
DTSTART;TZID=America/New_York:20260207T120000
DTEND;TZID=America/New_York:20260207T150000
DTSTAMP:20260420T110131
CREATED:20260131T073242Z
LAST-MODIFIED:20260131T073920Z
UID:29166-1770465600-1770476400@www.unitedskates.com
SUMMARY:Saturday Family FUN Skate
DESCRIPTION:Saturday Family FUN Skate  \n12pm-3pm \n$12.00 Admission \n$5.00 Skate rental \n\nSchedule a Birthday Party\nMeetup with Family and Friends\nHip Hop and R&B music\n\nGroup Discount for 20 people or more – Call 856-757-9438 to make a reservation
URL:https://www.unitedskates.com/millennium-skate-world/event/family-fun-skate-21/2026-02-07/
LOCATION:Millennium Skate World\, 1900 Carman St.\, Camden\, NJ\, 08105\, United States
CATEGORIES:Family Events,Public Skates,Special Events
ATTACH;FMTTYPE=image/png:https://unitedskates-assets.sfo3.digitaloceanspaces.com/wp-content/uploads/sites/17/2025/11/Saturday-12p-to-3p-2026-12.png
END:VEVENT
BEGIN:VEVENT
DTSTART;TZID=America/New_York:20260207T230000
DTEND;TZID=America/New_York:20260208T030000
DTSTAMP:20260420T110131
CREATED:20251206T170446Z
LAST-MODIFIED:20260117T225909Z
UID:27868-1770505200-1770519600@www.unitedskates.com
SUMMARY:Friends and Lovers Adult Skate
DESCRIPTION:Friends and Lovers Adult Night Skate \n11pm-3am \nMusic – DJ Lil Redd and DJ Jir \n$20.00 Admission includes Catered Food and Drink \n$5.00 Skate rental \n\nEveryone is Welcome\nTita celebrating her Birthday
URL:https://www.unitedskates.com/millennium-skate-world/event/friends-and-lovers-adult-skate/
LOCATION:Millennium Skate World\, 1900 Carman St.\, Camden\, NJ\, 08105\, United States
CATEGORIES:Adult Events,Public Skates,Special Events
ATTACH;FMTTYPE=image/jpeg:https://unitedskates-assets.sfo3.digitaloceanspaces.com/wp-content/uploads/sites/17/2025/12/Lovers-and-Friends-2.7.26-Jir-and-Redd.jpg
END:VEVENT
END:VCALENDAR