BEGIN:VCALENDAR
VERSION:2.0
PRODID:-//Rink 44 - Millennium Skate World - ECPv6.15.20//NONSGML v1.0//EN
CALSCALE:GREGORIAN
METHOD:PUBLISH
X-WR-CALNAME:Rink 44 - Millennium Skate World
X-ORIGINAL-URL:https://www.unitedskates.com/millennium-skate-world
X-WR-CALDESC:Events for Rink 44 - Millennium Skate World
REFRESH-INTERVAL;VALUE=DURATION:PT1H
X-Robots-Tag:noindex
X-PUBLISHED-TTL:PT1H
BEGIN:VTIMEZONE
TZID:America/New_York
BEGIN:DAYLIGHT
TZOFFSETFROM:-0500
TZOFFSETTO:-0400
TZNAME:EDT
DTSTART:20250309T070000
END:DAYLIGHT
BEGIN:STANDARD
TZOFFSETFROM:-0400
TZOFFSETTO:-0500
TZNAME:EST
DTSTART:20251102T060000
END:STANDARD
BEGIN:DAYLIGHT
TZOFFSETFROM:-0500
TZOFFSETTO:-0400
TZNAME:EDT
DTSTART:20260308T070000
END:DAYLIGHT
BEGIN:STANDARD
TZOFFSETFROM:-0400
TZOFFSETTO:-0500
TZNAME:EST
DTSTART:20261101T060000
END:STANDARD
BEGIN:DAYLIGHT
TZOFFSETFROM:-0500
TZOFFSETTO:-0400
TZNAME:EDT
DTSTART:20270314T070000
END:DAYLIGHT
BEGIN:STANDARD
TZOFFSETFROM:-0400
TZOFFSETTO:-0500
TZNAME:EST
DTSTART:20271107T060000
END:STANDARD
END:VTIMEZONE
BEGIN:VEVENT
DTSTART;TZID=America/New_York:20260109T190000
DTEND;TZID=America/New_York:20260109T223000
DTSTAMP:20260419T095511
CREATED:20250803T213418Z
LAST-MODIFIED:20251217T151837Z
UID:26633-1767985200-1767997800@www.unitedskates.com
SUMMARY:Friday Adult Night Skate
DESCRIPTION:Friday Night Adult Skate \n7pm-10:30pm \n$12 Admission with own skates \n$17 Admission with rental skates/Spectators \nfeaturing DJ Reef
URL:https://www.unitedskates.com/millennium-skate-world/event/friday-adult-night-skate-10/
LOCATION:Millennium Skate World\, 1900 Carman St.\, Camden\, NJ\, 08105\, United States
CATEGORIES:Adult Events,Public Skates,Special Events
ATTACH;FMTTYPE=image/jpeg:https://unitedskates-assets.sfo3.digitaloceanspaces.com/wp-content/uploads/sites/17/2024/10/Friday-Adult-Reef-2025.jpg
END:VEVENT
BEGIN:VEVENT
DTSTART;TZID=America/New_York:20260109T230000
DTEND;TZID=America/New_York:20260110T030000
DTSTAMP:20260419T095511
CREATED:20251217T144632Z
LAST-MODIFIED:20251217T144814Z
UID:28052-1767999600-1768014000@www.unitedskates.com
SUMMARY:Slide and BIP Adult Skate Weekend
DESCRIPTION:Slide and BIP Adult Skate Weekend  \nFriday January 9th 11pm-3am \nFeaturing DJ Rackie and OnAirwithMir \nPresented by All Swag \n$16 Admission with own skates \n$21 Admission with Rental skates/Spectators \n 
URL:https://www.unitedskates.com/millennium-skate-world/event/slide-and-bip-adult-skate-weekend/
LOCATION:Millennium Skate World\, 1900 Carman St.\, Camden\, NJ\, 08105\, United States
CATEGORIES:Adult Events,Public Skates,Special Events
ATTACH;FMTTYPE=image/jpeg:https://unitedskates-assets.sfo3.digitaloceanspaces.com/wp-content/uploads/sites/17/2025/07/Slide-BIP-weekend-1.9.26-1.10.26.jpg
END:VEVENT
END:VCALENDAR