BEGIN:VCALENDAR
VERSION:2.0
PRODID:-//Rink 44 - Millennium Skate World - ECPv6.15.20//NONSGML v1.0//EN
CALSCALE:GREGORIAN
METHOD:PUBLISH
X-WR-CALNAME:Rink 44 - Millennium Skate World
X-ORIGINAL-URL:https://www.unitedskates.com/millennium-skate-world
X-WR-CALDESC:Events for Rink 44 - Millennium Skate World
REFRESH-INTERVAL;VALUE=DURATION:PT1H
X-Robots-Tag:noindex
X-PUBLISHED-TTL:PT1H
BEGIN:VTIMEZONE
TZID:America/New_York
BEGIN:DAYLIGHT
TZOFFSETFROM:-0500
TZOFFSETTO:-0400
TZNAME:EDT
DTSTART:20240310T070000
END:DAYLIGHT
BEGIN:STANDARD
TZOFFSETFROM:-0400
TZOFFSETTO:-0500
TZNAME:EST
DTSTART:20241103T060000
END:STANDARD
BEGIN:DAYLIGHT
TZOFFSETFROM:-0500
TZOFFSETTO:-0400
TZNAME:EDT
DTSTART:20250309T070000
END:DAYLIGHT
BEGIN:STANDARD
TZOFFSETFROM:-0400
TZOFFSETTO:-0500
TZNAME:EST
DTSTART:20251102T060000
END:STANDARD
BEGIN:DAYLIGHT
TZOFFSETFROM:-0500
TZOFFSETTO:-0400
TZNAME:EDT
DTSTART:20260308T070000
END:DAYLIGHT
BEGIN:STANDARD
TZOFFSETFROM:-0400
TZOFFSETTO:-0500
TZNAME:EST
DTSTART:20261101T060000
END:STANDARD
BEGIN:DAYLIGHT
TZOFFSETFROM:-0500
TZOFFSETTO:-0400
TZNAME:EDT
DTSTART:20270314T070000
END:DAYLIGHT
BEGIN:STANDARD
TZOFFSETFROM:-0400
TZOFFSETTO:-0500
TZNAME:EST
DTSTART:20271107T060000
END:STANDARD
END:VTIMEZONE
BEGIN:VEVENT
DTSTART;TZID=America/New_York:20251219T160000
DTEND;TZID=America/New_York:20260104T183000
DTSTAMP:20260419T111114
CREATED:20251202T034736Z
LAST-MODIFIED:20251202T034736Z
UID:27835-1766160000-1767551400@www.unitedskates.com
SUMMARY:Winter Break Skate Schedule — School’s Out\, Time to Roll!
DESCRIPTION:School’s out and the fun begins! Join us every day of Winter Break for themed skate sessions\, great music\, family events\, and special holiday celebrations. \nFrom Christmas Eve Skate to New Year’s Eve Parties\, we’ve got something for everyone. \nGet your tickets early and roll into the holiday fun! \nGET TICKETS HERE
URL:https://www.unitedskates.com/millennium-skate-world/event/winter-break-skate-schedule-schools-out-time-to-roll/
LOCATION:NJ
CATEGORIES:Family Events,Public Skates,Special Events
ATTACH;FMTTYPE=image/jpeg:https://unitedskates-assets.sfo3.digitaloceanspaces.com/wp-content/uploads/sites/17/2025/12/Rink-44-Winter-Break-2025-1.jpg
END:VEVENT
BEGIN:VEVENT
DTSTART;TZID=America/New_York:20260101T120000
DTEND;TZID=America/New_York:20260101T170000
DTSTAMP:20260419T111114
CREATED:20250415T064300Z
LAST-MODIFIED:20251120T042248Z
UID:25312-1767268800-1767286800@www.unitedskates.com
SUMMARY:New Year's Day Skate
DESCRIPTION:New Year’s Day Family Skate  \n12pm-5pm \n$10.00 Admission \n$5.00 Skate rental \n\nSchedule a Birthday party\nMeetup with family and friends\nFREE Hot Cocoa\nGroup discount for 20 people or more
URL:https://www.unitedskates.com/millennium-skate-world/event/daytime-schools-stem-organizations-2026-01-01/
LOCATION:Millennium Skate World\, 1900 Carman St.\, Camden\, NJ\, 08105\, United States
CATEGORIES:Family Events,Public Skates,Special Events
ATTACH;FMTTYPE=image/jpeg:https://unitedskates-assets.sfo3.digitaloceanspaces.com/wp-content/uploads/sites/17/2025/04/NYE-Roller-Skate.jpg
END:VEVENT
BEGIN:VEVENT
DTSTART;TZID=America/New_York:20260101T180000
DTEND;TZID=America/New_York:20260101T210000
DTSTAMP:20260419T111114
CREATED:20250827T203042Z
LAST-MODIFIED:20251120T042551Z
UID:26828-1767290400-1767301200@www.unitedskates.com
SUMMARY:New Year's Day Family Skate
DESCRIPTION:New Year’s Day Family Skate \n6pm-9pm \n$10.00 Admission \n$5.00 skate rental \n\nSchedule a Birthday party\nMeetup with family and friends\n\n 
URL:https://www.unitedskates.com/millennium-skate-world/event/new-years-day-family-skate-3/
LOCATION:Millennium Skate World\, 1900 Carman St.\, Camden\, NJ\, 08105\, United States
CATEGORIES:Family Events,Public Skates,Special Events
ATTACH;FMTTYPE=image/jpeg:https://unitedskates-assets.sfo3.digitaloceanspaces.com/wp-content/uploads/sites/17/2025/04/NYE-Roller-Skate.jpg
END:VEVENT
END:VCALENDAR