BEGIN:VCALENDAR
VERSION:2.0
PRODID:-//Rink 44 - Millennium Skate World - ECPv6.15.20//NONSGML v1.0//EN
CALSCALE:GREGORIAN
METHOD:PUBLISH
X-WR-CALNAME:Rink 44 - Millennium Skate World
X-ORIGINAL-URL:https://www.unitedskates.com/millennium-skate-world
X-WR-CALDESC:Events for Rink 44 - Millennium Skate World
REFRESH-INTERVAL;VALUE=DURATION:PT1H
X-Robots-Tag:noindex
X-PUBLISHED-TTL:PT1H
BEGIN:VTIMEZONE
TZID:America/New_York
BEGIN:DAYLIGHT
TZOFFSETFROM:-0500
TZOFFSETTO:-0400
TZNAME:EDT
DTSTART:20240310T070000
END:DAYLIGHT
BEGIN:STANDARD
TZOFFSETFROM:-0400
TZOFFSETTO:-0500
TZNAME:EST
DTSTART:20241103T060000
END:STANDARD
BEGIN:DAYLIGHT
TZOFFSETFROM:-0500
TZOFFSETTO:-0400
TZNAME:EDT
DTSTART:20250309T070000
END:DAYLIGHT
BEGIN:STANDARD
TZOFFSETFROM:-0400
TZOFFSETTO:-0500
TZNAME:EST
DTSTART:20251102T060000
END:STANDARD
BEGIN:DAYLIGHT
TZOFFSETFROM:-0500
TZOFFSETTO:-0400
TZNAME:EDT
DTSTART:20260308T070000
END:DAYLIGHT
BEGIN:STANDARD
TZOFFSETFROM:-0400
TZOFFSETTO:-0500
TZNAME:EST
DTSTART:20261101T060000
END:STANDARD
BEGIN:DAYLIGHT
TZOFFSETFROM:-0500
TZOFFSETTO:-0400
TZNAME:EDT
DTSTART:20270314T070000
END:DAYLIGHT
BEGIN:STANDARD
TZOFFSETFROM:-0400
TZOFFSETTO:-0500
TZNAME:EST
DTSTART:20271107T060000
END:STANDARD
END:VTIMEZONE
BEGIN:VEVENT
DTSTART;TZID=America/New_York:20251219T160000
DTEND;TZID=America/New_York:20260104T183000
DTSTAMP:20260420T124758
CREATED:20251202T034736Z
LAST-MODIFIED:20251202T034736Z
UID:27835-1766160000-1767551400@www.unitedskates.com
SUMMARY:Winter Break Skate Schedule — School’s Out\, Time to Roll!
DESCRIPTION:School’s out and the fun begins! Join us every day of Winter Break for themed skate sessions\, great music\, family events\, and special holiday celebrations. \nFrom Christmas Eve Skate to New Year’s Eve Parties\, we’ve got something for everyone. \nGet your tickets early and roll into the holiday fun! \nGET TICKETS HERE
URL:https://www.unitedskates.com/millennium-skate-world/event/winter-break-skate-schedule-schools-out-time-to-roll/
LOCATION:NJ
CATEGORIES:Family Events,Public Skates,Special Events
ATTACH;FMTTYPE=image/jpeg:https://unitedskates-assets.sfo3.digitaloceanspaces.com/wp-content/uploads/sites/17/2025/12/Rink-44-Winter-Break-2025-1.jpg
END:VEVENT
BEGIN:VEVENT
DTSTART;TZID=America/New_York:20251221T150000
DTEND;TZID=America/New_York:20251221T183000
DTSTAMP:20260420T124758
CREATED:20250430T050819Z
LAST-MODIFIED:20251219T170924Z
UID:25592-1766329200-1766341800@www.unitedskates.com
SUMMARY:Family FUN Skate
DESCRIPTION:Family FUN Skate  \n3pm-6:30pm \n$12.00 Admission at the door \n$11.00 Admission – Tickets online \n$5.00 Skate rental \n~~~~~~~~ \nFamily Package $74.99 for (4) people \n4 Admission\, 4 Skate rental\, 4 slices of pizza and 4 drinks
URL:https://www.unitedskates.com/millennium-skate-world/event/family-fun-skate-25-2025-12-21/
LOCATION:Millennium Skate World\, 1900 Carman St.\, Camden\, NJ\, 08105\, United States
CATEGORIES:Family Events,Public Skates,Special Events
ATTACH;FMTTYPE=image/png:https://unitedskates-assets.sfo3.digitaloceanspaces.com/wp-content/uploads/sites/17/2022/08/Sunday-Family-Skate.png
END:VEVENT
BEGIN:VEVENT
DTSTART;TZID=America/New_York:20251221T150000
DTEND;TZID=America/New_York:20251221T183000
DTSTAMP:20260420T124758
CREATED:20251221T203516Z
LAST-MODIFIED:20251221T203546Z
UID:28695-1766329200-1766341800@www.unitedskates.com
SUMMARY:Sunday Family Skate with the Grinch
DESCRIPTION:$11.00 Admission \n$5.00 Skate rental \n\nMeetup with friends and family\nGroup discounts for 20 people or more\n\n  \n~~~~~~~~ \nFamily Package $74.99 \n(4) Admission\, (4) Skate rental\, Whole pizza and Picher of soda \nBuy Tickets online $10.00
URL:https://www.unitedskates.com/millennium-skate-world/event/sunday-family-skate-with-the-grinch/
LOCATION:Millennium Skate World\, 1900 Carman St.\, Camden\, NJ\, 08105\, United States
CATEGORIES:Family Events,Public Skates,Special Events
ATTACH;FMTTYPE=image/jpeg:https://unitedskates-assets.sfo3.digitaloceanspaces.com/wp-content/uploads/sites/17/2025/04/Winterbreak-2025.jpg
END:VEVENT
END:VCALENDAR