BEGIN:VCALENDAR
VERSION:2.0
PRODID:-//Rink 44 - Millennium Skate World - ECPv6.15.20//NONSGML v1.0//EN
CALSCALE:GREGORIAN
METHOD:PUBLISH
X-WR-CALNAME:Rink 44 - Millennium Skate World
X-ORIGINAL-URL:https://www.unitedskates.com/millennium-skate-world
X-WR-CALDESC:Events for Rink 44 - Millennium Skate World
REFRESH-INTERVAL;VALUE=DURATION:PT1H
X-Robots-Tag:noindex
X-PUBLISHED-TTL:PT1H
BEGIN:VTIMEZONE
TZID:America/New_York
BEGIN:DAYLIGHT
TZOFFSETFROM:-0500
TZOFFSETTO:-0400
TZNAME:EDT
DTSTART:20240310T070000
END:DAYLIGHT
BEGIN:STANDARD
TZOFFSETFROM:-0400
TZOFFSETTO:-0500
TZNAME:EST
DTSTART:20241103T060000
END:STANDARD
BEGIN:DAYLIGHT
TZOFFSETFROM:-0500
TZOFFSETTO:-0400
TZNAME:EDT
DTSTART:20250309T070000
END:DAYLIGHT
BEGIN:STANDARD
TZOFFSETFROM:-0400
TZOFFSETTO:-0500
TZNAME:EST
DTSTART:20251102T060000
END:STANDARD
BEGIN:DAYLIGHT
TZOFFSETFROM:-0500
TZOFFSETTO:-0400
TZNAME:EDT
DTSTART:20260308T070000
END:DAYLIGHT
BEGIN:STANDARD
TZOFFSETFROM:-0400
TZOFFSETTO:-0500
TZNAME:EST
DTSTART:20261101T060000
END:STANDARD
END:VTIMEZONE
BEGIN:VEVENT
DTSTART;TZID=America/New_York:20251215T160000
DTEND;TZID=America/New_York:20251215T180000
DTSTAMP:20260420T063307
CREATED:20251003T195541Z
LAST-MODIFIED:20251003T195922Z
UID:27110-1765814400-1765821600@www.unitedskates.com
SUMMARY:Rent the Rink - Private
DESCRIPTION:Rent Millennium Skate World for 2 hours  \n\nFamily FUN Gathering\nMeetup with friends\nBusiness Meeting and Skate\nCelebrate a Special Occasion\nAll ages welcome\n\n4pm-6pm \nOnly $400 for up to 25 people – includes Admission and Skate rental \n~~~~~~~~~~~~~ \nOption: \nAdd a slice of Pizza and Drink – $5 per person \nAdd a Whole Pizza and Pitcher – Only $17.95 \nAdd a Wing Platter – Only $45.00 \nWant to bring in a Cake and Ice cream? Add a Birthday Setup for $50
URL:https://www.unitedskates.com/millennium-skate-world/event/rent-the-rink-private/2025-12-15/
LOCATION:Millennium Skate World\, 1900 Carman St.\, Camden\, NJ\, 08105\, United States
CATEGORIES:Private Party,Special Events
ATTACH;FMTTYPE=image/jpeg:https://unitedskates-assets.sfo3.digitaloceanspaces.com/wp-content/uploads/sites/17/2024/08/Rent-the-rink.jpg
END:VEVENT
BEGIN:VEVENT
DTSTART;TZID=America/New_York:20251215T180000
DTEND;TZID=America/New_York:20251215T220000
DTSTAMP:20260420T063307
CREATED:20241009T062720Z
LAST-MODIFIED:20251211T041948Z
UID:25075-1765821600-1765836000@www.unitedskates.com
SUMMARY:Monday Family Skate featuring DJ Mar - Toy Drive
DESCRIPTION:Monday Family Skate featuring DJ Mar \n6pm-10pm \n\nSession extended from 9:30pm-10pm as a THANK You for the Toy donation\n\nHip Hop\, R&B and House Music \n$6.00 Admission \n$5.00 Skate rental \n~~~~ \nBring a NEW Unwrapped Toy in support of the Rising Leaders Toy Event
URL:https://www.unitedskates.com/millennium-skate-world/event/monday-family-skate-featuring-dj-lil-redd-2025-01-20-2025-12-15/
LOCATION:Millennium Skate World\, 1900 Carman St.\, Camden\, NJ\, 08105\, United States
CATEGORIES:Family Events,Public Skates,Special Events
ATTACH;FMTTYPE=image/jpeg:https://unitedskates-assets.sfo3.digitaloceanspaces.com/wp-content/uploads/sites/17/2024/10/Mon-12.15.25-toys.jpg
END:VEVENT
END:VCALENDAR