BEGIN:VCALENDAR
VERSION:2.0
PRODID:-//Rink 44 - Millennium Skate World - ECPv6.15.20//NONSGML v1.0//EN
CALSCALE:GREGORIAN
METHOD:PUBLISH
X-ORIGINAL-URL:https://www.unitedskates.com/millennium-skate-world
X-WR-CALDESC:Events for Rink 44 - Millennium Skate World
REFRESH-INTERVAL;VALUE=DURATION:PT1H
X-Robots-Tag:noindex
X-PUBLISHED-TTL:PT1H
BEGIN:VTIMEZONE
TZID:America/New_York
BEGIN:DAYLIGHT
TZOFFSETFROM:-0500
TZOFFSETTO:-0400
TZNAME:EDT
DTSTART:20240310T070000
END:DAYLIGHT
BEGIN:STANDARD
TZOFFSETFROM:-0400
TZOFFSETTO:-0500
TZNAME:EST
DTSTART:20241103T060000
END:STANDARD
BEGIN:DAYLIGHT
TZOFFSETFROM:-0500
TZOFFSETTO:-0400
TZNAME:EDT
DTSTART:20250309T070000
END:DAYLIGHT
BEGIN:STANDARD
TZOFFSETFROM:-0400
TZOFFSETTO:-0500
TZNAME:EST
DTSTART:20251102T060000
END:STANDARD
BEGIN:DAYLIGHT
TZOFFSETFROM:-0500
TZOFFSETTO:-0400
TZNAME:EDT
DTSTART:20260308T070000
END:DAYLIGHT
BEGIN:STANDARD
TZOFFSETFROM:-0400
TZOFFSETTO:-0500
TZNAME:EST
DTSTART:20261101T060000
END:STANDARD
END:VTIMEZONE
BEGIN:VEVENT
DTSTART;TZID=America/New_York:20251213T100000
DTEND;TZID=America/New_York:20251213T114500
DTSTAMP:20260421T073531
CREATED:20250415T063745Z
LAST-MODIFIED:20250415T063745Z
UID:27016-1765620000-1765626300@www.unitedskates.com
SUMMARY:Skating Lessons
DESCRIPTION:Skating Lessons for all Ages \n$15.00 per person   $5.00 Skate rental \n10am-11:45am \nStay over – practice what you learned 12pm-3pm; Only $5.00 per person \n\nBeginners\nIntermediate\nAdvanced
URL:https://www.unitedskates.com/millennium-skate-world/event/skating-lessons-9/2025-12-13/
LOCATION:Millennium Skate World\, 1900 Carman St.\, Camden\, NJ\, 08105\, United States
CATEGORIES:Family Events,Lessons,Public Skates,Special Events
ATTACH;FMTTYPE=image/jpeg:https://unitedskates-assets.sfo3.digitaloceanspaces.com/wp-content/uploads/sites/17/2025/04/Lessons-10.11.25-to-6.27.26.jpg
END:VEVENT
BEGIN:VEVENT
DTSTART;TZID=America/New_York:20251213T120000
DTEND;TZID=America/New_York:20251213T150000
DTSTAMP:20260421T073531
CREATED:20250803T214557Z
LAST-MODIFIED:20251119T162908Z
UID:26655-1765627200-1765638000@www.unitedskates.com
SUMMARY:25th Anniversary Family Fun Skate
DESCRIPTION:25th Anniversary Family Fun Skate  \n$10.25 Admission * Special Price in honor of our Anniversary \n$5 Skate rental \n\nSchedule a Birthday Party\nMeetup with family and friends\nGroup discount of 20 people or more
URL:https://www.unitedskates.com/millennium-skate-world/event/family-fun-skate-26-2025-12-13/
LOCATION:Millennium Skate World\, 1900 Carman St.\, Camden\, NJ\, 08105\, United States
CATEGORIES:Family Events,Public Skates,Special Events
ATTACH;FMTTYPE=image/jpeg:https://unitedskates-assets.sfo3.digitaloceanspaces.com/wp-content/uploads/sites/17/2025/08/25th-Anniversary-2025-flyer.jpg
END:VEVENT
BEGIN:VEVENT
DTSTART;TZID=America/New_York:20251213T153000
DTEND;TZID=America/New_York:20251213T183000
DTSTAMP:20260421T073531
CREATED:20250707T020833Z
LAST-MODIFIED:20251119T164244Z
UID:26341-1765639800-1765650600@www.unitedskates.com
SUMMARY:25th Anniversary - Family FUN Skate
DESCRIPTION:25th Anniversary – Family FUN Skate  \n$10.25 Admission * Special discount in honor of our Anniversary \n$5.00 Skate rental \n\nBirthday Parties\nMeetup with family and friends\nSpecial discounted prices for 20 people or more\n\n 
URL:https://www.unitedskates.com/millennium-skate-world/event/saturday-family-fun-skate-2025-12-13/
LOCATION:Millennium Skate World\, 1900 Carman St.\, Camden\, NJ\, 08105\, United States
CATEGORIES:Family Events,Public Skates,Special Events
ATTACH;FMTTYPE=image/jpeg:https://unitedskates-assets.sfo3.digitaloceanspaces.com/wp-content/uploads/sites/17/2025/08/25th-Anniversary-2025-flyer.jpg
END:VEVENT
BEGIN:VEVENT
DTSTART;TZID=America/New_York:20251213T190000
DTEND;TZID=America/New_York:20251213T220000
DTSTAMP:20260421T073531
CREATED:20250415T055123Z
LAST-MODIFIED:20251119T174225Z
UID:24938-1765652400-1765663200@www.unitedskates.com
SUMMARY:25th Anniversary Family NIGHT Skate
DESCRIPTION:25th Anniversary Family FUN Night Skate \nHip Hop and R&B Music \n7pm-10pm \n$10.25 Admission * Special discount in honor of our Anniversary \n$5.00 skate rental \n\nSchedule a Birthday Party\nMeet with friends and family
URL:https://www.unitedskates.com/millennium-skate-world/event/family-night-skate-4-2025-07-12-2025-12-13/
LOCATION:Millennium Skate World\, 1900 Carman St.\, Camden\, NJ\, 08105\, United States
CATEGORIES:Family Events,Public Skates,Special Events
ATTACH;FMTTYPE=image/jpeg:https://unitedskates-assets.sfo3.digitaloceanspaces.com/wp-content/uploads/sites/17/2025/08/25th-Anniversary-2025-flyer.jpg
END:VEVENT
BEGIN:VEVENT
DTSTART;TZID=America/New_York:20251213T230000
DTEND;TZID=America/New_York:20251214T030000
DTSTAMP:20260421T073531
CREATED:20250814T034422Z
LAST-MODIFIED:20251211T033716Z
UID:26767-1765666800-1765681200@www.unitedskates.com
SUMMARY:25th Anniversary Adult LATE Skate
DESCRIPTION:Celebrating “25” YEARS \nAdult LATE Skate \n11pm-3am \nFeaturing DJ Vez \n\nDelicious Cake\nGiveaways\nFruit Buffet\n\n$10.25 Admission with own skates \n$16.00 Admission with rental skates/Spectators
URL:https://www.unitedskates.com/millennium-skate-world/event/25th-anniversary-adult-late-skate/
LOCATION:Millennium Skate World\, 1900 Carman St.\, Camden\, NJ\, 08105\, United States
CATEGORIES:Adult Events,Public Skates,Special Events
ATTACH;FMTTYPE=image/jpeg:https://unitedskates-assets.sfo3.digitaloceanspaces.com/wp-content/uploads/sites/17/2025/08/Anniversary-Adult-12.13.25.jpg
END:VEVENT
END:VCALENDAR