BEGIN:VCALENDAR
VERSION:2.0
PRODID:-//Rink 44 - Millennium Skate World - ECPv6.15.20//NONSGML v1.0//EN
CALSCALE:GREGORIAN
METHOD:PUBLISH
X-WR-CALNAME:Rink 44 - Millennium Skate World
X-ORIGINAL-URL:https://www.unitedskates.com/millennium-skate-world
X-WR-CALDESC:Events for Rink 44 - Millennium Skate World
REFRESH-INTERVAL;VALUE=DURATION:PT1H
X-Robots-Tag:noindex
X-PUBLISHED-TTL:PT1H
BEGIN:VTIMEZONE
TZID:America/New_York
BEGIN:DAYLIGHT
TZOFFSETFROM:-0500
TZOFFSETTO:-0400
TZNAME:EDT
DTSTART:20240310T070000
END:DAYLIGHT
BEGIN:STANDARD
TZOFFSETFROM:-0400
TZOFFSETTO:-0500
TZNAME:EST
DTSTART:20241103T060000
END:STANDARD
BEGIN:DAYLIGHT
TZOFFSETFROM:-0500
TZOFFSETTO:-0400
TZNAME:EDT
DTSTART:20250309T070000
END:DAYLIGHT
BEGIN:STANDARD
TZOFFSETFROM:-0400
TZOFFSETTO:-0500
TZNAME:EST
DTSTART:20251102T060000
END:STANDARD
BEGIN:DAYLIGHT
TZOFFSETFROM:-0500
TZOFFSETTO:-0400
TZNAME:EDT
DTSTART:20260308T070000
END:DAYLIGHT
BEGIN:STANDARD
TZOFFSETFROM:-0400
TZOFFSETTO:-0500
TZNAME:EST
DTSTART:20261101T060000
END:STANDARD
END:VTIMEZONE
BEGIN:VEVENT
DTSTART;TZID=America/New_York:20251205T160000
DTEND;TZID=America/New_York:20251205T183000
DTSTAMP:20260420T052013
CREATED:20250325T053105Z
LAST-MODIFIED:20250325T053105Z
UID:24438-1764950400-1764959400@www.unitedskates.com
SUMMARY:Family FUN Skate
DESCRIPTION:Family FUN Skate \n4pm-6:30pm \n$6.00 Admission \n$5.00 Skate rental \n\nSchedule a Birthday Party\nMeetup with friends and family
URL:https://www.unitedskates.com/millennium-skate-world/event/family-fun-skate-12/2025-12-05/
LOCATION:Millennium Skate World\, 1900 Carman St.\, Camden\, NJ\, 08105\, United States
CATEGORIES:Family Events,Public Skates,Special Events
ATTACH;FMTTYPE=image/jpeg:https://unitedskates-assets.sfo3.digitaloceanspaces.com/wp-content/uploads/sites/17/2022/05/AFF-FAMILY-FUN-SKATE-1200x900-1.jpg
END:VEVENT
BEGIN:VEVENT
DTSTART;TZID=America/New_York:20251205T190000
DTEND;TZID=America/New_York:20251205T223000
DTSTAMP:20260420T052013
CREATED:20250803T202018Z
LAST-MODIFIED:20251119T163820Z
UID:26602-1764961200-1764973800@www.unitedskates.com
SUMMARY:1st Friday Adult Night Skate
DESCRIPTION:1st Friday Adult Night Skate  \nfeaturing DJ Ed \n7pm-10:30pm \n$12 Admission with own skates \n$17 Admission with rental skates/Spectators \n\nMeetup with friends\nSchedule a Birthday Party\n\n 
URL:https://www.unitedskates.com/millennium-skate-world/event/1st-friday-adult-night-skate-8-2025-12-05/
LOCATION:Millennium Skate World\, 1900 Carman St.\, Camden\, NJ\, 08105\, United States
CATEGORIES:Adult Events,Public Skates,Special Events
ATTACH;FMTTYPE=image/jpeg:https://unitedskates-assets.sfo3.digitaloceanspaces.com/wp-content/uploads/sites/17/2025/08/1st-Friday-12.5.25.jpg
END:VEVENT
BEGIN:VEVENT
DTSTART;TZID=America/New_York:20251205T230000
DTEND;TZID=America/New_York:20251206T030000
DTSTAMP:20260420T052013
CREATED:20250803T203109Z
LAST-MODIFIED:20251119T163715Z
UID:26606-1764975600-1764990000@www.unitedskates.com
SUMMARY:1st Friday Adult LATE Skate
DESCRIPTION:1st Friday Adult LATE Skate \n11pm – 3am \nfeaturing DJ T-Nice \n$12 Admission with own skates \n$17 Admission with rental skates/Spectators \n\nBirthday parties\nMeetup with friends and family\n\n 
URL:https://www.unitedskates.com/millennium-skate-world/event/1st-friday-adult-late-skate-8-2025-12-05/
LOCATION:Millennium Skate World\, 1900 Carman St.\, Camden\, NJ\, 08105\, United States
CATEGORIES:Adult Events,Public Skates,Special Events
ATTACH;FMTTYPE=image/jpeg:https://unitedskates-assets.sfo3.digitaloceanspaces.com/wp-content/uploads/sites/17/2025/08/1st-Friday-12.5.25.jpg
END:VEVENT
END:VCALENDAR