BEGIN:VCALENDAR
VERSION:2.0
PRODID:-//Rink 44 - Millennium Skate World - ECPv6.15.20//NONSGML v1.0//EN
CALSCALE:GREGORIAN
METHOD:PUBLISH
X-ORIGINAL-URL:https://www.unitedskates.com/millennium-skate-world
X-WR-CALDESC:Events for Rink 44 - Millennium Skate World
REFRESH-INTERVAL;VALUE=DURATION:PT1H
X-Robots-Tag:noindex
X-PUBLISHED-TTL:PT1H
BEGIN:VTIMEZONE
TZID:America/New_York
BEGIN:DAYLIGHT
TZOFFSETFROM:-0500
TZOFFSETTO:-0400
TZNAME:EDT
DTSTART:20240310T070000
END:DAYLIGHT
BEGIN:STANDARD
TZOFFSETFROM:-0400
TZOFFSETTO:-0500
TZNAME:EST
DTSTART:20241103T060000
END:STANDARD
BEGIN:DAYLIGHT
TZOFFSETFROM:-0500
TZOFFSETTO:-0400
TZNAME:EDT
DTSTART:20250309T070000
END:DAYLIGHT
BEGIN:STANDARD
TZOFFSETFROM:-0400
TZOFFSETTO:-0500
TZNAME:EST
DTSTART:20251102T060000
END:STANDARD
BEGIN:DAYLIGHT
TZOFFSETFROM:-0500
TZOFFSETTO:-0400
TZNAME:EDT
DTSTART:20260308T070000
END:DAYLIGHT
BEGIN:STANDARD
TZOFFSETFROM:-0400
TZOFFSETTO:-0500
TZNAME:EST
DTSTART:20261101T060000
END:STANDARD
END:VTIMEZONE
BEGIN:VEVENT
DTSTART;TZID=America/New_York:20251127T220000
DTEND;TZID=America/New_York:20251201T213000
DTSTAMP:20260421T010456
CREATED:20251110T160459Z
LAST-MODIFIED:20251120T181758Z
UID:27655-1764280800-1764624600@www.unitedskates.com
SUMMARY:🦃 Thanksgiving Break Skates at Millennium Skate World! 🎉
DESCRIPTION:School’s out — let the skating fun begin! Join us all week long at Millennium Skate World in Camden\, NJ for our Thanksgiving Break Skates packed with themed sessions\, family fun\, and great food! \n🍂 Thursday\, Nov 27: Thanksgiving Family Night Skate featuring DJ Mar — 7PM–10pM🛍️ Friday\, Nov 28: Black Friday Family & Adult Skates — amazing deals all day long!🦃 Saturday\, Nov 29: Family Skates & Lessons — perfect for all ages!🎅 Sunday–Monday: Meet Santa\, take pictures\, and enjoy Family Skate with DJ Mar! \n🎟️ Admission starting at $6 | Skate Rental $5🍕 Meal Deal: $17.95 — Includes a whole pizza & pitcher of soda \nBring your crew and celebrate the holidays on wheels — the fun starts here at Millennium Skate World!
URL:https://www.unitedskates.com/millennium-skate-world/event/%f0%9f%a6%83-thanksgiving-break-skates-at-millennium-skate-world-%f0%9f%8e%89/
LOCATION:NJ
CATEGORIES:Adult Events,Family Events,Public Skates,Special Events
ATTACH;FMTTYPE=image/jpeg:https://unitedskates-assets.sfo3.digitaloceanspaces.com/wp-content/uploads/sites/17/2025/11/44-Thanksgiving-Break-Roller-Skate-2025-8.5-x-11-in-1.jpg
END:VEVENT
BEGIN:VEVENT
DTSTART;TZID=America/New_York:20251130T150000
DTEND;TZID=America/New_York:20251130T183000
DTSTAMP:20260421T010456
CREATED:20240804T212310Z
LAST-MODIFIED:20251120T182200Z
UID:25794-1764514800-1764527400@www.unitedskates.com
SUMMARY:Thanksgiving Break Family FUN Skate
DESCRIPTION:Thanksgiving Break Family Fun Roller Skating  \n3pm-6:30pm \nAdmission $11.00 \nAdvance tickets online $10.00 admission \nSkate rental $5.00 \n\nPerfect day or a Birthday party\nBook a Group of 20 people or more\n\n~~~~~~~~~~~~~~~~ \nFamily package for 4 people $74.99 \n(4) Admission\, (4) Skate rental\, (4) Slices of pizza and (4) 8oz drinks \n\nParents stay with your kids\, No drop-offs
URL:https://www.unitedskates.com/millennium-skate-world/event/family-fun-skate-16-2025-11-30/
LOCATION:Millennium Skate World\, 1900 Carman St.\, Camden\, NJ\, 08105\, United States
CATEGORIES:Family Events,Public Skates,Special Events
ATTACH;FMTTYPE=image/jpeg:https://unitedskates-assets.sfo3.digitaloceanspaces.com/wp-content/uploads/sites/17/2025/11/44-Thanksgiving-Break-Roller-Skate-2025-8.5-x-11-in-1.jpg
END:VEVENT
END:VCALENDAR