BEGIN:VCALENDAR
VERSION:2.0
PRODID:-//Rink 44 - Millennium Skate World - ECPv6.15.20//NONSGML v1.0//EN
CALSCALE:GREGORIAN
METHOD:PUBLISH
X-WR-CALNAME:Rink 44 - Millennium Skate World
X-ORIGINAL-URL:https://www.unitedskates.com/millennium-skate-world
X-WR-CALDESC:Events for Rink 44 - Millennium Skate World
REFRESH-INTERVAL;VALUE=DURATION:PT1H
X-Robots-Tag:noindex
X-PUBLISHED-TTL:PT1H
BEGIN:VTIMEZONE
TZID:America/New_York
BEGIN:DAYLIGHT
TZOFFSETFROM:-0500
TZOFFSETTO:-0400
TZNAME:EDT
DTSTART:20240310T070000
END:DAYLIGHT
BEGIN:STANDARD
TZOFFSETFROM:-0400
TZOFFSETTO:-0500
TZNAME:EST
DTSTART:20241103T060000
END:STANDARD
BEGIN:DAYLIGHT
TZOFFSETFROM:-0500
TZOFFSETTO:-0400
TZNAME:EDT
DTSTART:20250309T070000
END:DAYLIGHT
BEGIN:STANDARD
TZOFFSETFROM:-0400
TZOFFSETTO:-0500
TZNAME:EST
DTSTART:20251102T060000
END:STANDARD
BEGIN:DAYLIGHT
TZOFFSETFROM:-0500
TZOFFSETTO:-0400
TZNAME:EDT
DTSTART:20260308T070000
END:DAYLIGHT
BEGIN:STANDARD
TZOFFSETFROM:-0400
TZOFFSETTO:-0500
TZNAME:EST
DTSTART:20261101T060000
END:STANDARD
END:VTIMEZONE
BEGIN:VEVENT
DTSTART;TZID=America/New_York:20251127T220000
DTEND;TZID=America/New_York:20251201T213000
DTSTAMP:20260420T231435
CREATED:20251110T160459Z
LAST-MODIFIED:20251120T181758Z
UID:27655-1764280800-1764624600@www.unitedskates.com
SUMMARY:🦃 Thanksgiving Break Skates at Millennium Skate World! 🎉
DESCRIPTION:School’s out — let the skating fun begin! Join us all week long at Millennium Skate World in Camden\, NJ for our Thanksgiving Break Skates packed with themed sessions\, family fun\, and great food! \n🍂 Thursday\, Nov 27: Thanksgiving Family Night Skate featuring DJ Mar — 7PM–10pM🛍️ Friday\, Nov 28: Black Friday Family & Adult Skates — amazing deals all day long!🦃 Saturday\, Nov 29: Family Skates & Lessons — perfect for all ages!🎅 Sunday–Monday: Meet Santa\, take pictures\, and enjoy Family Skate with DJ Mar! \n🎟️ Admission starting at $6 | Skate Rental $5🍕 Meal Deal: $17.95 — Includes a whole pizza & pitcher of soda \nBring your crew and celebrate the holidays on wheels — the fun starts here at Millennium Skate World!
URL:https://www.unitedskates.com/millennium-skate-world/event/%f0%9f%a6%83-thanksgiving-break-skates-at-millennium-skate-world-%f0%9f%8e%89/
LOCATION:NJ
CATEGORIES:Adult Events,Family Events,Public Skates,Special Events
ATTACH;FMTTYPE=image/jpeg:https://unitedskates-assets.sfo3.digitaloceanspaces.com/wp-content/uploads/sites/17/2025/11/44-Thanksgiving-Break-Roller-Skate-2025-8.5-x-11-in-1.jpg
END:VEVENT
BEGIN:VEVENT
DTSTART;TZID=America/New_York:20251129T100000
DTEND;TZID=America/New_York:20251129T114500
DTSTAMP:20260420T231435
CREATED:20250415T063745Z
LAST-MODIFIED:20250415T063745Z
UID:27014-1764410400-1764416700@www.unitedskates.com
SUMMARY:Skating Lessons
DESCRIPTION:Skating Lessons for all Ages \n$15.00 per person   $5.00 Skate rental \n10am-11:45am \nStay over – practice what you learned 12pm-3pm; Only $5.00 per person \n\nBeginners\nIntermediate\nAdvanced
URL:https://www.unitedskates.com/millennium-skate-world/event/skating-lessons-9/2025-11-29/
LOCATION:Millennium Skate World\, 1900 Carman St.\, Camden\, NJ\, 08105\, United States
CATEGORIES:Family Events,Lessons,Public Skates,Special Events
ATTACH;FMTTYPE=image/jpeg:https://unitedskates-assets.sfo3.digitaloceanspaces.com/wp-content/uploads/sites/17/2025/04/Lessons-10.11.25-to-6.27.26.jpg
END:VEVENT
BEGIN:VEVENT
DTSTART;TZID=America/New_York:20251129T120000
DTEND;TZID=America/New_York:20251129T150000
DTSTAMP:20260420T231435
CREATED:20250803T214557Z
LAST-MODIFIED:20251011T011405Z
UID:26653-1764417600-1764428400@www.unitedskates.com
SUMMARY:50th Anniversary Hello Kitty - Family Fun Skate
DESCRIPTION:50th Anniversary Hello Kitty – Family Fun Skate  \n$11 Admission \n$5 Skate rental \n\nSchedule a Birthday Party\nMeetup with family and friends\nGroup discount of 20 people or more
URL:https://www.unitedskates.com/millennium-skate-world/event/family-fun-skate-26-2025-11-29/
LOCATION:Millennium Skate World\, 1900 Carman St.\, Camden\, NJ\, 08105\, United States
CATEGORIES:Family Events,Public Skates,Special Events
ATTACH;FMTTYPE=image/jpeg:https://unitedskates-assets.sfo3.digitaloceanspaces.com/wp-content/uploads/sites/17/2025/07/50th-Anniversary-Hello-Kitty-Skate.jpg
END:VEVENT
BEGIN:VEVENT
DTSTART;TZID=America/New_York:20251129T153000
DTEND;TZID=America/New_York:20251129T183000
DTSTAMP:20260420T231435
CREATED:20250707T020833Z
LAST-MODIFIED:20251011T011047Z
UID:26339-1764430200-1764441000@www.unitedskates.com
SUMMARY:Hello Kitty 50th Anniversary - Family FUN Skate
DESCRIPTION:Hello Kitty 50th Anniversary – Family FUN Skate  \n$11.00 Admission \n$5.00 Skate rental \n\nBirthday Parties\nMeetup with family and friends\nSpecial discounted prices for 20 people or more\n\n 
URL:https://www.unitedskates.com/millennium-skate-world/event/saturday-family-fun-skate-2025-11-29/
LOCATION:Millennium Skate World\, 1900 Carman St.\, Camden\, NJ\, 08105\, United States
CATEGORIES:Family Events,Public Skates,Special Events
ATTACH;FMTTYPE=image/jpeg:https://unitedskates-assets.sfo3.digitaloceanspaces.com/wp-content/uploads/sites/17/2025/07/50th-Anniversary-Hello-Kitty-Skate.jpg
END:VEVENT
BEGIN:VEVENT
DTSTART;TZID=America/New_York:20251129T190000
DTEND;TZID=America/New_York:20251129T220000
DTSTAMP:20260420T231435
CREATED:20250415T055123Z
LAST-MODIFIED:20251120T181948Z
UID:24936-1764442800-1764453600@www.unitedskates.com
SUMMARY:Thanksgiving Break Family NIGHT Skate
DESCRIPTION:Thanksgiving Break Family FUN Night Skate \nHip Hop and R&B Music \n7pm-10pm \n$11 Admission at the door \nAdvance ticket sales $10.00 \n$5.00 skate rental \n\nSchedule a Birthday Party\nMeet with friends and family
URL:https://www.unitedskates.com/millennium-skate-world/event/family-night-skate-4-2025-07-12-2025-11-29/
LOCATION:Millennium Skate World\, 1900 Carman St.\, Camden\, NJ\, 08105\, United States
CATEGORIES:Family Events,Public Skates,Special Events
ATTACH;FMTTYPE=image/jpeg:https://unitedskates-assets.sfo3.digitaloceanspaces.com/wp-content/uploads/sites/17/2025/11/44-Thanksgiving-Break-Roller-Skate-2025-8.5-x-11-in-1.jpg
END:VEVENT
BEGIN:VEVENT
DTSTART;TZID=America/New_York:20251129T230000
DTEND;TZID=America/New_York:20251130T030000
DTSTAMP:20260420T231435
CREATED:20251109T190301Z
LAST-MODIFIED:20251119T164011Z
UID:27616-1764457200-1764471600@www.unitedskates.com
SUMMARY:Bring the Vibes back - Adult LATE Skate
DESCRIPTION:All Swag presents … \nBring the Vibes back Adult LATE Skate \n11pm-3am \nfeaturing DJ Jir \n\nMeetup with friends and family\nSchedule a Birthday party\n\n$15 Admission with own skates \n$20 Admission with rental skates/Spectators \n 
URL:https://www.unitedskates.com/millennium-skate-world/event/bring-the-vibes-back-adult-late-skate/
LOCATION:Millennium Skate World\, 1900 Carman St.\, Camden\, NJ\, 08105\, United States
CATEGORIES:Adult Events,Public Skates,Special Events
ATTACH;FMTTYPE=image/jpeg:https://unitedskates-assets.sfo3.digitaloceanspaces.com/wp-content/uploads/sites/17/2025/11/Adult-11.29.25.jpg
END:VEVENT
END:VCALENDAR