BEGIN:VCALENDAR
VERSION:2.0
PRODID:-//Rink 44 - Millennium Skate World - ECPv6.15.20//NONSGML v1.0//EN
CALSCALE:GREGORIAN
METHOD:PUBLISH
X-WR-CALNAME:Rink 44 - Millennium Skate World
X-ORIGINAL-URL:https://www.unitedskates.com/millennium-skate-world
X-WR-CALDESC:Events for Rink 44 - Millennium Skate World
REFRESH-INTERVAL;VALUE=DURATION:PT1H
X-Robots-Tag:noindex
X-PUBLISHED-TTL:PT1H
BEGIN:VTIMEZONE
TZID:America/New_York
BEGIN:DAYLIGHT
TZOFFSETFROM:-0500
TZOFFSETTO:-0400
TZNAME:EDT
DTSTART:20240310T070000
END:DAYLIGHT
BEGIN:STANDARD
TZOFFSETFROM:-0400
TZOFFSETTO:-0500
TZNAME:EST
DTSTART:20241103T060000
END:STANDARD
BEGIN:DAYLIGHT
TZOFFSETFROM:-0500
TZOFFSETTO:-0400
TZNAME:EDT
DTSTART:20250309T070000
END:DAYLIGHT
BEGIN:STANDARD
TZOFFSETFROM:-0400
TZOFFSETTO:-0500
TZNAME:EST
DTSTART:20251102T060000
END:STANDARD
BEGIN:DAYLIGHT
TZOFFSETFROM:-0500
TZOFFSETTO:-0400
TZNAME:EDT
DTSTART:20260308T070000
END:DAYLIGHT
BEGIN:STANDARD
TZOFFSETFROM:-0400
TZOFFSETTO:-0500
TZNAME:EST
DTSTART:20261101T060000
END:STANDARD
END:VTIMEZONE
BEGIN:VEVENT
DTSTART;TZID=America/New_York:20251031T153000
DTEND;TZID=America/New_York:20251031T183000
DTSTAMP:20260421T010413
CREATED:20250325T053105Z
LAST-MODIFIED:20250829T061049Z
UID:24433-1761924600-1761935400@www.unitedskates.com
SUMMARY:Halloween Family FUN Skate
DESCRIPTION:Halloween Family FUN Skate \n3:30pm-6:30pm \n$6.00 Admission \n$5.00 Skate rental \n\nSchedule a Birthday Party\nMeetup with friends and family\n\nCostume Contest – Best Male and Best Female \n 
URL:https://www.unitedskates.com/millennium-skate-world/event/family-fun-skate-12-2025-10-31/
LOCATION:Millennium Skate World\, 1900 Carman St.\, Camden\, NJ\, 08105\, United States
CATEGORIES:Family Events,Public Skates,Special Events
ATTACH;FMTTYPE=image/png:https://unitedskates-assets.sfo3.digitaloceanspaces.com/wp-content/uploads/sites/17/2024/03/indigenous-Peoples-Day-Weekend-Roller-Skate-2025-8.5-x-11-in.png
END:VEVENT
BEGIN:VEVENT
DTSTART;TZID=America/New_York:20251031T190000
DTEND;TZID=America/New_York:20251031T223000
DTSTAMP:20260421T010413
CREATED:20250803T211333Z
LAST-MODIFIED:20250829T043508Z
UID:26619-1761937200-1761949800@www.unitedskates.com
SUMMARY:Halloween Adult Night Skate
DESCRIPTION:Halloween – Friday Night Adult Skate \n7pm-10:30pm \n$12 Admission with own skates \n$17 Admission with rental skates/Spectators \nfeaturing DJ Reef \n\nCostume contest – Best Male and Best Female
URL:https://www.unitedskates.com/millennium-skate-world/event/adult-night-skate-21-2025-10-31/
LOCATION:Millennium Skate World\, 1900 Carman St.\, Camden\, NJ\, 08105\, United States
CATEGORIES:Adult Events,Public Skates,Special Events
ATTACH;FMTTYPE=image/jpeg:https://unitedskates-assets.sfo3.digitaloceanspaces.com/wp-content/uploads/sites/17/2025/08/Halloween-2025-7pm.jpg
END:VEVENT
BEGIN:VEVENT
DTSTART;TZID=America/New_York:20251031T230000
DTEND;TZID=America/New_York:20251101T030000
DTSTAMP:20260421T010413
CREATED:20250829T043804Z
LAST-MODIFIED:20251003T184049Z
UID:26846-1761951600-1761966000@www.unitedskates.com
SUMMARY:Halloween Adult LATE Skate
DESCRIPTION:Halloween Adult LATE Skate presented by T-Nice Entertainment \nFriday\, October 31st \n11pm-3am \n$20.00 Admission \n$25.00 Skate rental/Spectators \nMusic – DJ Vez and DJ T-Nice \nHosted by Just Sk8 \n\nCostume Contest
URL:https://www.unitedskates.com/millennium-skate-world/event/halloween-adult-late-skate/
LOCATION:Millennium Skate World\, 1900 Carman St.\, Camden\, NJ\, 08105\, United States
CATEGORIES:Adult Events,Public Skates,Special Events
ATTACH;FMTTYPE=image/jpeg:https://unitedskates-assets.sfo3.digitaloceanspaces.com/wp-content/uploads/sites/17/2025/08/Halloween-Tnice-and-Vez-10.31.25-11pm.jpg
END:VEVENT
END:VCALENDAR