BEGIN:VCALENDAR
VERSION:2.0
PRODID:-//Rink 44 - Millennium Skate World - ECPv6.15.20//NONSGML v1.0//EN
CALSCALE:GREGORIAN
METHOD:PUBLISH
X-ORIGINAL-URL:https://www.unitedskates.com/millennium-skate-world
X-WR-CALDESC:Events for Rink 44 - Millennium Skate World
REFRESH-INTERVAL;VALUE=DURATION:PT1H
X-Robots-Tag:noindex
X-PUBLISHED-TTL:PT1H
BEGIN:VTIMEZONE
TZID:America/New_York
BEGIN:DAYLIGHT
TZOFFSETFROM:-0500
TZOFFSETTO:-0400
TZNAME:EDT
DTSTART:20240310T070000
END:DAYLIGHT
BEGIN:STANDARD
TZOFFSETFROM:-0400
TZOFFSETTO:-0500
TZNAME:EST
DTSTART:20241103T060000
END:STANDARD
BEGIN:DAYLIGHT
TZOFFSETFROM:-0500
TZOFFSETTO:-0400
TZNAME:EDT
DTSTART:20250309T070000
END:DAYLIGHT
BEGIN:STANDARD
TZOFFSETFROM:-0400
TZOFFSETTO:-0500
TZNAME:EST
DTSTART:20251102T060000
END:STANDARD
BEGIN:DAYLIGHT
TZOFFSETFROM:-0500
TZOFFSETTO:-0400
TZNAME:EDT
DTSTART:20260308T070000
END:DAYLIGHT
BEGIN:STANDARD
TZOFFSETFROM:-0400
TZOFFSETTO:-0500
TZNAME:EST
DTSTART:20261101T060000
END:STANDARD
END:VTIMEZONE
BEGIN:VEVENT
DTSTART;TZID=America/New_York:20251025T100000
DTEND;TZID=America/New_York:20251025T114500
DTSTAMP:20260421T130524
CREATED:20250415T063745Z
LAST-MODIFIED:20250415T063745Z
UID:27009-1761386400-1761392700@www.unitedskates.com
SUMMARY:Skating Lessons
DESCRIPTION:Skating Lessons for all Ages \n$15.00 per person   $5.00 Skate rental \n10am-11:45am \nStay over – practice what you learned 12pm-3pm; Only $5.00 per person \n\nBeginners\nIntermediate\nAdvanced
URL:https://www.unitedskates.com/millennium-skate-world/event/skating-lessons-9/2025-10-25/
LOCATION:Millennium Skate World\, 1900 Carman St.\, Camden\, NJ\, 08105\, United States
CATEGORIES:Family Events,Lessons,Public Skates,Special Events
ATTACH;FMTTYPE=image/jpeg:https://unitedskates-assets.sfo3.digitaloceanspaces.com/wp-content/uploads/sites/17/2025/04/Lessons-10.11.25-to-6.27.26.jpg
END:VEVENT
BEGIN:VEVENT
DTSTART;TZID=America/New_York:20251025T190000
DTEND;TZID=America/New_York:20251025T220000
DTSTAMP:20260421T130524
CREATED:20250415T055123Z
LAST-MODIFIED:20250905T012338Z
UID:24931-1761418800-1761429600@www.unitedskates.com
SUMMARY:K-Pop Spooktacular Family NIGHT Skate
DESCRIPTION:K-Pop Spooktacular Family FUN Night Skate \nHip Hop\, R&B Music and K-Pop music \n7pm-10pm \n$11 Admission at the door \nAdvance ticket sales $10.00 \n$5.00 skate rental \n\nSchedule a Birthday Party\nMeetup with friends and family
URL:https://www.unitedskates.com/millennium-skate-world/event/family-night-skate-4-2025-07-12-2025-10-25/
LOCATION:Millennium Skate World\, 1900 Carman St.\, Camden\, NJ\, 08105\, United States
CATEGORIES:Family Events,Public Skates,Special Events
ATTACH;FMTTYPE=image/jpeg:https://unitedskates-assets.sfo3.digitaloceanspaces.com/wp-content/uploads/sites/17/2025/04/K-pop-Spooktacular-Skate.jpg
END:VEVENT
BEGIN:VEVENT
DTSTART;TZID=America/New_York:20251025T230000
DTEND;TZID=America/New_York:20251026T030000
DTSTAMP:20260421T130524
CREATED:20251003T182015Z
LAST-MODIFIED:20251023T031533Z
UID:27001-1761433200-1761447600@www.unitedskates.com
SUMMARY:RnB Adult LATE Skate
DESCRIPTION:All Gas No Breakz  \nRoll Til the Wheels Fall Off – RnB Edition  \nSaturday\, October 25th \n11pm-3am \n$20 Admission with own skates \n$25 Admission with rental skates/Spectators \nFeaturing DJ Lil Redd \n 
URL:https://www.unitedskates.com/millennium-skate-world/event/rnb-adult-late-skate/
LOCATION:Millennium Skate World\, 1900 Carman St.\, Camden\, NJ\, 08105\, United States
CATEGORIES:Adult Events,Public Skates,Special Events
ATTACH;FMTTYPE=image/jpeg:https://unitedskates-assets.sfo3.digitaloceanspaces.com/wp-content/uploads/sites/17/2025/10/Rand-B-10.25.25.jpg
END:VEVENT
END:VCALENDAR