BEGIN:VCALENDAR
VERSION:2.0
PRODID:-//Rink 44 - Millennium Skate World - ECPv6.15.20//NONSGML v1.0//EN
CALSCALE:GREGORIAN
METHOD:PUBLISH
X-ORIGINAL-URL:https://www.unitedskates.com/millennium-skate-world
X-WR-CALDESC:Events for Rink 44 - Millennium Skate World
REFRESH-INTERVAL;VALUE=DURATION:PT1H
X-Robots-Tag:noindex
X-PUBLISHED-TTL:PT1H
BEGIN:VTIMEZONE
TZID:America/New_York
BEGIN:DAYLIGHT
TZOFFSETFROM:-0500
TZOFFSETTO:-0400
TZNAME:EDT
DTSTART:20240310T070000
END:DAYLIGHT
BEGIN:STANDARD
TZOFFSETFROM:-0400
TZOFFSETTO:-0500
TZNAME:EST
DTSTART:20241103T060000
END:STANDARD
BEGIN:DAYLIGHT
TZOFFSETFROM:-0500
TZOFFSETTO:-0400
TZNAME:EDT
DTSTART:20250309T070000
END:DAYLIGHT
BEGIN:STANDARD
TZOFFSETFROM:-0400
TZOFFSETTO:-0500
TZNAME:EST
DTSTART:20251102T060000
END:STANDARD
BEGIN:DAYLIGHT
TZOFFSETFROM:-0500
TZOFFSETTO:-0400
TZNAME:EDT
DTSTART:20260308T070000
END:DAYLIGHT
BEGIN:STANDARD
TZOFFSETFROM:-0400
TZOFFSETTO:-0500
TZNAME:EST
DTSTART:20261101T060000
END:STANDARD
END:VTIMEZONE
BEGIN:VEVENT
DTSTART;TZID=America/New_York:20251003T160000
DTEND;TZID=America/New_York:20251003T183000
DTSTAMP:20260421T061532
CREATED:20250325T053105Z
LAST-MODIFIED:20250325T053105Z
UID:24429-1759507200-1759516200@www.unitedskates.com
SUMMARY:Family FUN Skate
DESCRIPTION:Family FUN Skate \n4pm-6:30pm \n$6.00 Admission \n$5.00 Skate rental \n\nSchedule a Birthday Party\nMeetup with friends and family
URL:https://www.unitedskates.com/millennium-skate-world/event/family-fun-skate-12/2025-10-03/
LOCATION:Millennium Skate World\, 1900 Carman St.\, Camden\, NJ\, 08105\, United States
CATEGORIES:Family Events,Public Skates,Special Events
ATTACH;FMTTYPE=image/jpeg:https://unitedskates-assets.sfo3.digitaloceanspaces.com/wp-content/uploads/sites/17/2022/05/AFF-FAMILY-FUN-SKATE-1200x900-1.jpg
END:VEVENT
BEGIN:VEVENT
DTSTART;TZID=America/New_York:20251003T190000
DTEND;TZID=America/New_York:20251003T223000
DTSTAMP:20260421T061532
CREATED:20250803T202018Z
LAST-MODIFIED:20250914T155606Z
UID:26599-1759518000-1759530600@www.unitedskates.com
SUMMARY:1st Friday Adult Night Skate
DESCRIPTION:1st Friday Adult Night Skate  \n7pm-10:30pm \nfeaturing DJ Ed \n$12 Admission with own skates \n$17 Admission with rental skates/Spectators \n\nMeetup with friends\nSchedule a Birthday Party\n\n 
URL:https://www.unitedskates.com/millennium-skate-world/event/1st-friday-adult-night-skate-8/
LOCATION:Millennium Skate World\, 1900 Carman St.\, Camden\, NJ\, 08105\, United States
CATEGORIES:Adult Events,Public Skates,Special Events
ATTACH;FMTTYPE=image/jpeg:https://unitedskates-assets.sfo3.digitaloceanspaces.com/wp-content/uploads/sites/17/2025/08/1st-Friday-10.3.25.jpg
END:VEVENT
BEGIN:VEVENT
DTSTART;TZID=America/New_York:20251003T230000
DTEND;TZID=America/New_York:20251004T030000
DTSTAMP:20260421T061532
CREATED:20250803T203109Z
LAST-MODIFIED:20250914T155128Z
UID:26604-1759532400-1759546800@www.unitedskates.com
SUMMARY:1st Friday Adult LATE Skate
DESCRIPTION:1st Friday Adult LATE Skate \n11pm – 3am \nfeaturing DJ Jir \n$12 Admission with own skates \n$17 Admission with rental skates/Spectators \n\nBirthday parties\nMeetup with friends and family\n\n 
URL:https://www.unitedskates.com/millennium-skate-world/event/1st-friday-adult-late-skate-8/
LOCATION:Millennium Skate World\, 1900 Carman St.\, Camden\, NJ\, 08105\, United States
CATEGORIES:Adult Events,Public Skates,Special Events
ATTACH;FMTTYPE=image/jpeg:https://unitedskates-assets.sfo3.digitaloceanspaces.com/wp-content/uploads/sites/17/2025/08/1st-Friday-10.3.25.jpg
END:VEVENT
END:VCALENDAR